BEGIN:VCALENDAR
VERSION:2.0
PRODID:-//Town of Shrewsbury, Vermont - ECPv6.15.20//NONSGML v1.0//EN
CALSCALE:GREGORIAN
METHOD:PUBLISH
X-WR-CALNAME:Town of Shrewsbury, Vermont
X-ORIGINAL-URL:https://www.shrewsburyvt.org
X-WR-CALDESC:Events for Town of Shrewsbury, Vermont
REFRESH-INTERVAL;VALUE=DURATION:PT1H
X-Robots-Tag:noindex
X-PUBLISHED-TTL:PT1H
BEGIN:VTIMEZONE
TZID:America/New_York
BEGIN:DAYLIGHT
TZOFFSETFROM:-0500
TZOFFSETTO:-0400
TZNAME:EDT
DTSTART:20240310T070000
END:DAYLIGHT
BEGIN:STANDARD
TZOFFSETFROM:-0400
TZOFFSETTO:-0500
TZNAME:EST
DTSTART:20241103T060000
END:STANDARD
BEGIN:DAYLIGHT
TZOFFSETFROM:-0500
TZOFFSETTO:-0400
TZNAME:EDT
DTSTART:20250309T070000
END:DAYLIGHT
BEGIN:STANDARD
TZOFFSETFROM:-0400
TZOFFSETTO:-0500
TZNAME:EST
DTSTART:20251102T060000
END:STANDARD
BEGIN:DAYLIGHT
TZOFFSETFROM:-0500
TZOFFSETTO:-0400
TZNAME:EDT
DTSTART:20260308T070000
END:DAYLIGHT
BEGIN:STANDARD
TZOFFSETFROM:-0400
TZOFFSETTO:-0500
TZNAME:EST
DTSTART:20261101T060000
END:STANDARD
BEGIN:DAYLIGHT
TZOFFSETFROM:-0500
TZOFFSETTO:-0400
TZNAME:EDT
DTSTART:20270314T070000
END:DAYLIGHT
BEGIN:STANDARD
TZOFFSETFROM:-0400
TZOFFSETTO:-0500
TZNAME:EST
DTSTART:20271107T060000
END:STANDARD
END:VTIMEZONE
BEGIN:VTIMEZONE
TZID:UTC
BEGIN:STANDARD
TZOFFSETFROM:+0000
TZOFFSETTO:+0000
TZNAME:UTC
DTSTART:20240101T000000
END:STANDARD
END:VTIMEZONE
BEGIN:VEVENT
DTSTART;TZID=America/New_York:20260228T110000
DTEND;TZID=America/New_York:20260228T110000
DTSTAMP:20260423T095229
CREATED:20260123T165318Z
LAST-MODIFIED:20260123T165318Z
UID:10002549-1772276400-1772276400@www.shrewsburyvt.org
SUMMARY:Informational Meeting
DESCRIPTION:Student representatives of the SMS 5th & 6th grade class will be present at the Town Informational Meeting on Saturday\, February 28\, to sell light fare and drinks and to witness our townspeople participating in their civic duty. See you there!
URL:https://www.shrewsburyvt.org/calendar/informational-meeting/
LOCATION:Community Meeting House\, 88 Lottery Rd
END:VEVENT
BEGIN:VEVENT
DTSTART;TZID=America/New_York:20260227T190000
DTEND;TZID=America/New_York:20260227T190000
DTSTAMP:20260423T095229
CREATED:20260217T145048Z
LAST-MODIFIED:20260220T171826Z
UID:10002555-1772218800-1772218800@www.shrewsburyvt.org
SUMMARY:Invisible Mammal Screening
DESCRIPTION:Invisible Mammal Poster
URL:https://www.shrewsburyvt.org/calendar/invisible-mammal-screening/
LOCATION:Shrewsbury Library
END:VEVENT
BEGIN:VEVENT
DTSTART;TZID=UTC:20260224T190000
DTEND;TZID=UTC:20260224T203000
DTSTAMP:20260423T095229
CREATED:20230908T182709Z
LAST-MODIFIED:20230908T182709Z
UID:10000930-1771959600-1771965000@www.shrewsburyvt.org
SUMMARY:Planning Commission Meeting
DESCRIPTION:AGENDA
URL:https://www.shrewsburyvt.org/calendar/planning-commission-meeting-8/2026-02-24/
LOCATION:Shrewsbury Town Office\, 9823 Cold River Rd
END:VEVENT
BEGIN:VEVENT
DTSTART;TZID=UTC:20260222T190000
DTEND;TZID=UTC:20260222T190000
DTSTAMP:20260423T095229
CREATED:20230228T225508Z
LAST-MODIFIED:20230520T185638Z
UID:10000562-1771786800-1771786800@www.shrewsburyvt.org
SUMMARY:Science Book Club
DESCRIPTION:Contact Margery Salmon (salmonm@vermontel.net)
URL:https://www.shrewsburyvt.org/calendar/science-book-club/2026-02-22/
LOCATION:Shrewsbury Library
END:VEVENT
BEGIN:VEVENT
DTSTART;TZID=UTC:20260218T183000
DTEND;TZID=UTC:20260218T183000
DTSTAMP:20260423T095229
CREATED:20250713T224834Z
LAST-MODIFIED:20250713T224834Z
UID:10000080-1771439400-1771439400@www.shrewsburyvt.org
SUMMARY:Selectboard Meeting
DESCRIPTION:AGENDA
URL:https://www.shrewsburyvt.org/calendar/selectboard-meeting-6-26/2026-02-18/
LOCATION:Shrewsbury Town Office\, 9823 Cold River Rd
END:VEVENT
BEGIN:VEVENT
DTSTART;TZID=UTC:20260215T160000
DTEND;TZID=UTC:20260215T160000
DTSTAMP:20260423T095229
CREATED:20230924T222837Z
LAST-MODIFIED:20230924T222838Z
UID:10001906-1771171200-1771171200@www.shrewsburyvt.org
SUMMARY:Famous Books Club
DESCRIPTION:
URL:https://www.shrewsburyvt.org/calendar/famous-books-club-2-2-2/2026-02-15/
LOCATION:Shrewsbury Library
END:VEVENT
BEGIN:VEVENT
DTSTART;TZID=America/New_York:20260210T190000
DTEND;TZID=America/New_York:20260210T203000
DTSTAMP:20260423T095229
CREATED:20250109T195455Z
LAST-MODIFIED:20250306T222500Z
UID:10002449-1770750000-1770755400@www.shrewsburyvt.org
SUMMARY:Planning Commission Meeting
DESCRIPTION:AGENDA
URL:https://www.shrewsburyvt.org/calendar/planning-commission-meeting-9/2026-02-10/
LOCATION:Shrewsbury Town Office\, 9823 Cold River Rd
END:VEVENT
BEGIN:VEVENT
DTSTART;TZID=UTC:20260204T183000
DTEND;TZID=UTC:20260204T183000
DTSTAMP:20260423T095229
CREATED:20230507T171521Z
LAST-MODIFIED:20250723T182929Z
UID:10000199-1770229800-1770229800@www.shrewsburyvt.org
SUMMARY:Selectboard Meeting
DESCRIPTION:AGENDA
URL:https://www.shrewsburyvt.org/calendar/selectboard-meeting-7/2026-02-04/
LOCATION:Shrewsbury Town Office\, 9823 Cold River Rd
END:VEVENT
BEGIN:VEVENT
DTSTART;TZID=America/New_York:20260204T171500
DTEND;TZID=America/New_York:20260204T171500
DTSTAMP:20260423T095229
CREATED:20260131T033230Z
LAST-MODIFIED:20260131T033230Z
UID:10002525-1770225300-1770225300@www.shrewsburyvt.org
SUMMARY:Conservation Commission Meeting (remote)
DESCRIPTION:
URL:https://www.shrewsburyvt.org/calendar/conservation-commission-meeting-remote-2/
LOCATION:virtual only
END:VEVENT
BEGIN:VEVENT
DTSTART;TZID=UTC:20260201T160000
DTEND;TZID=UTC:20260201T160000
DTSTAMP:20260423T095229
CREATED:20240930T132636Z
LAST-MODIFIED:20240930T132636Z
UID:10002364-1769961600-1769961600@www.shrewsburyvt.org
SUMMARY:WRITERS GROUP
DESCRIPTION:Please contact Penelope Weiss: pw9@earthlink.net \nor Joan Aleshire: joanaleshire@vermontel.net
URL:https://www.shrewsburyvt.org/calendar/writers-group-2-2-2-2-2/2026-02-01/
LOCATION:Shrewsbury Library
END:VEVENT
BEGIN:VEVENT
DTSTART;TZID=UTC:20260127T190000
DTEND;TZID=UTC:20260127T203000
DTSTAMP:20260423T095229
CREATED:20230908T182709Z
LAST-MODIFIED:20230908T182709Z
UID:10000929-1769540400-1769545800@www.shrewsburyvt.org
SUMMARY:Planning Commission Meeting
DESCRIPTION:AGENDA
URL:https://www.shrewsburyvt.org/calendar/planning-commission-meeting-8/2026-01-27/
LOCATION:Shrewsbury Town Office\, 9823 Cold River Rd
END:VEVENT
BEGIN:VEVENT
DTSTART;TZID=UTC:20260125T190000
DTEND;TZID=UTC:20260125T190000
DTSTAMP:20260423T095229
CREATED:20230228T225508Z
LAST-MODIFIED:20230520T185638Z
UID:10000561-1769367600-1769367600@www.shrewsburyvt.org
SUMMARY:Science Book Club
DESCRIPTION:Contact Margery Salmon (salmonm@vermontel.net)
URL:https://www.shrewsburyvt.org/calendar/science-book-club/2026-01-25/
LOCATION:Shrewsbury Library
END:VEVENT
BEGIN:VEVENT
DTSTART;TZID=UTC:20260121T183000
DTEND;TZID=UTC:20260121T183000
DTSTAMP:20260423T095229
CREATED:20250713T224834Z
LAST-MODIFIED:20250713T224834Z
UID:10000079-1769020200-1769020200@www.shrewsburyvt.org
SUMMARY:Selectboard Meeting
DESCRIPTION:AGENDA
URL:https://www.shrewsburyvt.org/calendar/selectboard-meeting-6-26/2026-01-21/
LOCATION:Shrewsbury Town Office\, 9823 Cold River Rd
END:VEVENT
BEGIN:VEVENT
DTSTART;TZID=UTC:20260118T160000
DTEND;TZID=UTC:20260118T160000
DTSTAMP:20260423T095229
CREATED:20230924T222837Z
LAST-MODIFIED:20230924T222838Z
UID:10001905-1768752000-1768752000@www.shrewsburyvt.org
SUMMARY:Famous Books Club
DESCRIPTION:
URL:https://www.shrewsburyvt.org/calendar/famous-books-club-2-2-2/2026-01-18/
LOCATION:Shrewsbury Library
END:VEVENT
BEGIN:VEVENT
DTSTART;TZID=America/New_York:20260113T190000
DTEND;TZID=America/New_York:20260113T203000
DTSTAMP:20260423T095229
CREATED:20251229T214340Z
LAST-MODIFIED:20251229T214340Z
UID:10002448-1768330800-1768336200@www.shrewsburyvt.org
SUMMARY:Planning Commission Meeting - CANCELLED
DESCRIPTION:
URL:https://www.shrewsburyvt.org/calendar/planning-commission-meeting-9-7/
LOCATION:Shrewsbury Town Office\, 9823 Cold River Rd
END:VEVENT
BEGIN:VEVENT
DTSTART;TZID=UTC:20260107T183000
DTEND;TZID=UTC:20260107T183000
DTSTAMP:20260423T095229
CREATED:20230507T171521Z
LAST-MODIFIED:20250723T182929Z
UID:10000198-1767810600-1767810600@www.shrewsburyvt.org
SUMMARY:Selectboard Meeting
DESCRIPTION:AGENDA
URL:https://www.shrewsburyvt.org/calendar/selectboard-meeting-7/2026-01-07/
LOCATION:Shrewsbury Town Office\, 9823 Cold River Rd
END:VEVENT
BEGIN:VEVENT
DTSTART;TZID=America/New_York:20260106T171500
DTEND;TZID=America/New_York:20260106T171500
DTSTAMP:20260423T095229
CREATED:20251008T141427Z
LAST-MODIFIED:20251008T141427Z
UID:10002524-1767719700-1767719700@www.shrewsburyvt.org
SUMMARY:Conservation Commission Meeting (remote)
DESCRIPTION:
URL:https://www.shrewsburyvt.org/calendar/conservation-commission-meeting-remote/2026-01-06/
LOCATION:virtual only
END:VEVENT
BEGIN:VEVENT
DTSTART;TZID=UTC:20260104T160000
DTEND;TZID=UTC:20260104T160000
DTSTAMP:20260423T095229
CREATED:20240930T132636Z
LAST-MODIFIED:20240930T132636Z
UID:10002363-1767542400-1767542400@www.shrewsburyvt.org
SUMMARY:WRITERS GROUP
DESCRIPTION:Please contact Penelope Weiss: pw9@earthlink.net \nor Joan Aleshire: joanaleshire@vermontel.net
URL:https://www.shrewsburyvt.org/calendar/writers-group-2-2-2-2-2/2026-01-04/
LOCATION:Shrewsbury Library
END:VEVENT
BEGIN:VEVENT
DTSTART;TZID=America/New_York:20251230T190000
DTEND;TZID=America/New_York:20251230T203000
DTSTAMP:20260423T095229
CREATED:20251229T214807Z
LAST-MODIFIED:20251229T214807Z
UID:10002548-1767121200-1767126600@www.shrewsburyvt.org
SUMMARY:Planning Commission Meeting
DESCRIPTION:
URL:https://www.shrewsburyvt.org/calendar/planning-commission-meeting-10/
LOCATION:Shrewsbury Town Office\, 9823 Cold River Rd
END:VEVENT
BEGIN:VEVENT
DTSTART;TZID=UTC:20251228T190000
DTEND;TZID=UTC:20251228T190000
DTSTAMP:20260423T095229
CREATED:20230228T225508Z
LAST-MODIFIED:20230520T185638Z
UID:10000560-1766948400-1766948400@www.shrewsburyvt.org
SUMMARY:Science Book Club
DESCRIPTION:Contact Margery Salmon (salmonm@vermontel.net)
URL:https://www.shrewsburyvt.org/calendar/science-book-club/2025-12-28/
LOCATION:Shrewsbury Library
END:VEVENT
BEGIN:VEVENT
DTSTART;TZID=UTC:20251223T190000
DTEND;TZID=UTC:20251223T203000
DTSTAMP:20260423T095229
CREATED:20230908T182709Z
LAST-MODIFIED:20230908T182709Z
UID:10000928-1766516400-1766521800@www.shrewsburyvt.org
SUMMARY:Planning Commission Meeting
DESCRIPTION:AGENDA
URL:https://www.shrewsburyvt.org/calendar/planning-commission-meeting-8/2025-12-23/
LOCATION:Shrewsbury Town Office\, 9823 Cold River Rd
END:VEVENT
BEGIN:VEVENT
DTSTART;TZID=UTC:20251221T160000
DTEND;TZID=UTC:20251221T160000
DTSTAMP:20260423T095229
CREATED:20230924T222837Z
LAST-MODIFIED:20230924T222838Z
UID:10001904-1766332800-1766332800@www.shrewsburyvt.org
SUMMARY:Famous Books Club
DESCRIPTION:
URL:https://www.shrewsburyvt.org/calendar/famous-books-club-2-2-2/2025-12-21/
LOCATION:Shrewsbury Library
END:VEVENT
BEGIN:VEVENT
DTSTART;TZID=UTC:20251217T183000
DTEND;TZID=UTC:20251217T183000
DTSTAMP:20260423T095229
CREATED:20250713T224834Z
LAST-MODIFIED:20250713T224834Z
UID:10000078-1765996200-1765996200@www.shrewsburyvt.org
SUMMARY:Selectboard Meeting
DESCRIPTION:AGENDA
URL:https://www.shrewsburyvt.org/calendar/selectboard-meeting-6-26/2025-12-17/
LOCATION:Shrewsbury Town Office\, 9823 Cold River Rd
END:VEVENT
BEGIN:VEVENT
DTSTART;TZID=America/New_York:20251210T183000
DTEND;TZID=America/New_York:20251210T183000
DTSTAMP:20260423T095229
CREATED:20251209T150838Z
LAST-MODIFIED:20251209T151048Z
UID:10002547-1765391400-1765391400@www.shrewsburyvt.org
SUMMARY:BOA Hearing
DESCRIPTION:
URL:https://www.shrewsburyvt.org/calendar/boa-meeting/
LOCATION:Shrewsbury Town Office\, 9823 Cold River Rd
END:VEVENT
BEGIN:VEVENT
DTSTART;TZID=America/New_York:20251209T190000
DTEND;TZID=America/New_York:20251209T203000
DTSTAMP:20260423T095229
CREATED:20250109T195455Z
LAST-MODIFIED:20250306T222500Z
UID:10002447-1765306800-1765312200@www.shrewsburyvt.org
SUMMARY:Planning Commission Meeting
DESCRIPTION:AGENDA
URL:https://www.shrewsburyvt.org/calendar/planning-commission-meeting-9/2025-12-09/
LOCATION:Shrewsbury Town Office\, 9823 Cold River Rd
END:VEVENT
BEGIN:VEVENT
DTSTART;TZID=UTC:20251207T160000
DTEND;TZID=UTC:20251207T160000
DTSTAMP:20260423T095229
CREATED:20240930T132636Z
LAST-MODIFIED:20240930T132636Z
UID:10002362-1765123200-1765123200@www.shrewsburyvt.org
SUMMARY:WRITERS GROUP
DESCRIPTION:Please contact Penelope Weiss: pw9@earthlink.net \nor Joan Aleshire: joanaleshire@vermontel.net
URL:https://www.shrewsburyvt.org/calendar/writers-group-2-2-2-2-2/2025-12-07/
LOCATION:Shrewsbury Library
END:VEVENT
BEGIN:VEVENT
DTSTART;TZID=UTC:20251203T183000
DTEND;TZID=UTC:20251203T183000
DTSTAMP:20260423T095229
CREATED:20230507T171521Z
LAST-MODIFIED:20250723T182929Z
UID:10000197-1764786600-1764786600@www.shrewsburyvt.org
SUMMARY:Selectboard Meeting
DESCRIPTION:AGENDA
URL:https://www.shrewsburyvt.org/calendar/selectboard-meeting-7/2025-12-03/
LOCATION:Shrewsbury Town Office\, 9823 Cold River Rd
END:VEVENT
BEGIN:VEVENT
DTSTART;TZID=America/New_York:20251202T171500
DTEND;TZID=America/New_York:20251202T171500
DTSTAMP:20260423T095229
CREATED:20251008T141427Z
LAST-MODIFIED:20251008T141427Z
UID:10002523-1764695700-1764695700@www.shrewsburyvt.org
SUMMARY:Conservation Commission Meeting (remote)
DESCRIPTION:
URL:https://www.shrewsburyvt.org/calendar/conservation-commission-meeting-remote/2025-12-02/
LOCATION:virtual only
END:VEVENT
BEGIN:VEVENT
DTSTART;TZID=UTC:20251125T190000
DTEND;TZID=UTC:20251125T203000
DTSTAMP:20260423T095229
CREATED:20230908T182709Z
LAST-MODIFIED:20230908T182709Z
UID:10000927-1764097200-1764102600@www.shrewsburyvt.org
SUMMARY:Planning Commission Meeting
DESCRIPTION:AGENDA
URL:https://www.shrewsburyvt.org/calendar/planning-commission-meeting-8/2025-11-25/
LOCATION:Shrewsbury Town Office\, 9823 Cold River Rd
END:VEVENT
BEGIN:VEVENT
DTSTART;TZID=UTC:20251123T190000
DTEND;TZID=UTC:20251123T190000
DTSTAMP:20260423T095229
CREATED:20230228T225508Z
LAST-MODIFIED:20230520T185638Z
UID:10000559-1763924400-1763924400@www.shrewsburyvt.org
SUMMARY:Science Book Club
DESCRIPTION:Contact Margery Salmon (salmonm@vermontel.net)
URL:https://www.shrewsburyvt.org/calendar/science-book-club/2025-11-23/
LOCATION:Shrewsbury Library
END:VEVENT
END:VCALENDAR