BEGIN:VCALENDAR
VERSION:2.0
PRODID:-//Town of Shrewsbury, Vermont - ECPv6.15.20//NONSGML v1.0//EN
CALSCALE:GREGORIAN
METHOD:PUBLISH
X-WR-CALNAME:Town of Shrewsbury, Vermont
X-ORIGINAL-URL:https://www.shrewsburyvt.org
X-WR-CALDESC:Events for Town of Shrewsbury, Vermont
REFRESH-INTERVAL;VALUE=DURATION:PT1H
X-Robots-Tag:noindex
X-PUBLISHED-TTL:PT1H
BEGIN:VTIMEZONE
TZID:UTC
BEGIN:STANDARD
TZOFFSETFROM:+0000
TZOFFSETTO:+0000
TZNAME:UTC
DTSTART:20250101T000000
END:STANDARD
END:VTIMEZONE
BEGIN:VTIMEZONE
TZID:America/New_York
BEGIN:DAYLIGHT
TZOFFSETFROM:-0500
TZOFFSETTO:-0400
TZNAME:EDT
DTSTART:20250309T070000
END:DAYLIGHT
BEGIN:STANDARD
TZOFFSETFROM:-0400
TZOFFSETTO:-0500
TZNAME:EST
DTSTART:20251102T060000
END:STANDARD
BEGIN:DAYLIGHT
TZOFFSETFROM:-0500
TZOFFSETTO:-0400
TZNAME:EDT
DTSTART:20260308T070000
END:DAYLIGHT
BEGIN:STANDARD
TZOFFSETFROM:-0400
TZOFFSETTO:-0500
TZNAME:EST
DTSTART:20261101T060000
END:STANDARD
BEGIN:DAYLIGHT
TZOFFSETFROM:-0500
TZOFFSETTO:-0400
TZNAME:EDT
DTSTART:20270314T070000
END:DAYLIGHT
BEGIN:STANDARD
TZOFFSETFROM:-0400
TZOFFSETTO:-0500
TZNAME:EST
DTSTART:20271107T060000
END:STANDARD
END:VTIMEZONE
BEGIN:VEVENT
DTSTART;TZID=UTC:20260201T160000
DTEND;TZID=UTC:20260201T160000
DTSTAMP:20260423T100409
CREATED:20240930T132636Z
LAST-MODIFIED:20240930T132636Z
UID:10002364-1769961600-1769961600@www.shrewsburyvt.org
SUMMARY:WRITERS GROUP
DESCRIPTION:Please contact Penelope Weiss: pw9@earthlink.net \nor Joan Aleshire: joanaleshire@vermontel.net
URL:https://www.shrewsburyvt.org/calendar/writers-group-2-2-2-2-2/2026-02-01/
LOCATION:Shrewsbury Library
END:VEVENT
BEGIN:VEVENT
DTSTART;TZID=America/New_York:20260204T171500
DTEND;TZID=America/New_York:20260204T171500
DTSTAMP:20260423T100409
CREATED:20260131T033230Z
LAST-MODIFIED:20260131T033230Z
UID:10002525-1770225300-1770225300@www.shrewsburyvt.org
SUMMARY:Conservation Commission Meeting (remote)
DESCRIPTION:
URL:https://www.shrewsburyvt.org/calendar/conservation-commission-meeting-remote-2/
LOCATION:virtual only
END:VEVENT
BEGIN:VEVENT
DTSTART;TZID=UTC:20260204T183000
DTEND;TZID=UTC:20260204T183000
DTSTAMP:20260423T100409
CREATED:20230507T171521Z
LAST-MODIFIED:20250723T182929Z
UID:10000199-1770229800-1770229800@www.shrewsburyvt.org
SUMMARY:Selectboard Meeting
DESCRIPTION:AGENDA
URL:https://www.shrewsburyvt.org/calendar/selectboard-meeting-7/2026-02-04/
LOCATION:Shrewsbury Town Office\, 9823 Cold River Rd
END:VEVENT
BEGIN:VEVENT
DTSTART;TZID=America/New_York:20260210T190000
DTEND;TZID=America/New_York:20260210T203000
DTSTAMP:20260423T100409
CREATED:20250109T195455Z
LAST-MODIFIED:20250306T222500Z
UID:10002449-1770750000-1770755400@www.shrewsburyvt.org
SUMMARY:Planning Commission Meeting
DESCRIPTION:AGENDA
URL:https://www.shrewsburyvt.org/calendar/planning-commission-meeting-9/2026-02-10/
LOCATION:Shrewsbury Town Office\, 9823 Cold River Rd
END:VEVENT
BEGIN:VEVENT
DTSTART;TZID=UTC:20260215T160000
DTEND;TZID=UTC:20260215T160000
DTSTAMP:20260423T100409
CREATED:20230924T222837Z
LAST-MODIFIED:20230924T222838Z
UID:10001906-1771171200-1771171200@www.shrewsburyvt.org
SUMMARY:Famous Books Club
DESCRIPTION:
URL:https://www.shrewsburyvt.org/calendar/famous-books-club-2-2-2/2026-02-15/
LOCATION:Shrewsbury Library
END:VEVENT
BEGIN:VEVENT
DTSTART;TZID=UTC:20260218T183000
DTEND;TZID=UTC:20260218T183000
DTSTAMP:20260423T100409
CREATED:20250713T224834Z
LAST-MODIFIED:20250713T224834Z
UID:10000080-1771439400-1771439400@www.shrewsburyvt.org
SUMMARY:Selectboard Meeting
DESCRIPTION:AGENDA
URL:https://www.shrewsburyvt.org/calendar/selectboard-meeting-6-26/2026-02-18/
LOCATION:Shrewsbury Town Office\, 9823 Cold River Rd
END:VEVENT
BEGIN:VEVENT
DTSTART;TZID=UTC:20260222T190000
DTEND;TZID=UTC:20260222T190000
DTSTAMP:20260423T100409
CREATED:20230228T225508Z
LAST-MODIFIED:20230520T185638Z
UID:10000562-1771786800-1771786800@www.shrewsburyvt.org
SUMMARY:Science Book Club
DESCRIPTION:Contact Margery Salmon (salmonm@vermontel.net)
URL:https://www.shrewsburyvt.org/calendar/science-book-club/2026-02-22/
LOCATION:Shrewsbury Library
END:VEVENT
BEGIN:VEVENT
DTSTART;TZID=UTC:20260224T190000
DTEND;TZID=UTC:20260224T203000
DTSTAMP:20260423T100409
CREATED:20230908T182709Z
LAST-MODIFIED:20230908T182709Z
UID:10000930-1771959600-1771965000@www.shrewsburyvt.org
SUMMARY:Planning Commission Meeting
DESCRIPTION:AGENDA
URL:https://www.shrewsburyvt.org/calendar/planning-commission-meeting-8/2026-02-24/
LOCATION:Shrewsbury Town Office\, 9823 Cold River Rd
END:VEVENT
BEGIN:VEVENT
DTSTART;TZID=America/New_York:20260227T190000
DTEND;TZID=America/New_York:20260227T190000
DTSTAMP:20260423T100409
CREATED:20260217T145048Z
LAST-MODIFIED:20260220T171826Z
UID:10002555-1772218800-1772218800@www.shrewsburyvt.org
SUMMARY:Invisible Mammal Screening
DESCRIPTION:Invisible Mammal Poster
URL:https://www.shrewsburyvt.org/calendar/invisible-mammal-screening/
LOCATION:Shrewsbury Library
END:VEVENT
BEGIN:VEVENT
DTSTART;TZID=America/New_York:20260228T110000
DTEND;TZID=America/New_York:20260228T110000
DTSTAMP:20260423T100409
CREATED:20260123T165318Z
LAST-MODIFIED:20260123T165318Z
UID:10002549-1772276400-1772276400@www.shrewsburyvt.org
SUMMARY:Informational Meeting
DESCRIPTION:Student representatives of the SMS 5th & 6th grade class will be present at the Town Informational Meeting on Saturday\, February 28\, to sell light fare and drinks and to witness our townspeople participating in their civic duty. See you there!
URL:https://www.shrewsburyvt.org/calendar/informational-meeting/
LOCATION:Community Meeting House\, 88 Lottery Rd
END:VEVENT
BEGIN:VEVENT
DTSTART;TZID=UTC:20260301T160000
DTEND;TZID=UTC:20260301T160000
DTSTAMP:20260423T100409
CREATED:20240930T132636Z
LAST-MODIFIED:20240930T132636Z
UID:10002365-1772380800-1772380800@www.shrewsburyvt.org
SUMMARY:WRITERS GROUP
DESCRIPTION:Please contact Penelope Weiss: pw9@earthlink.net \nor Joan Aleshire: joanaleshire@vermontel.net
URL:https://www.shrewsburyvt.org/calendar/writers-group-2-2-2-2-2/2026-03-01/
LOCATION:Shrewsbury Library
END:VEVENT
BEGIN:VEVENT
DTSTART;TZID=America/New_York:20260303T100000
DTEND;TZID=America/New_York:20260303T190000
DTSTAMP:20260423T100409
CREATED:20260228T023540Z
LAST-MODIFIED:20260228T150343Z
UID:10002556-1772532000-1772564400@www.shrewsburyvt.org
SUMMARY:Town Meeting and Voting!
DESCRIPTION:
URL:https://www.shrewsburyvt.org/calendar/town-meeting-and-voting/
LOCATION:Shrewsbury Town Office\, 9823 Cold River Rd
END:VEVENT
BEGIN:VEVENT
DTSTART;TZID=America/New_York:20260303T171500
DTEND;TZID=America/New_York:20260303T171500
DTSTAMP:20260423T100409
CREATED:20260131T033353Z
LAST-MODIFIED:20260131T033353Z
UID:10002550-1772558100-1772558100@www.shrewsburyvt.org
SUMMARY:Conservation Commission Meeting (remote)
DESCRIPTION:
URL:https://www.shrewsburyvt.org/calendar/conservation-commission-meeting-remote-2-2/2026-03-03/
LOCATION:virtual only
END:VEVENT
BEGIN:VEVENT
DTSTART;TZID=UTC:20260304T183000
DTEND;TZID=UTC:20260304T183000
DTSTAMP:20260423T100409
CREATED:20230507T171521Z
LAST-MODIFIED:20250723T182929Z
UID:10000200-1772649000-1772649000@www.shrewsburyvt.org
SUMMARY:Selectboard Meeting
DESCRIPTION:AGENDA
URL:https://www.shrewsburyvt.org/calendar/selectboard-meeting-7/2026-03-04/
LOCATION:Shrewsbury Town Office\, 9823 Cold River Rd
END:VEVENT
BEGIN:VEVENT
DTSTART;TZID=America/New_York:20260310T190000
DTEND;TZID=America/New_York:20260310T203000
DTSTAMP:20260423T100409
CREATED:20250109T195455Z
LAST-MODIFIED:20250306T222500Z
UID:10002450-1773169200-1773174600@www.shrewsburyvt.org
SUMMARY:Planning Commission Meeting
DESCRIPTION:AGENDA
URL:https://www.shrewsburyvt.org/calendar/planning-commission-meeting-9/2026-03-10/
LOCATION:Shrewsbury Town Office\, 9823 Cold River Rd
END:VEVENT
BEGIN:VEVENT
DTSTART;TZID=UTC:20260315T160000
DTEND;TZID=UTC:20260315T160000
DTSTAMP:20260423T100409
CREATED:20230924T222837Z
LAST-MODIFIED:20230924T222838Z
UID:10001907-1773590400-1773590400@www.shrewsburyvt.org
SUMMARY:Famous Books Club
DESCRIPTION:
URL:https://www.shrewsburyvt.org/calendar/famous-books-club-2-2-2/2026-03-15/
LOCATION:Shrewsbury Library
END:VEVENT
BEGIN:VEVENT
DTSTART;TZID=UTC:20260318T183000
DTEND;TZID=UTC:20260318T183000
DTSTAMP:20260423T100409
CREATED:20250713T224834Z
LAST-MODIFIED:20250713T224834Z
UID:10000081-1773858600-1773858600@www.shrewsburyvt.org
SUMMARY:Selectboard Meeting
DESCRIPTION:AGENDA
URL:https://www.shrewsburyvt.org/calendar/selectboard-meeting-6-26/2026-03-18/
LOCATION:Shrewsbury Town Office\, 9823 Cold River Rd
END:VEVENT
BEGIN:VEVENT
DTSTART;TZID=America/New_York:20260320T190000
DTEND;TZID=America/New_York:20260320T190000
DTSTAMP:20260423T100409
CREATED:20260312T135756Z
LAST-MODIFIED:20260312T135756Z
UID:10002557-1774033200-1774033200@www.shrewsburyvt.org
SUMMARY:Living With Bears Presentation
DESCRIPTION:Living With Bears Presentation
URL:https://www.shrewsburyvt.org/calendar/living-with-bears-presentation/
END:VEVENT
BEGIN:VEVENT
DTSTART;TZID=UTC:20260322T190000
DTEND;TZID=UTC:20260322T190000
DTSTAMP:20260423T100409
CREATED:20230228T225508Z
LAST-MODIFIED:20230520T185638Z
UID:10000563-1774206000-1774206000@www.shrewsburyvt.org
SUMMARY:Science Book Club
DESCRIPTION:Contact Margery Salmon (salmonm@vermontel.net)
URL:https://www.shrewsburyvt.org/calendar/science-book-club/2026-03-22/
LOCATION:Shrewsbury Library
END:VEVENT
BEGIN:VEVENT
DTSTART;TZID=America/New_York:20260323T100000
DTEND;TZID=America/New_York:20260323T100000
DTSTAMP:20260423T100409
CREATED:20260319T150155Z
LAST-MODIFIED:20260319T150155Z
UID:10002559-1774260000-1774260000@www.shrewsburyvt.org
SUMMARY:Auditors Meeting
DESCRIPTION:Warning – MARCH26 Meeting
URL:https://www.shrewsburyvt.org/calendar/auditors-meeting/
LOCATION:Shrewsbury Town Office\, 9823 Cold River Rd
END:VEVENT
BEGIN:VEVENT
DTSTART;TZID=UTC:20260324T190000
DTEND;TZID=UTC:20260324T203000
DTSTAMP:20260423T100409
CREATED:20230908T182709Z
LAST-MODIFIED:20230908T182709Z
UID:10000931-1774378800-1774384200@www.shrewsburyvt.org
SUMMARY:Planning Commission Meeting
DESCRIPTION:AGENDA
URL:https://www.shrewsburyvt.org/calendar/planning-commission-meeting-8/2026-03-24/
LOCATION:Shrewsbury Town Office\, 9823 Cold River Rd
END:VEVENT
BEGIN:VEVENT
DTSTART;TZID=America/New_York:20260325T190000
DTEND;TZID=America/New_York:20260325T190000
DTSTAMP:20260423T100409
CREATED:20260318T164823Z
LAST-MODIFIED:20260318T164838Z
UID:10002558-1774465200-1774465200@www.shrewsburyvt.org
SUMMARY:DRB Hearing
DESCRIPTION:DRB- 3_25_26 Warning Ridlon & SVFD
URL:https://www.shrewsburyvt.org/calendar/drb-hearing-2/
LOCATION:Shrewsbury Town Office\, 9823 Cold River Rd
END:VEVENT
BEGIN:VEVENT
DTSTART;TZID=America/New_York:20260328T140000
DTEND;TZID=America/New_York:20260328T140000
DTSTAMP:20260423T100409
CREATED:20260319T150801Z
LAST-MODIFIED:20260319T150801Z
UID:10002560-1774706400-1774706400@www.shrewsburyvt.org
SUMMARY:Farming: The Greatest Adventure No One Knows About
DESCRIPTION:Vermont Farmer/Filmmaker George Woodard presents Farming: The Greatest Adventure No One Knows About. An illustration of the ways his farming influenced the filming of his first feature film\, “The Summer of Walter Hacks.”
URL:https://www.shrewsburyvt.org/calendar/farming-the-greatest-adventure-no-one-knows-about/
LOCATION:Shrewsbury Library
END:VEVENT
BEGIN:VEVENT
DTSTART;TZID=UTC:20260401T183000
DTEND;TZID=UTC:20260401T183000
DTSTAMP:20260423T100409
CREATED:20230507T171521Z
LAST-MODIFIED:20250723T182929Z
UID:10000201-1775068200-1775068200@www.shrewsburyvt.org
SUMMARY:Selectboard Meeting
DESCRIPTION:AGENDA
URL:https://www.shrewsburyvt.org/calendar/selectboard-meeting-7/2026-04-01/
LOCATION:Shrewsbury Town Office\, 9823 Cold River Rd
END:VEVENT
BEGIN:VEVENT
DTSTART;TZID=UTC:20260405T160000
DTEND;TZID=UTC:20260405T160000
DTSTAMP:20260423T100409
CREATED:20240930T132636Z
LAST-MODIFIED:20240930T132636Z
UID:10002366-1775404800-1775404800@www.shrewsburyvt.org
SUMMARY:WRITERS GROUP
DESCRIPTION:Please contact Penelope Weiss: pw9@earthlink.net \nor Joan Aleshire: joanaleshire@vermontel.net
URL:https://www.shrewsburyvt.org/calendar/writers-group-2-2-2-2-2/2026-04-05/
LOCATION:Shrewsbury Library
END:VEVENT
BEGIN:VEVENT
DTSTART;TZID=America/New_York:20260406T190000
DTEND;TZID=America/New_York:20260406T190000
DTSTAMP:20260423T100409
CREATED:20260406T174953Z
LAST-MODIFIED:20260406T174953Z
UID:10002566-1775502000-1775502000@www.shrewsburyvt.org
SUMMARY:BOA Hearing
DESCRIPTION:
URL:https://www.shrewsburyvt.org/calendar/boa-hearing/
LOCATION:Shrewsbury Town Office\, 9823 Cold River Rd
END:VEVENT
BEGIN:VEVENT
DTSTART;TZID=America/New_York:20260407T171500
DTEND;TZID=America/New_York:20260407T171500
DTSTAMP:20260423T100409
CREATED:20260131T033353Z
LAST-MODIFIED:20260131T033353Z
UID:10002553-1775582100-1775582100@www.shrewsburyvt.org
SUMMARY:Conservation Commission Meeting (remote)
DESCRIPTION:
URL:https://www.shrewsburyvt.org/calendar/conservation-commission-meeting-remote-2-2/2026-04-07/
LOCATION:virtual only
END:VEVENT
BEGIN:VEVENT
DTSTART;TZID=America/New_York:20260414T190000
DTEND;TZID=America/New_York:20260414T203000
DTSTAMP:20260423T100409
CREATED:20250109T195455Z
LAST-MODIFIED:20250306T222500Z
UID:10002451-1776193200-1776198600@www.shrewsburyvt.org
SUMMARY:Planning Commission Meeting
DESCRIPTION:AGENDA
URL:https://www.shrewsburyvt.org/calendar/planning-commission-meeting-9/2026-04-14/
LOCATION:Shrewsbury Town Office\, 9823 Cold River Rd
END:VEVENT
BEGIN:VEVENT
DTSTART;TZID=America/New_York:20260414T190000
DTEND;TZID=America/New_York:20260414T203000
DTSTAMP:20260423T100409
CREATED:20260414T115525Z
LAST-MODIFIED:20260414T115525Z
UID:10002567-1776193200-1776198600@www.shrewsburyvt.org
SUMMARY:Planning Commission Meeting - CANCELLED
DESCRIPTION:
URL:https://www.shrewsburyvt.org/calendar/planning-commission-meeting-cancelled/
LOCATION:Shrewsbury Town Office\, 9823 Cold River Rd
END:VEVENT
BEGIN:VEVENT
DTSTART;TZID=UTC:20260415T183000
DTEND;TZID=UTC:20260415T183000
DTSTAMP:20260423T100409
CREATED:20250713T224834Z
LAST-MODIFIED:20250713T224834Z
UID:10000082-1776277800-1776277800@www.shrewsburyvt.org
SUMMARY:Selectboard Meeting
DESCRIPTION:AGENDA
URL:https://www.shrewsburyvt.org/calendar/selectboard-meeting-6-26/2026-04-15/
LOCATION:Shrewsbury Town Office\, 9823 Cold River Rd
END:VEVENT
END:VCALENDAR