BEGIN:VCALENDAR
VERSION:2.0
PRODID:-//Town of Shrewsbury, Vermont - ECPv6.15.20//NONSGML v1.0//EN
CALSCALE:GREGORIAN
METHOD:PUBLISH
X-WR-CALNAME:Town of Shrewsbury, Vermont
X-ORIGINAL-URL:https://www.shrewsburyvt.org
X-WR-CALDESC:Events for Town of Shrewsbury, Vermont
REFRESH-INTERVAL;VALUE=DURATION:PT1H
X-Robots-Tag:noindex
X-PUBLISHED-TTL:PT1H
BEGIN:VTIMEZONE
TZID:America/New_York
BEGIN:DAYLIGHT
TZOFFSETFROM:-0500
TZOFFSETTO:-0400
TZNAME:EDT
DTSTART:20230312T070000
END:DAYLIGHT
BEGIN:STANDARD
TZOFFSETFROM:-0400
TZOFFSETTO:-0500
TZNAME:EST
DTSTART:20231105T060000
END:STANDARD
BEGIN:DAYLIGHT
TZOFFSETFROM:-0500
TZOFFSETTO:-0400
TZNAME:EDT
DTSTART:20240310T070000
END:DAYLIGHT
BEGIN:STANDARD
TZOFFSETFROM:-0400
TZOFFSETTO:-0500
TZNAME:EST
DTSTART:20241103T060000
END:STANDARD
BEGIN:DAYLIGHT
TZOFFSETFROM:-0500
TZOFFSETTO:-0400
TZNAME:EDT
DTSTART:20250309T070000
END:DAYLIGHT
BEGIN:STANDARD
TZOFFSETFROM:-0400
TZOFFSETTO:-0500
TZNAME:EST
DTSTART:20251102T060000
END:STANDARD
END:VTIMEZONE
BEGIN:VTIMEZONE
TZID:UTC
BEGIN:STANDARD
TZOFFSETFROM:+0000
TZOFFSETTO:+0000
TZNAME:UTC
DTSTART:20230101T000000
END:STANDARD
END:VTIMEZONE
BEGIN:VEVENT
DTSTART;TZID=America/New_York:20241214T190000
DTEND;TZID=America/New_York:20241214T190000
DTSTAMP:20260424T112521
CREATED:20241025T164333Z
LAST-MODIFIED:20241025T164333Z
UID:10002412-1734202800-1734202800@www.shrewsburyvt.org
SUMMARY:SAGE Music Jam
DESCRIPTION:SAGE hosts a music jam on the second Saturday of the month from December through April. All are welcome – bring a song to offer\, an instrument to play\, or a love of sharing music with the community!
URL:https://www.shrewsburyvt.org/calendar/sage-music-jam/2024-12-14/
LOCATION:Russelville Schoolhouse
END:VEVENT
BEGIN:VEVENT
DTSTART;TZID=America/New_York:20241214T120000
DTEND;TZID=America/New_York:20241214T140000
DTSTAMP:20260424T112521
CREATED:20241121T162530Z
LAST-MODIFIED:20241121T162530Z
UID:10002426-1734177600-1734184800@www.shrewsburyvt.org
SUMMARY:Library Event - children’s book\, The Christmas Calf.
DESCRIPTION:Saturday\, December 14th from 12 pm to 2 pm: Filmmaker GEORGE WOODARD \nreads and signs his new children’s book\, The Christmas Calf. (See The Times for further info.)
URL:https://www.shrewsburyvt.org/calendar/library-event-childrens-book-the-christmas-calf/
LOCATION:Shrewsbury Library
END:VEVENT
BEGIN:VEVENT
DTSTART;TZID=UTC:20241210T190000
DTEND;TZID=UTC:20241210T203000
DTSTAMP:20260424T112521
CREATED:20240908T134151Z
LAST-MODIFIED:20241206T144611Z
UID:10002271-1733857200-1733862600@www.shrewsburyvt.org
SUMMARY:Planning Commission Meeting
DESCRIPTION:AGENDA
URL:https://www.shrewsburyvt.org/calendar/planning-commission-meeting-7-10-2/
LOCATION:Shrewsbury Town Office\, 9823 Cold River Rd
END:VEVENT
BEGIN:VEVENT
DTSTART;TZID=UTC:20241210T190000
DTEND;TZID=UTC:20241210T203000
DTSTAMP:20260424T112521
CREATED:20230908T182426Z
LAST-MODIFIED:20250109T204928Z
UID:10000858-1733857200-1733862600@www.shrewsburyvt.org
SUMMARY:Planning Commission Meeting
DESCRIPTION:AGENDA
URL:https://www.shrewsburyvt.org/calendar/planning-commission-meeting-7/2024-12-10/
LOCATION:Shrewsbury Town Office\, 9823 Cold River Rd
END:VEVENT
BEGIN:VEVENT
DTSTART;TZID=America/New_York:20241209T180000
DTEND;TZID=America/New_York:20241209T180000
DTSTAMP:20260424T112521
CREATED:20241202T184033Z
LAST-MODIFIED:20241206T143536Z
UID:10002434-1733767200-1733767200@www.shrewsburyvt.org
SUMMARY:Board of Abatement Hearing
DESCRIPTION:AGENDA \nLink to attend remotely – https://meet.google.com/noi-fjde-sca
URL:https://www.shrewsburyvt.org/calendar/board-of-abatement-hearing/
LOCATION:Shrewsbury Town Office\, 9823 Cold River Rd
END:VEVENT
BEGIN:VEVENT
DTSTART;TZID=America/New_York:20241207T190000
DTEND;TZID=America/New_York:20241207T190000
DTSTAMP:20260424T112521
CREATED:20241121T162235Z
LAST-MODIFIED:20241121T162333Z
UID:10002425-1733598000-1733598000@www.shrewsburyvt.org
SUMMARY:Library Event - ANNUAL COOKIE SHARE\, SILENT AUCTION & HOLIDAY PARTY!!
DESCRIPTION:Saturday\, December 7 @ 7 pm: ANNUAL COOKIE SHARE\, SILENT AUCTION & HOLIDAY PARTY!! \nSee the TIMES for further information.
URL:https://www.shrewsburyvt.org/calendar/library-event-annual-cookie-share-silent-auction-holiday-party/
LOCATION:Shrewsbury Library
END:VEVENT
BEGIN:VEVENT
DTSTART;TZID=America/New_York:20241206T190000
DTEND;TZID=America/New_York:20241206T190000
DTSTAMP:20260424T112521
CREATED:20241121T161613Z
LAST-MODIFIED:20241121T161613Z
UID:10002424-1733511600-1733511600@www.shrewsburyvt.org
SUMMARY:CONCERT!
DESCRIPTION:Link to Poster-Info
URL:https://www.shrewsburyvt.org/calendar/concert/
LOCATION:Russelville Schoolhouse
END:VEVENT
BEGIN:VEVENT
DTSTART;TZID=UTC:20241204T183000
DTEND;TZID=UTC:20241204T183000
DTSTAMP:20260424T112521
CREATED:20241201T220403Z
LAST-MODIFIED:20241201T220403Z
UID:10000185-1733337000-1733337000@www.shrewsburyvt.org
SUMMARY:Selectboard Meeting
DESCRIPTION:AGENDA
URL:https://www.shrewsburyvt.org/calendar/selectboard-meeting-7-20/
LOCATION:Shrewsbury Town Office\, 9823 Cold River Rd
END:VEVENT
BEGIN:VEVENT
DTSTART;TZID=UTC:20241203T171500
DTEND;TZID=UTC:20241203T171500
DTSTAMP:20260424T112521
CREATED:20231002T173409Z
LAST-MODIFIED:20231002T173411Z
UID:10002011-1733246100-1733246100@www.shrewsburyvt.org
SUMMARY:Conservation Commission Meeting
DESCRIPTION:AGENDA
URL:https://www.shrewsburyvt.org/calendar/conservation-commission-meeting-2-2/2024-12-03/
END:VEVENT
BEGIN:VEVENT
DTSTART;TZID=UTC:20241201T160000
DTEND;TZID=UTC:20241201T160000
DTSTAMP:20260424T112521
CREATED:20240930T132636Z
LAST-MODIFIED:20240930T132636Z
UID:10002350-1733068800-1733068800@www.shrewsburyvt.org
SUMMARY:WRITERS GROUP
DESCRIPTION:Please contact Penelope Weiss: pw9@earthlink.net \nor Joan Aleshire: joanaleshire@vermontel.net
URL:https://www.shrewsburyvt.org/calendar/writers-group-2-2-2-2-2/2024-12-01/
LOCATION:Shrewsbury Library
END:VEVENT
BEGIN:VEVENT
DTSTART;TZID=UTC:20241126T190000
DTEND;TZID=UTC:20241126T203000
DTSTAMP:20260424T112521
CREATED:20241121T200009Z
LAST-MODIFIED:20241121T200009Z
UID:10000915-1732647600-1732653000@www.shrewsburyvt.org
SUMMARY:Planning Commission Meeting
DESCRIPTION:AGENDA
URL:https://www.shrewsburyvt.org/calendar/planning-commission-meeting-8-16/
LOCATION:Shrewsbury Town Office\, 9823 Cold River Rd
END:VEVENT
BEGIN:VEVENT
DTSTART;TZID=UTC:20241124T190000
DTEND;TZID=UTC:20241124T190000
DTSTAMP:20260424T112521
CREATED:20230228T225508Z
LAST-MODIFIED:20230520T185638Z
UID:10000547-1732474800-1732474800@www.shrewsburyvt.org
SUMMARY:Science Book Club
DESCRIPTION:Contact Margery Salmon (salmonm@vermontel.net)
URL:https://www.shrewsburyvt.org/calendar/science-book-club/2024-11-24/
LOCATION:Shrewsbury Library
END:VEVENT
BEGIN:VEVENT
DTSTART;TZID=UTC:20241120T183000
DTEND;TZID=UTC:20241120T183000
DTSTAMP:20260424T112521
CREATED:20241118T175030Z
LAST-MODIFIED:20241118T175030Z
UID:10000065-1732127400-1732127400@www.shrewsburyvt.org
SUMMARY:Selectboard Meeting
DESCRIPTION:AGENDA
URL:https://www.shrewsburyvt.org/calendar/selectboard-meeting-6-20/
LOCATION:Shrewsbury Town Office\, 9823 Cold River Rd
END:VEVENT
BEGIN:VEVENT
DTSTART;TZID=America/New_York:20241118T171500
DTEND;TZID=America/New_York:20241118T171500
DTSTAMP:20260424T112521
CREATED:20241114T142333Z
LAST-MODIFIED:20241114T142333Z
UID:10002422-1731950100-1731950100@www.shrewsburyvt.org
SUMMARY:SCC Goals Meeting 11-18-24
DESCRIPTION:AGENDA
URL:https://www.shrewsburyvt.org/calendar/scc-goals-meeting-11-18-24/
END:VEVENT
BEGIN:VEVENT
DTSTART;TZID=UTC:20241117T160000
DTEND;TZID=UTC:20241117T160000
DTSTAMP:20260424T112521
CREATED:20230924T222837Z
LAST-MODIFIED:20230924T222838Z
UID:10001891-1731859200-1731859200@www.shrewsburyvt.org
SUMMARY:Famous Books Club
DESCRIPTION:
URL:https://www.shrewsburyvt.org/calendar/famous-books-club-2-2-2/2024-11-17/
LOCATION:Shrewsbury Library
END:VEVENT
BEGIN:VEVENT
DTSTART;TZID=UTC:20241112T190000
DTEND;TZID=UTC:20241112T203000
DTSTAMP:20260424T112521
CREATED:20241005T140016Z
LAST-MODIFIED:20241108T142659Z
UID:10000856-1731438000-1731443400@www.shrewsburyvt.org
SUMMARY:Planning Commission Meeting
DESCRIPTION:AGENDA
URL:https://www.shrewsburyvt.org/calendar/planning-commission-meeting-7-10/
LOCATION:Shrewsbury Town Office\, 9823 Cold River Rd
END:VEVENT
BEGIN:VEVENT
DTSTART;TZID=UTC:20241112T190000
DTEND;TZID=UTC:20241112T203000
DTSTAMP:20260424T112521
CREATED:20230908T182426Z
LAST-MODIFIED:20250109T204928Z
UID:10000857-1731438000-1731443400@www.shrewsburyvt.org
SUMMARY:Planning Commission Meeting
DESCRIPTION:AGENDA
URL:https://www.shrewsburyvt.org/calendar/planning-commission-meeting-7/2024-11-12/
LOCATION:Shrewsbury Town Office\, 9823 Cold River Rd
END:VEVENT
BEGIN:VEVENT
DTSTART;TZID=America/New_York:20241112T190000
DTEND;TZID=America/New_York:20241112T190000
DTSTAMP:20260424T112521
CREATED:20241102T150104Z
LAST-MODIFIED:20241102T150235Z
UID:10002420-1731438000-1731438000@www.shrewsburyvt.org
SUMMARY:Shrewsbury Board of Auditors meeting
DESCRIPTION:AGENDA
URL:https://www.shrewsburyvt.org/calendar/shrewsbury-auditors-meeting/
LOCATION:Shrewsbury Town Office\, 9823 Cold River Rd
END:VEVENT
BEGIN:VEVENT
DTSTART;TZID=America/New_York:20241109T190000
DTEND;TZID=America/New_York:20241109T190000
DTSTAMP:20260424T112521
CREATED:20240916T123948Z
LAST-MODIFIED:20240916T123948Z
UID:10002340-1731178800-1731178800@www.shrewsburyvt.org
SUMMARY:DANCE PARTY!
DESCRIPTION:click here for DANCE PARTY info! \nAt Shrewsbury Community Meeting House \nStarts at 7PM \nFree Will Donation to benefit the Shrewsbury Mountain School Playground Renovation
URL:https://www.shrewsburyvt.org/calendar/dance-party/
LOCATION:Community Meeting House\, 88 Lottery Rd
END:VEVENT
BEGIN:VEVENT
DTSTART;TZID=UTC:20241106T183000
DTEND;TZID=UTC:20241106T183000
DTSTAMP:20260424T112521
CREATED:20241103T144321Z
LAST-MODIFIED:20241103T144321Z
UID:10000184-1730917800-1730917800@www.shrewsburyvt.org
SUMMARY:Selectboard Meeting
DESCRIPTION:AGENDA
URL:https://www.shrewsburyvt.org/calendar/selectboard-meeting-7-19/
LOCATION:Shrewsbury Town Office\, 9823 Cold River Rd
END:VEVENT
BEGIN:VEVENT
DTSTART;TZID=UTC:20241105T171500
DTEND;TZID=UTC:20241105T171500
DTSTAMP:20260424T112521
CREATED:20241101T150321Z
LAST-MODIFIED:20241101T150321Z
UID:10002010-1730826900-1730826900@www.shrewsburyvt.org
SUMMARY:Conservation Commission Meeting
DESCRIPTION:AGENDA
URL:https://www.shrewsburyvt.org/calendar/conservation-commission-meeting-2-2-8/
END:VEVENT
BEGIN:VEVENT
DTSTART;TZID=UTC:20241103T160000
DTEND;TZID=UTC:20241103T160000
DTSTAMP:20260424T112521
CREATED:20240930T132636Z
LAST-MODIFIED:20240930T132636Z
UID:10002349-1730649600-1730649600@www.shrewsburyvt.org
SUMMARY:WRITERS GROUP
DESCRIPTION:Please contact Penelope Weiss: pw9@earthlink.net \nor Joan Aleshire: joanaleshire@vermontel.net
URL:https://www.shrewsburyvt.org/calendar/writers-group-2-2-2-2-2/2024-11-03/
LOCATION:Shrewsbury Library
END:VEVENT
BEGIN:VEVENT
DTSTART;TZID=UTC:20241027T190000
DTEND;TZID=UTC:20241027T190000
DTSTAMP:20260424T112521
CREATED:20230228T225508Z
LAST-MODIFIED:20230520T185638Z
UID:10000546-1730055600-1730055600@www.shrewsburyvt.org
SUMMARY:Science Book Club
DESCRIPTION:Contact Margery Salmon (salmonm@vermontel.net)
URL:https://www.shrewsburyvt.org/calendar/science-book-club/2024-10-27/
LOCATION:Shrewsbury Library
END:VEVENT
BEGIN:VEVENT
DTSTART;TZID=America/New_York:20241027T160000
DTEND;TZID=America/New_York:20241027T160000
DTSTAMP:20260424T112521
CREATED:20241017T011109Z
LAST-MODIFIED:20241017T011109Z
UID:10002410-1730044800-1730044800@www.shrewsburyvt.org
SUMMARY:WNC Relief Fundraiser Concert
DESCRIPTION:Link for Info
URL:https://www.shrewsburyvt.org/calendar/wnc-relief-fundraiser-concert/
LOCATION:Community Meeting House\, 88 Lottery Rd
END:VEVENT
BEGIN:VEVENT
DTSTART;TZID=UTC:20241022T190000
DTEND;TZID=UTC:20241022T203000
DTSTAMP:20260424T112521
CREATED:20241017T210412Z
LAST-MODIFIED:20241017T210412Z
UID:10000914-1729623600-1729629000@www.shrewsburyvt.org
SUMMARY:Planning Commission Meeting
DESCRIPTION:AGENDA
URL:https://www.shrewsburyvt.org/calendar/planning-commission-meeting-8-15/
LOCATION:Shrewsbury Town Office\, 9823 Cold River Rd
END:VEVENT
BEGIN:VEVENT
DTSTART;TZID=UTC:20241020T160000
DTEND;TZID=UTC:20241020T160000
DTSTAMP:20260424T112521
CREATED:20230924T222837Z
LAST-MODIFIED:20230924T222838Z
UID:10001890-1729440000-1729440000@www.shrewsburyvt.org
SUMMARY:Famous Books Club
DESCRIPTION:
URL:https://www.shrewsburyvt.org/calendar/famous-books-club-2-2-2/2024-10-20/
LOCATION:Shrewsbury Library
END:VEVENT
BEGIN:VEVENT
DTSTART;TZID=America/New_York:20241019T140000
DTEND;TZID=America/New_York:20241019T140000
DTSTAMP:20260424T112521
CREATED:20240930T132323Z
LAST-MODIFIED:20240930T132323Z
UID:10002348-1729346400-1729346400@www.shrewsburyvt.org
SUMMARY:Library Event - SANDGLASS THEATER
DESCRIPTION:Saturday\, October 19 @ 2 pm at The RUSSELLVILLE SCHOOLHOUSE: SANDGLASS THEATER presents Isidore’s Cheek\, a puppet show for all ages\, with Jana Zeller. The play will be in the Schoolroom; refreshments will be outside\, weather permitting. See our ad in this Times\, and watch for a poster via e-mail!
URL:https://www.shrewsburyvt.org/calendar/library-event-sandglass-theater/
LOCATION:Russelville Schoolhouse
END:VEVENT
BEGIN:VEVENT
DTSTART;TZID=America/New_York:20241018T190000
DTEND;TZID=America/New_York:20241018T190000
DTSTAMP:20260424T112521
CREATED:20240930T132141Z
LAST-MODIFIED:20240930T132141Z
UID:10002347-1729278000-1729278000@www.shrewsburyvt.org
SUMMARY:Library Event - Street Art Exhibit in Valencia\, Spain
DESCRIPTION:Friday\, October 18 @ 7 pm in the Library: PAM and JEFF MONDER will take us armchair travelers to a street art exhibit in Valencia\, Spain. Please join us to be surprised and delighted and see Pam’s article elsewhere in the October issue of The Times.
URL:https://www.shrewsburyvt.org/calendar/library-event-street-art-exhibit-in-valencia-spain/
LOCATION:Shrewsbury Library
END:VEVENT
BEGIN:VEVENT
DTSTART;TZID=UTC:20241016T183000
DTEND;TZID=UTC:20241016T183000
DTSTAMP:20260424T112521
CREATED:20241014T150738Z
LAST-MODIFIED:20241014T150738Z
UID:10000064-1729103400-1729103400@www.shrewsburyvt.org
SUMMARY:Selectboard Meeting
DESCRIPTION:AGENDA
URL:https://www.shrewsburyvt.org/calendar/selectboard-meeting-6-19/
LOCATION:Shrewsbury Town Office\, 9823 Cold River Rd
END:VEVENT
BEGIN:VEVENT
DTSTART;TZID=America/New_York:20241011T190000
DTEND;TZID=America/New_York:20241011T190000
DTSTAMP:20260424T112521
CREATED:20240930T132004Z
LAST-MODIFIED:20240930T132004Z
UID:10002346-1728673200-1728673200@www.shrewsburyvt.org
SUMMARY:Library Event - Medical Mission to Honduras
DESCRIPTION:Friday\, October 11 @ 7 pm in the Library: RANDELL BARCLAY will give a presentation on Wallingford Rotary’s Medical Mission to Honduras. Join us to learn about water purification projects\, and medical and dental care in the region. (See Randell’s article in the October Times.)
URL:https://www.shrewsburyvt.org/calendar/library-event-medical-mission-to-honduras/
LOCATION:Shrewsbury Library
END:VEVENT
END:VCALENDAR