BEGIN:VCALENDAR
VERSION:2.0
PRODID:-//Town of Shrewsbury, Vermont - ECPv6.15.20//NONSGML v1.0//EN
CALSCALE:GREGORIAN
METHOD:PUBLISH
X-WR-CALNAME:Town of Shrewsbury, Vermont
X-ORIGINAL-URL:https://www.shrewsburyvt.org
X-WR-CALDESC:Events for Town of Shrewsbury, Vermont
REFRESH-INTERVAL;VALUE=DURATION:PT1H
X-Robots-Tag:noindex
X-PUBLISHED-TTL:PT1H
BEGIN:VTIMEZONE
TZID:UTC
BEGIN:STANDARD
TZOFFSETFROM:+0000
TZOFFSETTO:+0000
TZNAME:UTC
DTSTART:20220101T000000
END:STANDARD
END:VTIMEZONE
BEGIN:VEVENT
DTSTART;TZID=UTC:20230920T183000
DTEND;TZID=UTC:20230920T183000
DTSTAMP:20260425T221253
CREATED:20230918T231917Z
LAST-MODIFIED:20230918T231918Z
UID:10000051-1695234600-1695234600@www.shrewsburyvt.org
SUMMARY:Selectboard Meeting
DESCRIPTION:AGENDA
URL:https://www.shrewsburyvt.org/calendar/selectboard-meeting-6-6/
LOCATION:Shrewsbury Town Office\, 9823 Cold River Rd
END:VEVENT
BEGIN:VEVENT
DTSTART;TZID=UTC:20230912T190000
DTEND;TZID=UTC:20230912T203000
DTSTAMP:20260425T221253
CREATED:20230908T182512Z
LAST-MODIFIED:20230908T182513Z
UID:10000845-1694545200-1694550600@www.shrewsburyvt.org
SUMMARY:Planning Commission Meeting
DESCRIPTION:AGENDA
URL:https://www.shrewsburyvt.org/calendar/planning-commission-meeting-7-2/
LOCATION:Shrewsbury Town Office\, 9823 Cold River Rd
END:VEVENT
BEGIN:VEVENT
DTSTART;TZID=UTC:20230912T171500
DTEND;TZID=UTC:20230912T171500
DTSTAMP:20260425T221253
CREATED:20231002T173200Z
LAST-MODIFIED:20231002T173200Z
UID:10001941-1694538900-1694538900@www.shrewsburyvt.org
SUMMARY:Conservation Commission Meeting
DESCRIPTION:AGENDA
URL:https://www.shrewsburyvt.org/calendar/conservation-commission-meeting-2/2023-09-12/
END:VEVENT
BEGIN:VEVENT
DTSTART;TZID=UTC:20230910T160000
DTEND;TZID=UTC:20230910T160000
DTSTAMP:20260425T221253
CREATED:20230825T010656Z
LAST-MODIFIED:20230825T010657Z
UID:10000471-1694361600-1694361600@www.shrewsburyvt.org
SUMMARY:Famous Books Club
DESCRIPTION:
URL:https://www.shrewsburyvt.org/calendar/famous-books-club-2-2/
LOCATION:Shrewsbury Library
END:VEVENT
BEGIN:VEVENT
DTSTART;TZID=UTC:20230910T153000
DTEND;TZID=UTC:20230910T153000
DTSTAMP:20260425T221253
CREATED:20230624T183538Z
LAST-MODIFIED:20230624T183540Z
UID:10000658-1694359800-1694359800@www.shrewsburyvt.org
SUMMARY:WRITERS GROUP
DESCRIPTION:Please contact Penelope Weiss: pw9@earthlink.net \nor Joan Aleshire: joanaleshire@vermontel.net
URL:https://www.shrewsburyvt.org/calendar/writers-group-2-2/2023-09-10/
LOCATION:Shrewsbury Library
END:VEVENT
BEGIN:VEVENT
DTSTART;TZID=UTC:20230908T190000
DTEND;TZID=UTC:20230908T190000
DTSTAMP:20260425T221253
CREATED:20230825T005952Z
LAST-MODIFIED:20230825T005952Z
UID:10000783-1694199600-1694199600@www.shrewsburyvt.org
SUMMARY:Shrewsbury Library Event - Vietnam Village
DESCRIPTION:Stephen Abatiell will present a program  on Vietnam Village\, the international organization that aids victims of Agent Orange.
URL:https://www.shrewsburyvt.org/calendar/shrewsbury-library-event-vietnam-village-2/
LOCATION:Shrewsbury Library
END:VEVENT
BEGIN:VEVENT
DTSTART;TZID=UTC:20230906T183000
DTEND;TZID=UTC:20230906T183000
DTSTAMP:20260425T221253
CREATED:20230905T053903Z
LAST-MODIFIED:20230905T053905Z
UID:10000170-1694025000-1694025000@www.shrewsburyvt.org
SUMMARY:Selectboard Meeting
DESCRIPTION:AGENDA
URL:https://www.shrewsburyvt.org/calendar/selectboard-meeting-7-5/
LOCATION:Shrewsbury Town Office\, 9823 Cold River Rd
END:VEVENT
BEGIN:VEVENT
DTSTART;TZID=UTC:20230901T180000
DTEND;TZID=UTC:20230901T200000
DTSTAMP:20260425T221253
CREATED:20230319T232716Z
LAST-MODIFIED:20230621T164148Z
UID:10000026-1693591200-1693598400@www.shrewsburyvt.org
SUMMARY:Shrewsbury Concert Series
DESCRIPTION:SPINTUITION\n(concert will be held inside if raining) \n 
URL:https://www.shrewsburyvt.org/calendar/shrewsbury-concert-series-6/
LOCATION:Community Meeting House\, 88 Lottery Rd
END:VEVENT
BEGIN:VEVENT
DTSTART;TZID=UTC:20230827T190000
DTEND;TZID=UTC:20230827T190000
DTSTAMP:20260425T221253
CREATED:20230228T225508Z
LAST-MODIFIED:20230520T185638Z
UID:10000532-1693162800-1693162800@www.shrewsburyvt.org
SUMMARY:Science Book Club
DESCRIPTION:Contact Margery Salmon (salmonm@vermontel.net)
URL:https://www.shrewsburyvt.org/calendar/science-book-club/2023-08-27/
LOCATION:Shrewsbury Library
END:VEVENT
BEGIN:VEVENT
DTSTART;TZID=UTC:20230820T180000
DTEND;TZID=UTC:20230820T200000
DTSTAMP:20260425T221253
CREATED:20230319T232607Z
LAST-MODIFIED:20230818T190832Z
UID:10000025-1692554400-1692561600@www.shrewsburyvt.org
SUMMARY:Shrewsbury Concert Series
DESCRIPTION:PANHANDLERS\nDate changed to Aug 20! \n 
URL:https://www.shrewsburyvt.org/calendar/shrewsbury-concert-series-5/
LOCATION:Community Meeting House\, 88 Lottery Rd
END:VEVENT
BEGIN:VEVENT
DTSTART;TZID=UTC:20230820T160000
DTEND;TZID=UTC:20230820T160000
DTSTAMP:20260425T221253
CREATED:20230401T020943Z
LAST-MODIFIED:20230520T185353Z
UID:10000470-1692547200-1692547200@www.shrewsburyvt.org
SUMMARY:Famous Books Club
DESCRIPTION:
URL:https://www.shrewsburyvt.org/calendar/famous-books-club-2/2023-08-20/
LOCATION:Shrewsbury Library
END:VEVENT
BEGIN:VEVENT
DTSTART;TZID=UTC:20230816T183000
DTEND;TZID=UTC:20230816T183000
DTSTAMP:20260425T221253
CREATED:20230813T191133Z
LAST-MODIFIED:20230813T191139Z
UID:10000050-1692210600-1692210600@www.shrewsburyvt.org
SUMMARY:Selectboard Meeting
DESCRIPTION:AGENDA
URL:https://www.shrewsburyvt.org/calendar/selectboard-meeting-6-5/
LOCATION:Shrewsbury Town Office\, 9823 Cold River Rd
END:VEVENT
BEGIN:VEVENT
DTSTART;TZID=UTC:20230813T153000
DTEND;TZID=UTC:20230813T153000
DTSTAMP:20260425T221253
CREATED:20230624T183538Z
LAST-MODIFIED:20230624T183540Z
UID:10000657-1691940600-1691940600@www.shrewsburyvt.org
SUMMARY:WRITERS GROUP
DESCRIPTION:Please contact Penelope Weiss: pw9@earthlink.net \nor Joan Aleshire: joanaleshire@vermontel.net
URL:https://www.shrewsburyvt.org/calendar/writers-group-2-2/2023-08-13/
LOCATION:Shrewsbury Library
END:VEVENT
BEGIN:VEVENT
DTSTART;TZID=UTC:20230811T200000
DTEND;TZID=UTC:20230811T200000
DTSTAMP:20260425T221253
CREATED:20230807T012746Z
LAST-MODIFIED:20230807T012746Z
UID:10000780-1691784000-1691784000@www.shrewsburyvt.org
SUMMARY:Dance of the Moths
DESCRIPTION:The Shrewsbury Conservation Commission invites you to an evening to learn about moths! \nClick here for info
URL:https://www.shrewsburyvt.org/calendar/dance-of-the-moths/
LOCATION:Community Meeting House\, 88 Lottery Rd
END:VEVENT
BEGIN:VEVENT
DTSTART;TZID=UTC:20230811T190000
DTEND;TZID=UTC:20230811T190000
DTSTAMP:20260425T221253
CREATED:20230807T013110Z
LAST-MODIFIED:20230807T013110Z
UID:10000781-1691780400-1691780400@www.shrewsburyvt.org
SUMMARY:Shrewsbury Library Event - Vietnam Village
DESCRIPTION:Stephen Abatiell will present a program  on Vietnam Village\, the international organization that aids victims of Agent Orange.
URL:https://www.shrewsburyvt.org/calendar/shrewsbury-library-event-vietnam-village/
LOCATION:Shrewsbury Library
END:VEVENT
BEGIN:VEVENT
DTSTART;TZID=UTC:20230808T171500
DTEND;TZID=UTC:20230808T171500
DTSTAMP:20260425T221253
CREATED:20231002T173200Z
LAST-MODIFIED:20231002T173200Z
UID:10001940-1691514900-1691514900@www.shrewsburyvt.org
SUMMARY:Conservation Commission Meeting
DESCRIPTION:AGENDA
URL:https://www.shrewsburyvt.org/calendar/conservation-commission-meeting-2/2023-08-08/
END:VEVENT
BEGIN:VEVENT
DTSTART;TZID=UTC:20230805T173000
DTEND;TZID=UTC:20230805T173000
DTSTAMP:20260425T221253
CREATED:20230624T183027Z
LAST-MODIFIED:20230624T183027Z
UID:10000656-1691256600-1691256600@www.shrewsburyvt.org
SUMMARY:HOT DOG DINNER & STREET DANCE with MARCOS LEVY and MUDDY RHODES BLUES BAND
DESCRIPTION:
URL:https://www.shrewsburyvt.org/calendar/hot-dog-dinner-street-dance-with-marcos-levy-and-muddy-rhodes-blues-band/
LOCATION:Shrewsbury Library
END:VEVENT
BEGIN:VEVENT
DTSTART;TZID=UTC:20230802T183000
DTEND;TZID=UTC:20230802T183000
DTSTAMP:20260425T221253
CREATED:20230731T221939Z
LAST-MODIFIED:20230731T221940Z
UID:10000169-1691001000-1691001000@www.shrewsburyvt.org
SUMMARY:Selectboard Meeting
DESCRIPTION:AGENDA
URL:https://www.shrewsburyvt.org/calendar/selectboard-meeting-7-4/
LOCATION:Shrewsbury Town Office\, 9823 Cold River Rd
END:VEVENT
BEGIN:VEVENT
DTSTART;TZID=UTC:20230728T180000
DTEND;TZID=UTC:20230728T200000
DTSTAMP:20260425T221253
CREATED:20230319T232442Z
LAST-MODIFIED:20230722T220719Z
UID:10000024-1690567200-1690574400@www.shrewsburyvt.org
SUMMARY:Shrewsbury Concert Series
DESCRIPTION:UNREEL\nMore Info Here \n(raindate – TBD) \n 
URL:https://www.shrewsburyvt.org/calendar/shrewsbury-concert-series-4/
LOCATION:Community Meeting House\, 88 Lottery Rd
END:VEVENT
BEGIN:VEVENT
DTSTART;TZID=UTC:20230726T183000
DTEND;TZID=UTC:20230726T183000
DTSTAMP:20260425T221253
CREATED:20230725T015143Z
LAST-MODIFIED:20230725T015143Z
UID:10000778-1690396200-1690396200@www.shrewsburyvt.org
SUMMARY:Selectboard Special Meeting 07-26-23
DESCRIPTION:Special Meeting AGENDA
URL:https://www.shrewsburyvt.org/calendar/selectboard-special-meeting-07-26-23/
LOCATION:Shrewsbury Town Office\, 9823 Cold River Rd
END:VEVENT
BEGIN:VEVENT
DTSTART;TZID=UTC:20230723T190000
DTEND;TZID=UTC:20230723T190000
DTSTAMP:20260425T221253
CREATED:20230228T225508Z
LAST-MODIFIED:20230520T185638Z
UID:10000531-1690138800-1690138800@www.shrewsburyvt.org
SUMMARY:Science Book Club
DESCRIPTION:Contact Margery Salmon (salmonm@vermontel.net)
URL:https://www.shrewsburyvt.org/calendar/science-book-club/2023-07-23/
LOCATION:Shrewsbury Library
END:VEVENT
BEGIN:VEVENT
DTSTART;TZID=UTC:20230723T140000
DTEND;TZID=UTC:20230723T173000
DTSTAMP:20260425T221253
CREATED:20230624T182927Z
LAST-MODIFIED:20230713T164636Z
UID:10000655-1690120800-1690133400@www.shrewsburyvt.org
SUMMARY:FARM BOY: a film by VT filmmaker George Woodard.
DESCRIPTION:Note Time Change: \n\nSunday\, July 23 @ 2:00 pm: FARM BOY: a film by VT filmmaker George Woodard. This evocation of Vermont farm life during WWII stars Woodard’s son and a local cast. It’s 3 hours long; there will be an intermission and refreshments!
URL:https://www.shrewsburyvt.org/calendar/farm-boy-a-film-by-vt-filmmaker-george-woodard/
LOCATION:Shrewsbury Library
END:VEVENT
BEGIN:VEVENT
DTSTART;TZID=UTC:20230721T190000
DTEND;TZID=UTC:20230721T190000
DTSTAMP:20260425T221253
CREATED:20230713T165002Z
LAST-MODIFIED:20230713T165002Z
UID:10000776-1689966000-1689966000@www.shrewsburyvt.org
SUMMARY:Vermont Cemeteries
DESCRIPTION:Program on Vermont Cemeteries. \nSee Shrewsbury Library for more information.
URL:https://www.shrewsburyvt.org/calendar/vermont-cemeteries/
END:VEVENT
BEGIN:VEVENT
DTSTART;TZID=UTC:20230719T183000
DTEND;TZID=UTC:20230719T183000
DTSTAMP:20260425T221253
CREATED:20230717T161927Z
LAST-MODIFIED:20230717T161928Z
UID:10000049-1689791400-1689791400@www.shrewsburyvt.org
SUMMARY:Selectboard Meeting
DESCRIPTION:AGENDA
URL:https://www.shrewsburyvt.org/calendar/selectboard-meeting-6-4/
LOCATION:Shrewsbury Town Office\, 9823 Cold River Rd
END:VEVENT
BEGIN:VEVENT
DTSTART;TZID=UTC:20230716T160000
DTEND;TZID=UTC:20230716T160000
DTSTAMP:20260425T221253
CREATED:20230401T020943Z
LAST-MODIFIED:20230520T185353Z
UID:10000469-1689523200-1689523200@www.shrewsburyvt.org
SUMMARY:Famous Books Club
DESCRIPTION:
URL:https://www.shrewsburyvt.org/calendar/famous-books-club-2/2023-07-16/
LOCATION:Shrewsbury Library
END:VEVENT
BEGIN:VEVENT
DTSTART;TZID=UTC:20230714T190000
DTEND;TZID=UTC:20230714T190000
DTSTAMP:20260425T221253
CREATED:20230624T182750Z
LAST-MODIFIED:20230624T182750Z
UID:10000654-1689361200-1689361200@www.shrewsburyvt.org
SUMMARY:TOM GIFFIN of the VERMONT CEMETERY ASSOCIATION presents a program on the state’s old cemeteries
DESCRIPTION:Friday\, July 14 @ 7 pm: TOM GIFFIN of the VERMONT CEMETERY ASSOCIATION presents a program on the state’s old cemeteries\, before a gravestone cleaning work day the following week\, sponsored by the Shrewsbury Historical Society.
URL:https://www.shrewsburyvt.org/calendar/tom-giffin-of-the-vermont-cemetery-association-presents-a-program-on-the-states-old-cemeteries/
LOCATION:Shrewsbury Library
END:VEVENT
BEGIN:VEVENT
DTSTART;TZID=UTC:20230714T180000
DTEND;TZID=UTC:20230714T200000
DTSTAMP:20260425T221253
CREATED:20230319T232310Z
LAST-MODIFIED:20230621T164335Z
UID:10000023-1689357600-1689364800@www.shrewsburyvt.org
SUMMARY:Shrewsbury Concert Series
DESCRIPTION:LUMINOUS CRUSH\n(raindate July 16th) \n 
URL:https://www.shrewsburyvt.org/calendar/shrewsbury-concert-series-3/
LOCATION:Community Meeting House\, 88 Lottery Rd
END:VEVENT
BEGIN:VEVENT
DTSTART;TZID=UTC:20230709T153000
DTEND;TZID=UTC:20230709T153000
DTSTAMP:20260425T221253
CREATED:20230624T183538Z
LAST-MODIFIED:20230624T183540Z
UID:10000591-1688916600-1688916600@www.shrewsburyvt.org
SUMMARY:WRITERS GROUP
DESCRIPTION:Please contact Penelope Weiss: pw9@earthlink.net \nor Joan Aleshire: joanaleshire@vermontel.net
URL:https://www.shrewsburyvt.org/calendar/writers-group-2-2/2023-07-09/
LOCATION:Shrewsbury Library
END:VEVENT
BEGIN:VEVENT
DTSTART;TZID=UTC:20230705T183000
DTEND;TZID=UTC:20230705T183000
DTSTAMP:20260425T221253
CREATED:20230704T012208Z
LAST-MODIFIED:20230704T012209Z
UID:10000168-1688581800-1688581800@www.shrewsburyvt.org
SUMMARY:Selectboard Meeting
DESCRIPTION:AGENDA
URL:https://www.shrewsburyvt.org/calendar/selectboard-meeting-7-3/
LOCATION:Shrewsbury Town Office\, 9823 Cold River Rd
END:VEVENT
BEGIN:VEVENT
DTSTART;TZID=UTC:20230703T171500
DTEND;TZID=UTC:20230703T171500
DTSTAMP:20260425T221253
CREATED:20230628T213954Z
LAST-MODIFIED:20230628T213954Z
UID:10000774-1688404500-1688404500@www.shrewsburyvt.org
SUMMARY:Conservation Commission Meeting
DESCRIPTION:AGENDA
URL:https://www.shrewsburyvt.org/calendar/conservation-commission-meeting/
END:VEVENT
END:VCALENDAR