BEGIN:VCALENDAR
VERSION:2.0
PRODID:-//Town of Shrewsbury, Vermont - ECPv6.15.20//NONSGML v1.0//EN
CALSCALE:GREGORIAN
METHOD:PUBLISH
X-WR-CALNAME:Town of Shrewsbury, Vermont
X-ORIGINAL-URL:https://www.shrewsburyvt.org
X-WR-CALDESC:Events for Town of Shrewsbury, Vermont
REFRESH-INTERVAL;VALUE=DURATION:PT1H
X-Robots-Tag:noindex
X-PUBLISHED-TTL:PT1H
BEGIN:VTIMEZONE
TZID:UTC
BEGIN:STANDARD
TZOFFSETFROM:+0000
TZOFFSETTO:+0000
TZNAME:UTC
DTSTART:20270101T000000
END:STANDARD
END:VTIMEZONE
BEGIN:VEVENT
DTSTART;TZID=UTC:20280202T183000
DTEND;TZID=UTC:20280202T183000
DTSTAMP:20260425T123226
CREATED:20230507T171521Z
LAST-MODIFIED:20250723T182929Z
UID:10000223-1833129000-1833129000@www.shrewsburyvt.org
SUMMARY:Selectboard Meeting
DESCRIPTION:AGENDA
URL:https://www.shrewsburyvt.org/calendar/selectboard-meeting-7/2028-02-02/
LOCATION:Shrewsbury Town Office\, 9823 Cold River Rd
END:VEVENT
BEGIN:VEVENT
DTSTART;TZID=UTC:20280206T160000
DTEND;TZID=UTC:20280206T160000
DTSTAMP:20260425T123226
CREATED:20240930T132636Z
LAST-MODIFIED:20240930T132636Z
UID:10002388-1833465600-1833465600@www.shrewsburyvt.org
SUMMARY:WRITERS GROUP
DESCRIPTION:Please contact Penelope Weiss: pw9@earthlink.net \nor Joan Aleshire: joanaleshire@vermontel.net
URL:https://www.shrewsburyvt.org/calendar/writers-group-2-2-2-2-2/2028-02-06/
LOCATION:Shrewsbury Library
END:VEVENT
BEGIN:VEVENT
DTSTART;TZID=UTC:20280216T183000
DTEND;TZID=UTC:20280216T183000
DTSTAMP:20260425T123226
CREATED:20250713T224834Z
LAST-MODIFIED:20250713T224834Z
UID:10000104-1834338600-1834338600@www.shrewsburyvt.org
SUMMARY:Selectboard Meeting
DESCRIPTION:AGENDA
URL:https://www.shrewsburyvt.org/calendar/selectboard-meeting-6-26/2028-02-16/
LOCATION:Shrewsbury Town Office\, 9823 Cold River Rd
END:VEVENT
BEGIN:VEVENT
DTSTART;TZID=UTC:20280220T160000
DTEND;TZID=UTC:20280220T160000
DTSTAMP:20260425T123226
CREATED:20230924T222837Z
LAST-MODIFIED:20230924T222838Z
UID:10001930-1834675200-1834675200@www.shrewsburyvt.org
SUMMARY:Famous Books Club
DESCRIPTION:
URL:https://www.shrewsburyvt.org/calendar/famous-books-club-2-2-2/2028-02-20/
LOCATION:Shrewsbury Library
END:VEVENT
BEGIN:VEVENT
DTSTART;TZID=UTC:20280222T190000
DTEND;TZID=UTC:20280222T203000
DTSTAMP:20260425T123226
CREATED:20230908T182709Z
LAST-MODIFIED:20230908T182709Z
UID:10000954-1834858800-1834864200@www.shrewsburyvt.org
SUMMARY:Planning Commission Meeting
DESCRIPTION:AGENDA
URL:https://www.shrewsburyvt.org/calendar/planning-commission-meeting-8/2028-02-22/
LOCATION:Shrewsbury Town Office\, 9823 Cold River Rd
END:VEVENT
BEGIN:VEVENT
DTSTART;TZID=UTC:20280227T190000
DTEND;TZID=UTC:20280227T190000
DTSTAMP:20260425T123226
CREATED:20230228T225508Z
LAST-MODIFIED:20230520T185638Z
UID:10000586-1835290800-1835290800@www.shrewsburyvt.org
SUMMARY:Science Book Club
DESCRIPTION:Contact Margery Salmon (salmonm@vermontel.net)
URL:https://www.shrewsburyvt.org/calendar/science-book-club/2028-02-27/
LOCATION:Shrewsbury Library
END:VEVENT
BEGIN:VEVENT
DTSTART;TZID=UTC:20280301T183000
DTEND;TZID=UTC:20280301T183000
DTSTAMP:20260425T123226
CREATED:20230507T171521Z
LAST-MODIFIED:20250723T182929Z
UID:10000224-1835548200-1835548200@www.shrewsburyvt.org
SUMMARY:Selectboard Meeting
DESCRIPTION:AGENDA
URL:https://www.shrewsburyvt.org/calendar/selectboard-meeting-7/2028-03-01/
LOCATION:Shrewsbury Town Office\, 9823 Cold River Rd
END:VEVENT
BEGIN:VEVENT
DTSTART;TZID=UTC:20280305T160000
DTEND;TZID=UTC:20280305T160000
DTSTAMP:20260425T123226
CREATED:20240930T132636Z
LAST-MODIFIED:20240930T132636Z
UID:10002389-1835884800-1835884800@www.shrewsburyvt.org
SUMMARY:WRITERS GROUP
DESCRIPTION:Please contact Penelope Weiss: pw9@earthlink.net \nor Joan Aleshire: joanaleshire@vermontel.net
URL:https://www.shrewsburyvt.org/calendar/writers-group-2-2-2-2-2/2028-03-05/
LOCATION:Shrewsbury Library
END:VEVENT
BEGIN:VEVENT
DTSTART;TZID=UTC:20280315T183000
DTEND;TZID=UTC:20280315T183000
DTSTAMP:20260425T123226
CREATED:20250713T224834Z
LAST-MODIFIED:20250713T224834Z
UID:10000105-1836757800-1836757800@www.shrewsburyvt.org
SUMMARY:Selectboard Meeting
DESCRIPTION:AGENDA
URL:https://www.shrewsburyvt.org/calendar/selectboard-meeting-6-26/2028-03-15/
LOCATION:Shrewsbury Town Office\, 9823 Cold River Rd
END:VEVENT
BEGIN:VEVENT
DTSTART;TZID=UTC:20280319T160000
DTEND;TZID=UTC:20280319T160000
DTSTAMP:20260425T123226
CREATED:20230924T222837Z
LAST-MODIFIED:20230924T222838Z
UID:10001931-1837094400-1837094400@www.shrewsburyvt.org
SUMMARY:Famous Books Club
DESCRIPTION:
URL:https://www.shrewsburyvt.org/calendar/famous-books-club-2-2-2/2028-03-19/
LOCATION:Shrewsbury Library
END:VEVENT
BEGIN:VEVENT
DTSTART;TZID=UTC:20280326T190000
DTEND;TZID=UTC:20280326T190000
DTSTAMP:20260425T123226
CREATED:20230228T225508Z
LAST-MODIFIED:20230520T185638Z
UID:10000587-1837710000-1837710000@www.shrewsburyvt.org
SUMMARY:Science Book Club
DESCRIPTION:Contact Margery Salmon (salmonm@vermontel.net)
URL:https://www.shrewsburyvt.org/calendar/science-book-club/2028-03-26/
LOCATION:Shrewsbury Library
END:VEVENT
BEGIN:VEVENT
DTSTART;TZID=UTC:20280328T190000
DTEND;TZID=UTC:20280328T203000
DTSTAMP:20260425T123226
CREATED:20230908T182709Z
LAST-MODIFIED:20230908T182709Z
UID:10000955-1837882800-1837888200@www.shrewsburyvt.org
SUMMARY:Planning Commission Meeting
DESCRIPTION:AGENDA
URL:https://www.shrewsburyvt.org/calendar/planning-commission-meeting-8/2028-03-28/
LOCATION:Shrewsbury Town Office\, 9823 Cold River Rd
END:VEVENT
BEGIN:VEVENT
DTSTART;TZID=UTC:20280402T160000
DTEND;TZID=UTC:20280402T160000
DTSTAMP:20260425T123226
CREATED:20240930T132636Z
LAST-MODIFIED:20240930T132636Z
UID:10002390-1838304000-1838304000@www.shrewsburyvt.org
SUMMARY:WRITERS GROUP
DESCRIPTION:Please contact Penelope Weiss: pw9@earthlink.net \nor Joan Aleshire: joanaleshire@vermontel.net
URL:https://www.shrewsburyvt.org/calendar/writers-group-2-2-2-2-2/2028-04-02/
LOCATION:Shrewsbury Library
END:VEVENT
BEGIN:VEVENT
DTSTART;TZID=UTC:20280405T183000
DTEND;TZID=UTC:20280405T183000
DTSTAMP:20260425T123226
CREATED:20230507T171521Z
LAST-MODIFIED:20250723T182929Z
UID:10000225-1838572200-1838572200@www.shrewsburyvt.org
SUMMARY:Selectboard Meeting
DESCRIPTION:AGENDA
URL:https://www.shrewsburyvt.org/calendar/selectboard-meeting-7/2028-04-05/
LOCATION:Shrewsbury Town Office\, 9823 Cold River Rd
END:VEVENT
BEGIN:VEVENT
DTSTART;TZID=UTC:20280416T160000
DTEND;TZID=UTC:20280416T160000
DTSTAMP:20260425T123226
CREATED:20230924T222837Z
LAST-MODIFIED:20230924T222838Z
UID:10001932-1839513600-1839513600@www.shrewsburyvt.org
SUMMARY:Famous Books Club
DESCRIPTION:
URL:https://www.shrewsburyvt.org/calendar/famous-books-club-2-2-2/2028-04-16/
LOCATION:Shrewsbury Library
END:VEVENT
BEGIN:VEVENT
DTSTART;TZID=UTC:20280419T183000
DTEND;TZID=UTC:20280419T183000
DTSTAMP:20260425T123226
CREATED:20250713T224834Z
LAST-MODIFIED:20250713T224834Z
UID:10000106-1839781800-1839781800@www.shrewsburyvt.org
SUMMARY:Selectboard Meeting
DESCRIPTION:AGENDA
URL:https://www.shrewsburyvt.org/calendar/selectboard-meeting-6-26/2028-04-19/
LOCATION:Shrewsbury Town Office\, 9823 Cold River Rd
END:VEVENT
BEGIN:VEVENT
DTSTART;TZID=UTC:20280423T190000
DTEND;TZID=UTC:20280423T190000
DTSTAMP:20260425T123226
CREATED:20230228T225508Z
LAST-MODIFIED:20230520T185638Z
UID:10000588-1840129200-1840129200@www.shrewsburyvt.org
SUMMARY:Science Book Club
DESCRIPTION:Contact Margery Salmon (salmonm@vermontel.net)
URL:https://www.shrewsburyvt.org/calendar/science-book-club/2028-04-23/
LOCATION:Shrewsbury Library
END:VEVENT
BEGIN:VEVENT
DTSTART;TZID=UTC:20280425T190000
DTEND;TZID=UTC:20280425T203000
DTSTAMP:20260425T123226
CREATED:20230908T182709Z
LAST-MODIFIED:20230908T182709Z
UID:10000956-1840302000-1840307400@www.shrewsburyvt.org
SUMMARY:Planning Commission Meeting
DESCRIPTION:AGENDA
URL:https://www.shrewsburyvt.org/calendar/planning-commission-meeting-8/2028-04-25/
LOCATION:Shrewsbury Town Office\, 9823 Cold River Rd
END:VEVENT
BEGIN:VEVENT
DTSTART;TZID=UTC:20280503T183000
DTEND;TZID=UTC:20280503T183000
DTSTAMP:20260425T123226
CREATED:20230507T171521Z
LAST-MODIFIED:20250723T182929Z
UID:10000226-1840991400-1840991400@www.shrewsburyvt.org
SUMMARY:Selectboard Meeting
DESCRIPTION:AGENDA
URL:https://www.shrewsburyvt.org/calendar/selectboard-meeting-7/2028-05-03/
LOCATION:Shrewsbury Town Office\, 9823 Cold River Rd
END:VEVENT
BEGIN:VEVENT
DTSTART;TZID=UTC:20280507T160000
DTEND;TZID=UTC:20280507T160000
DTSTAMP:20260425T123226
CREATED:20240930T132636Z
LAST-MODIFIED:20240930T132636Z
UID:10002391-1841328000-1841328000@www.shrewsburyvt.org
SUMMARY:WRITERS GROUP
DESCRIPTION:Please contact Penelope Weiss: pw9@earthlink.net \nor Joan Aleshire: joanaleshire@vermontel.net
URL:https://www.shrewsburyvt.org/calendar/writers-group-2-2-2-2-2/2028-05-07/
LOCATION:Shrewsbury Library
END:VEVENT
BEGIN:VEVENT
DTSTART;TZID=UTC:20280517T183000
DTEND;TZID=UTC:20280517T183000
DTSTAMP:20260425T123226
CREATED:20250713T224834Z
LAST-MODIFIED:20250713T224834Z
UID:10000651-1842201000-1842201000@www.shrewsburyvt.org
SUMMARY:Selectboard Meeting
DESCRIPTION:AGENDA
URL:https://www.shrewsburyvt.org/calendar/selectboard-meeting-6-26/2028-05-17/
LOCATION:Shrewsbury Town Office\, 9823 Cold River Rd
END:VEVENT
BEGIN:VEVENT
DTSTART;TZID=UTC:20280521T160000
DTEND;TZID=UTC:20280521T160000
DTSTAMP:20260425T123226
CREATED:20230924T222837Z
LAST-MODIFIED:20230924T222838Z
UID:10001933-1842537600-1842537600@www.shrewsburyvt.org
SUMMARY:Famous Books Club
DESCRIPTION:
URL:https://www.shrewsburyvt.org/calendar/famous-books-club-2-2-2/2028-05-21/
LOCATION:Shrewsbury Library
END:VEVENT
BEGIN:VEVENT
DTSTART;TZID=UTC:20280523T190000
DTEND;TZID=UTC:20280523T203000
DTSTAMP:20260425T123226
CREATED:20230908T182709Z
LAST-MODIFIED:20230908T182709Z
UID:10000957-1842721200-1842726600@www.shrewsburyvt.org
SUMMARY:Planning Commission Meeting
DESCRIPTION:AGENDA
URL:https://www.shrewsburyvt.org/calendar/planning-commission-meeting-8/2028-05-23/
LOCATION:Shrewsbury Town Office\, 9823 Cold River Rd
END:VEVENT
BEGIN:VEVENT
DTSTART;TZID=UTC:20280604T160000
DTEND;TZID=UTC:20280604T160000
DTSTAMP:20260425T123226
CREATED:20240930T132636Z
LAST-MODIFIED:20240930T132636Z
UID:10002392-1843747200-1843747200@www.shrewsburyvt.org
SUMMARY:WRITERS GROUP
DESCRIPTION:Please contact Penelope Weiss: pw9@earthlink.net \nor Joan Aleshire: joanaleshire@vermontel.net
URL:https://www.shrewsburyvt.org/calendar/writers-group-2-2-2-2-2/2028-06-04/
LOCATION:Shrewsbury Library
END:VEVENT
BEGIN:VEVENT
DTSTART;TZID=UTC:20280607T183000
DTEND;TZID=UTC:20280607T183000
DTSTAMP:20260425T123226
CREATED:20230507T171521Z
LAST-MODIFIED:20250723T182929Z
UID:10000775-1844015400-1844015400@www.shrewsburyvt.org
SUMMARY:Selectboard Meeting
DESCRIPTION:AGENDA
URL:https://www.shrewsburyvt.org/calendar/selectboard-meeting-7/2028-06-07/
LOCATION:Shrewsbury Town Office\, 9823 Cold River Rd
END:VEVENT
BEGIN:VEVENT
DTSTART;TZID=UTC:20280618T160000
DTEND;TZID=UTC:20280618T160000
DTSTAMP:20260425T123226
CREATED:20230924T222837Z
LAST-MODIFIED:20230924T222838Z
UID:10001934-1844956800-1844956800@www.shrewsburyvt.org
SUMMARY:Famous Books Club
DESCRIPTION:
URL:https://www.shrewsburyvt.org/calendar/famous-books-club-2-2-2/2028-06-18/
LOCATION:Shrewsbury Library
END:VEVENT
BEGIN:VEVENT
DTSTART;TZID=UTC:20280621T183000
DTEND;TZID=UTC:20280621T183000
DTSTAMP:20260425T123226
CREATED:20250713T224834Z
LAST-MODIFIED:20250713T224834Z
UID:10000777-1845225000-1845225000@www.shrewsburyvt.org
SUMMARY:Selectboard Meeting
DESCRIPTION:AGENDA
URL:https://www.shrewsburyvt.org/calendar/selectboard-meeting-6-26/2028-06-21/
LOCATION:Shrewsbury Town Office\, 9823 Cold River Rd
END:VEVENT
BEGIN:VEVENT
DTSTART;TZID=UTC:20280627T190000
DTEND;TZID=UTC:20280627T203000
DTSTAMP:20260425T123226
CREATED:20230908T182709Z
LAST-MODIFIED:20230908T182709Z
UID:10000958-1845745200-1845750600@www.shrewsburyvt.org
SUMMARY:Planning Commission Meeting
DESCRIPTION:AGENDA
URL:https://www.shrewsburyvt.org/calendar/planning-commission-meeting-8/2028-06-27/
LOCATION:Shrewsbury Town Office\, 9823 Cold River Rd
END:VEVENT
BEGIN:VEVENT
DTSTART;TZID=UTC:20280702T160000
DTEND;TZID=UTC:20280702T160000
DTSTAMP:20260425T123226
CREATED:20240930T132636Z
LAST-MODIFIED:20240930T132636Z
UID:10002393-1846166400-1846166400@www.shrewsburyvt.org
SUMMARY:WRITERS GROUP
DESCRIPTION:Please contact Penelope Weiss: pw9@earthlink.net \nor Joan Aleshire: joanaleshire@vermontel.net
URL:https://www.shrewsburyvt.org/calendar/writers-group-2-2-2-2-2/2028-07-02/
LOCATION:Shrewsbury Library
END:VEVENT
BEGIN:VEVENT
DTSTART;TZID=UTC:20280705T183000
DTEND;TZID=UTC:20280705T183000
DTSTAMP:20260425T123226
CREATED:20230507T171521Z
LAST-MODIFIED:20250723T182929Z
UID:10000779-1846434600-1846434600@www.shrewsburyvt.org
SUMMARY:Selectboard Meeting
DESCRIPTION:AGENDA
URL:https://www.shrewsburyvt.org/calendar/selectboard-meeting-7/2028-07-05/
LOCATION:Shrewsbury Town Office\, 9823 Cold River Rd
END:VEVENT
END:VCALENDAR