BEGIN:VCALENDAR
VERSION:2.0
PRODID:-//Town of Shrewsbury, Vermont - ECPv6.15.20//NONSGML v1.0//EN
CALSCALE:GREGORIAN
METHOD:PUBLISH
X-ORIGINAL-URL:https://www.shrewsburyvt.org
X-WR-CALDESC:Events for Town of Shrewsbury, Vermont
REFRESH-INTERVAL;VALUE=DURATION:PT1H
X-Robots-Tag:noindex
X-PUBLISHED-TTL:PT1H
BEGIN:VTIMEZONE
TZID:UTC
BEGIN:STANDARD
TZOFFSETFROM:+0000
TZOFFSETTO:+0000
TZNAME:UTC
DTSTART:20270101T000000
END:STANDARD
END:VTIMEZONE
BEGIN:VEVENT
DTSTART;TZID=UTC:20280820T160000
DTEND;TZID=UTC:20280820T160000
DTSTAMP:20260425T120531
CREATED:20230924T222837Z
LAST-MODIFIED:20230924T222838Z
UID:10001936-1850400000-1850400000@www.shrewsburyvt.org
SUMMARY:Famous Books Club
DESCRIPTION:
URL:https://www.shrewsburyvt.org/calendar/famous-books-club-2-2-2/2028-08-20/
LOCATION:Shrewsbury Library
END:VEVENT
BEGIN:VEVENT
DTSTART;TZID=UTC:20280822T190000
DTEND;TZID=UTC:20280822T203000
DTSTAMP:20260425T120531
CREATED:20230908T182709Z
LAST-MODIFIED:20230908T182709Z
UID:10000960-1850583600-1850589000@www.shrewsburyvt.org
SUMMARY:Planning Commission Meeting
DESCRIPTION:AGENDA
URL:https://www.shrewsburyvt.org/calendar/planning-commission-meeting-8/2028-08-22/
LOCATION:Shrewsbury Town Office\, 9823 Cold River Rd
END:VEVENT
BEGIN:VEVENT
DTSTART;TZID=UTC:20280903T160000
DTEND;TZID=UTC:20280903T160000
DTSTAMP:20260425T120531
CREATED:20240930T132636Z
LAST-MODIFIED:20240930T132636Z
UID:10002395-1851609600-1851609600@www.shrewsburyvt.org
SUMMARY:WRITERS GROUP
DESCRIPTION:Please contact Penelope Weiss: pw9@earthlink.net \nor Joan Aleshire: joanaleshire@vermontel.net
URL:https://www.shrewsburyvt.org/calendar/writers-group-2-2-2-2-2/2028-09-03/
LOCATION:Shrewsbury Library
END:VEVENT
BEGIN:VEVENT
DTSTART;TZID=UTC:20280906T183000
DTEND;TZID=UTC:20280906T183000
DTSTAMP:20260425T120531
CREATED:20230507T171521Z
LAST-MODIFIED:20250723T182929Z
UID:10001938-1851877800-1851877800@www.shrewsburyvt.org
SUMMARY:Selectboard Meeting
DESCRIPTION:AGENDA
URL:https://www.shrewsburyvt.org/calendar/selectboard-meeting-7/2028-09-06/
LOCATION:Shrewsbury Town Office\, 9823 Cold River Rd
END:VEVENT
BEGIN:VEVENT
DTSTART;TZID=UTC:20280917T160000
DTEND;TZID=UTC:20280917T160000
DTSTAMP:20260425T120531
CREATED:20230924T222837Z
LAST-MODIFIED:20230924T222838Z
UID:10001937-1852819200-1852819200@www.shrewsburyvt.org
SUMMARY:Famous Books Club
DESCRIPTION:
URL:https://www.shrewsburyvt.org/calendar/famous-books-club-2-2-2/2028-09-17/
LOCATION:Shrewsbury Library
END:VEVENT
BEGIN:VEVENT
DTSTART;TZID=UTC:20280920T183000
DTEND;TZID=UTC:20280920T183000
DTSTAMP:20260425T120531
CREATED:20250713T224834Z
LAST-MODIFIED:20250713T224834Z
UID:10002058-1853087400-1853087400@www.shrewsburyvt.org
SUMMARY:Selectboard Meeting
DESCRIPTION:AGENDA
URL:https://www.shrewsburyvt.org/calendar/selectboard-meeting-6-26/2028-09-20/
LOCATION:Shrewsbury Town Office\, 9823 Cold River Rd
END:VEVENT
BEGIN:VEVENT
DTSTART;TZID=UTC:20280926T190000
DTEND;TZID=UTC:20280926T203000
DTSTAMP:20260425T120531
CREATED:20230908T182709Z
LAST-MODIFIED:20230908T182709Z
UID:10002059-1853607600-1853613000@www.shrewsburyvt.org
SUMMARY:Planning Commission Meeting
DESCRIPTION:AGENDA
URL:https://www.shrewsburyvt.org/calendar/planning-commission-meeting-8/2028-09-26/
LOCATION:Shrewsbury Town Office\, 9823 Cold River Rd
END:VEVENT
BEGIN:VEVENT
DTSTART;TZID=UTC:20281001T160000
DTEND;TZID=UTC:20281001T160000
DTSTAMP:20260425T120531
CREATED:20240930T132636Z
LAST-MODIFIED:20240930T132636Z
UID:10002396-1854028800-1854028800@www.shrewsburyvt.org
SUMMARY:WRITERS GROUP
DESCRIPTION:Please contact Penelope Weiss: pw9@earthlink.net \nor Joan Aleshire: joanaleshire@vermontel.net
URL:https://www.shrewsburyvt.org/calendar/writers-group-2-2-2-2-2/2028-10-01/
LOCATION:Shrewsbury Library
END:VEVENT
BEGIN:VEVENT
DTSTART;TZID=UTC:20281004T183000
DTEND;TZID=UTC:20281004T183000
DTSTAMP:20260425T120531
CREATED:20230507T171521Z
LAST-MODIFIED:20250723T182929Z
UID:10002065-1854297000-1854297000@www.shrewsburyvt.org
SUMMARY:Selectboard Meeting
DESCRIPTION:AGENDA
URL:https://www.shrewsburyvt.org/calendar/selectboard-meeting-7/2028-10-04/
LOCATION:Shrewsbury Town Office\, 9823 Cold River Rd
END:VEVENT
BEGIN:VEVENT
DTSTART;TZID=UTC:20281018T183000
DTEND;TZID=UTC:20281018T183000
DTSTAMP:20260425T120531
CREATED:20250713T224834Z
LAST-MODIFIED:20250713T224834Z
UID:10002069-1855506600-1855506600@www.shrewsburyvt.org
SUMMARY:Selectboard Meeting
DESCRIPTION:AGENDA
URL:https://www.shrewsburyvt.org/calendar/selectboard-meeting-6-26/2028-10-18/
LOCATION:Shrewsbury Town Office\, 9823 Cold River Rd
END:VEVENT
BEGIN:VEVENT
DTSTART;TZID=UTC:20281024T190000
DTEND;TZID=UTC:20281024T203000
DTSTAMP:20260425T120531
CREATED:20230908T182709Z
LAST-MODIFIED:20230908T182709Z
UID:10002070-1856026800-1856032200@www.shrewsburyvt.org
SUMMARY:Planning Commission Meeting
DESCRIPTION:AGENDA
URL:https://www.shrewsburyvt.org/calendar/planning-commission-meeting-8/2028-10-24/
LOCATION:Shrewsbury Town Office\, 9823 Cold River Rd
END:VEVENT
BEGIN:VEVENT
DTSTART;TZID=UTC:20281101T183000
DTEND;TZID=UTC:20281101T183000
DTSTAMP:20260425T120531
CREATED:20230507T171521Z
LAST-MODIFIED:20250723T182929Z
UID:10002073-1856716200-1856716200@www.shrewsburyvt.org
SUMMARY:Selectboard Meeting
DESCRIPTION:AGENDA
URL:https://www.shrewsburyvt.org/calendar/selectboard-meeting-7/2028-11-01/
LOCATION:Shrewsbury Town Office\, 9823 Cold River Rd
END:VEVENT
BEGIN:VEVENT
DTSTART;TZID=UTC:20281105T160000
DTEND;TZID=UTC:20281105T160000
DTSTAMP:20260425T120531
CREATED:20240930T132636Z
LAST-MODIFIED:20240930T132636Z
UID:10002397-1857052800-1857052800@www.shrewsburyvt.org
SUMMARY:WRITERS GROUP
DESCRIPTION:Please contact Penelope Weiss: pw9@earthlink.net \nor Joan Aleshire: joanaleshire@vermontel.net
URL:https://www.shrewsburyvt.org/calendar/writers-group-2-2-2-2-2/2028-11-05/
LOCATION:Shrewsbury Library
END:VEVENT
BEGIN:VEVENT
DTSTART;TZID=UTC:20281115T183000
DTEND;TZID=UTC:20281115T183000
DTSTAMP:20260425T120531
CREATED:20250713T224834Z
LAST-MODIFIED:20250713T224834Z
UID:10002075-1857925800-1857925800@www.shrewsburyvt.org
SUMMARY:Selectboard Meeting
DESCRIPTION:AGENDA
URL:https://www.shrewsburyvt.org/calendar/selectboard-meeting-6-26/2028-11-15/
LOCATION:Shrewsbury Town Office\, 9823 Cold River Rd
END:VEVENT
BEGIN:VEVENT
DTSTART;TZID=UTC:20281128T190000
DTEND;TZID=UTC:20281128T203000
DTSTAMP:20260425T120531
CREATED:20230908T182709Z
LAST-MODIFIED:20230908T182709Z
UID:10002076-1859050800-1859056200@www.shrewsburyvt.org
SUMMARY:Planning Commission Meeting
DESCRIPTION:AGENDA
URL:https://www.shrewsburyvt.org/calendar/planning-commission-meeting-8/2028-11-28/
LOCATION:Shrewsbury Town Office\, 9823 Cold River Rd
END:VEVENT
BEGIN:VEVENT
DTSTART;TZID=UTC:20281203T160000
DTEND;TZID=UTC:20281203T160000
DTSTAMP:20260425T120531
CREATED:20240930T132636Z
LAST-MODIFIED:20240930T132636Z
UID:10002398-1859472000-1859472000@www.shrewsburyvt.org
SUMMARY:WRITERS GROUP
DESCRIPTION:Please contact Penelope Weiss: pw9@earthlink.net \nor Joan Aleshire: joanaleshire@vermontel.net
URL:https://www.shrewsburyvt.org/calendar/writers-group-2-2-2-2-2/2028-12-03/
LOCATION:Shrewsbury Library
END:VEVENT
BEGIN:VEVENT
DTSTART;TZID=UTC:20281206T183000
DTEND;TZID=UTC:20281206T183000
DTSTAMP:20260425T120531
CREATED:20230507T171521Z
LAST-MODIFIED:20250723T182929Z
UID:10002077-1859740200-1859740200@www.shrewsburyvt.org
SUMMARY:Selectboard Meeting
DESCRIPTION:AGENDA
URL:https://www.shrewsburyvt.org/calendar/selectboard-meeting-7/2028-12-06/
LOCATION:Shrewsbury Town Office\, 9823 Cold River Rd
END:VEVENT
BEGIN:VEVENT
DTSTART;TZID=UTC:20281220T183000
DTEND;TZID=UTC:20281220T183000
DTSTAMP:20260425T120531
CREATED:20250713T224834Z
LAST-MODIFIED:20250713T224834Z
UID:10002081-1860949800-1860949800@www.shrewsburyvt.org
SUMMARY:Selectboard Meeting
DESCRIPTION:AGENDA
URL:https://www.shrewsburyvt.org/calendar/selectboard-meeting-6-26/2028-12-20/
LOCATION:Shrewsbury Town Office\, 9823 Cold River Rd
END:VEVENT
BEGIN:VEVENT
DTSTART;TZID=UTC:20281226T190000
DTEND;TZID=UTC:20281226T203000
DTSTAMP:20260425T120531
CREATED:20230908T182709Z
LAST-MODIFIED:20230908T182709Z
UID:10002082-1861470000-1861475400@www.shrewsburyvt.org
SUMMARY:Planning Commission Meeting
DESCRIPTION:AGENDA
URL:https://www.shrewsburyvt.org/calendar/planning-commission-meeting-8/2028-12-26/
LOCATION:Shrewsbury Town Office\, 9823 Cold River Rd
END:VEVENT
BEGIN:VEVENT
DTSTART;TZID=UTC:20290103T183000
DTEND;TZID=UTC:20290103T183000
DTSTAMP:20260425T120531
CREATED:20230507T171521Z
LAST-MODIFIED:20250723T182929Z
UID:10002085-1862159400-1862159400@www.shrewsburyvt.org
SUMMARY:Selectboard Meeting
DESCRIPTION:AGENDA
URL:https://www.shrewsburyvt.org/calendar/selectboard-meeting-7/2029-01-03/
LOCATION:Shrewsbury Town Office\, 9823 Cold River Rd
END:VEVENT
BEGIN:VEVENT
DTSTART;TZID=UTC:20290107T160000
DTEND;TZID=UTC:20290107T160000
DTSTAMP:20260425T120531
CREATED:20240930T132636Z
LAST-MODIFIED:20240930T132636Z
UID:10002399-1862496000-1862496000@www.shrewsburyvt.org
SUMMARY:WRITERS GROUP
DESCRIPTION:Please contact Penelope Weiss: pw9@earthlink.net \nor Joan Aleshire: joanaleshire@vermontel.net
URL:https://www.shrewsburyvt.org/calendar/writers-group-2-2-2-2-2/2029-01-07/
LOCATION:Shrewsbury Library
END:VEVENT
BEGIN:VEVENT
DTSTART;TZID=UTC:20290117T183000
DTEND;TZID=UTC:20290117T183000
DTSTAMP:20260425T120531
CREATED:20250713T224834Z
LAST-MODIFIED:20250713T224834Z
UID:10002091-1863369000-1863369000@www.shrewsburyvt.org
SUMMARY:Selectboard Meeting
DESCRIPTION:AGENDA
URL:https://www.shrewsburyvt.org/calendar/selectboard-meeting-6-26/2029-01-17/
LOCATION:Shrewsbury Town Office\, 9823 Cold River Rd
END:VEVENT
BEGIN:VEVENT
DTSTART;TZID=UTC:20290123T190000
DTEND;TZID=UTC:20290123T203000
DTSTAMP:20260425T120531
CREATED:20230908T182709Z
LAST-MODIFIED:20230908T182709Z
UID:10002092-1863889200-1863894600@www.shrewsburyvt.org
SUMMARY:Planning Commission Meeting
DESCRIPTION:AGENDA
URL:https://www.shrewsburyvt.org/calendar/planning-commission-meeting-8/2029-01-23/
LOCATION:Shrewsbury Town Office\, 9823 Cold River Rd
END:VEVENT
BEGIN:VEVENT
DTSTART;TZID=UTC:20290204T160000
DTEND;TZID=UTC:20290204T160000
DTSTAMP:20260425T120531
CREATED:20240930T132636Z
LAST-MODIFIED:20240930T132636Z
UID:10002400-1864915200-1864915200@www.shrewsburyvt.org
SUMMARY:WRITERS GROUP
DESCRIPTION:Please contact Penelope Weiss: pw9@earthlink.net \nor Joan Aleshire: joanaleshire@vermontel.net
URL:https://www.shrewsburyvt.org/calendar/writers-group-2-2-2-2-2/2029-02-04/
LOCATION:Shrewsbury Library
END:VEVENT
BEGIN:VEVENT
DTSTART;TZID=UTC:20290207T183000
DTEND;TZID=UTC:20290207T183000
DTSTAMP:20260425T120531
CREATED:20230507T171521Z
LAST-MODIFIED:20250723T182929Z
UID:10002094-1865183400-1865183400@www.shrewsburyvt.org
SUMMARY:Selectboard Meeting
DESCRIPTION:AGENDA
URL:https://www.shrewsburyvt.org/calendar/selectboard-meeting-7/2029-02-07/
LOCATION:Shrewsbury Town Office\, 9823 Cold River Rd
END:VEVENT
BEGIN:VEVENT
DTSTART;TZID=UTC:20290221T183000
DTEND;TZID=UTC:20290221T183000
DTSTAMP:20260425T120531
CREATED:20250713T224834Z
LAST-MODIFIED:20250713T224834Z
UID:10002096-1866393000-1866393000@www.shrewsburyvt.org
SUMMARY:Selectboard Meeting
DESCRIPTION:AGENDA
URL:https://www.shrewsburyvt.org/calendar/selectboard-meeting-6-26/2029-02-21/
LOCATION:Shrewsbury Town Office\, 9823 Cold River Rd
END:VEVENT
BEGIN:VEVENT
DTSTART;TZID=UTC:20290227T190000
DTEND;TZID=UTC:20290227T203000
DTSTAMP:20260425T120531
CREATED:20230908T182709Z
LAST-MODIFIED:20230908T182709Z
UID:10002098-1866913200-1866918600@www.shrewsburyvt.org
SUMMARY:Planning Commission Meeting
DESCRIPTION:AGENDA
URL:https://www.shrewsburyvt.org/calendar/planning-commission-meeting-8/2029-02-27/
LOCATION:Shrewsbury Town Office\, 9823 Cold River Rd
END:VEVENT
BEGIN:VEVENT
DTSTART;TZID=UTC:20290304T160000
DTEND;TZID=UTC:20290304T160000
DTSTAMP:20260425T120531
CREATED:20240930T132636Z
LAST-MODIFIED:20240930T132636Z
UID:10002401-1867334400-1867334400@www.shrewsburyvt.org
SUMMARY:WRITERS GROUP
DESCRIPTION:Please contact Penelope Weiss: pw9@earthlink.net \nor Joan Aleshire: joanaleshire@vermontel.net
URL:https://www.shrewsburyvt.org/calendar/writers-group-2-2-2-2-2/2029-03-04/
LOCATION:Shrewsbury Library
END:VEVENT
BEGIN:VEVENT
DTSTART;TZID=UTC:20290307T183000
DTEND;TZID=UTC:20290307T183000
DTSTAMP:20260425T120531
CREATED:20230507T171521Z
LAST-MODIFIED:20250723T182929Z
UID:10002100-1867602600-1867602600@www.shrewsburyvt.org
SUMMARY:Selectboard Meeting
DESCRIPTION:AGENDA
URL:https://www.shrewsburyvt.org/calendar/selectboard-meeting-7/2029-03-07/
LOCATION:Shrewsbury Town Office\, 9823 Cold River Rd
END:VEVENT
BEGIN:VEVENT
DTSTART;TZID=UTC:20290321T183000
DTEND;TZID=UTC:20290321T183000
DTSTAMP:20260425T120531
CREATED:20250713T224834Z
LAST-MODIFIED:20250713T224834Z
UID:10002107-1868812200-1868812200@www.shrewsburyvt.org
SUMMARY:Selectboard Meeting
DESCRIPTION:AGENDA
URL:https://www.shrewsburyvt.org/calendar/selectboard-meeting-6-26/2029-03-21/
LOCATION:Shrewsbury Town Office\, 9823 Cold River Rd
END:VEVENT
END:VCALENDAR