BEGIN:VCALENDAR
VERSION:2.0
PRODID:-//Town of Shrewsbury, Vermont - ECPv6.15.20//NONSGML v1.0//EN
CALSCALE:GREGORIAN
METHOD:PUBLISH
X-WR-CALNAME:Town of Shrewsbury, Vermont
X-ORIGINAL-URL:https://www.shrewsburyvt.org
X-WR-CALDESC:Events for Town of Shrewsbury, Vermont
REFRESH-INTERVAL;VALUE=DURATION:PT1H
X-Robots-Tag:noindex
X-PUBLISHED-TTL:PT1H
BEGIN:VTIMEZONE
TZID:UTC
BEGIN:STANDARD
TZOFFSETFROM:+0000
TZOFFSETTO:+0000
TZNAME:UTC
DTSTART:20280101T000000
END:STANDARD
END:VTIMEZONE
BEGIN:VEVENT
DTSTART;TZID=UTC:20290327T190000
DTEND;TZID=UTC:20290327T203000
DTSTAMP:20260425T234505
CREATED:20230908T182709Z
LAST-MODIFIED:20230908T182709Z
UID:10002108-1869332400-1869337800@www.shrewsburyvt.org
SUMMARY:Planning Commission Meeting
DESCRIPTION:AGENDA
URL:https://www.shrewsburyvt.org/calendar/planning-commission-meeting-8/2029-03-27/
LOCATION:Shrewsbury Town Office\, 9823 Cold River Rd
END:VEVENT
BEGIN:VEVENT
DTSTART;TZID=UTC:20290401T160000
DTEND;TZID=UTC:20290401T160000
DTSTAMP:20260425T234505
CREATED:20240930T132636Z
LAST-MODIFIED:20240930T132636Z
UID:10002402-1869753600-1869753600@www.shrewsburyvt.org
SUMMARY:WRITERS GROUP
DESCRIPTION:Please contact Penelope Weiss: pw9@earthlink.net \nor Joan Aleshire: joanaleshire@vermontel.net
URL:https://www.shrewsburyvt.org/calendar/writers-group-2-2-2-2-2/2029-04-01/
LOCATION:Shrewsbury Library
END:VEVENT
BEGIN:VEVENT
DTSTART;TZID=UTC:20290404T183000
DTEND;TZID=UTC:20290404T183000
DTSTAMP:20260425T234505
CREATED:20230507T171521Z
LAST-MODIFIED:20250723T182929Z
UID:10002182-1870021800-1870021800@www.shrewsburyvt.org
SUMMARY:Selectboard Meeting
DESCRIPTION:AGENDA
URL:https://www.shrewsburyvt.org/calendar/selectboard-meeting-7/2029-04-04/
LOCATION:Shrewsbury Town Office\, 9823 Cold River Rd
END:VEVENT
BEGIN:VEVENT
DTSTART;TZID=UTC:20290418T183000
DTEND;TZID=UTC:20290418T183000
DTSTAMP:20260425T234505
CREATED:20250713T224834Z
LAST-MODIFIED:20250713T224834Z
UID:10002187-1871231400-1871231400@www.shrewsburyvt.org
SUMMARY:Selectboard Meeting
DESCRIPTION:AGENDA
URL:https://www.shrewsburyvt.org/calendar/selectboard-meeting-6-26/2029-04-18/
LOCATION:Shrewsbury Town Office\, 9823 Cold River Rd
END:VEVENT
BEGIN:VEVENT
DTSTART;TZID=UTC:20290424T190000
DTEND;TZID=UTC:20290424T203000
DTSTAMP:20260425T234505
CREATED:20230908T182709Z
LAST-MODIFIED:20230908T182709Z
UID:10002254-1871751600-1871757000@www.shrewsburyvt.org
SUMMARY:Planning Commission Meeting
DESCRIPTION:AGENDA
URL:https://www.shrewsburyvt.org/calendar/planning-commission-meeting-8/2029-04-24/
LOCATION:Shrewsbury Town Office\, 9823 Cold River Rd
END:VEVENT
BEGIN:VEVENT
DTSTART;TZID=UTC:20290502T183000
DTEND;TZID=UTC:20290502T183000
DTSTAMP:20260425T234505
CREATED:20230507T171521Z
LAST-MODIFIED:20250723T182929Z
UID:10002257-1872441000-1872441000@www.shrewsburyvt.org
SUMMARY:Selectboard Meeting
DESCRIPTION:AGENDA
URL:https://www.shrewsburyvt.org/calendar/selectboard-meeting-7/2029-05-02/
LOCATION:Shrewsbury Town Office\, 9823 Cold River Rd
END:VEVENT
BEGIN:VEVENT
DTSTART;TZID=UTC:20290506T160000
DTEND;TZID=UTC:20290506T160000
DTSTAMP:20260425T234505
CREATED:20240930T132636Z
LAST-MODIFIED:20240930T132636Z
UID:10002403-1872777600-1872777600@www.shrewsburyvt.org
SUMMARY:WRITERS GROUP
DESCRIPTION:Please contact Penelope Weiss: pw9@earthlink.net \nor Joan Aleshire: joanaleshire@vermontel.net
URL:https://www.shrewsburyvt.org/calendar/writers-group-2-2-2-2-2/2029-05-06/
LOCATION:Shrewsbury Library
END:VEVENT
BEGIN:VEVENT
DTSTART;TZID=UTC:20290516T183000
DTEND;TZID=UTC:20290516T183000
DTSTAMP:20260425T234505
CREATED:20250713T224834Z
LAST-MODIFIED:20250713T224834Z
UID:10002258-1873650600-1873650600@www.shrewsburyvt.org
SUMMARY:Selectboard Meeting
DESCRIPTION:AGENDA
URL:https://www.shrewsburyvt.org/calendar/selectboard-meeting-6-26/2029-05-16/
LOCATION:Shrewsbury Town Office\, 9823 Cold River Rd
END:VEVENT
BEGIN:VEVENT
DTSTART;TZID=UTC:20290522T190000
DTEND;TZID=UTC:20290522T203000
DTSTAMP:20260425T234505
CREATED:20230908T182709Z
LAST-MODIFIED:20230908T182709Z
UID:10002255-1874170800-1874176200@www.shrewsburyvt.org
SUMMARY:Planning Commission Meeting
DESCRIPTION:AGENDA
URL:https://www.shrewsburyvt.org/calendar/planning-commission-meeting-8/2029-05-22/
LOCATION:Shrewsbury Town Office\, 9823 Cold River Rd
END:VEVENT
BEGIN:VEVENT
DTSTART;TZID=UTC:20290603T160000
DTEND;TZID=UTC:20290603T160000
DTSTAMP:20260425T234505
CREATED:20240930T132636Z
LAST-MODIFIED:20240930T132636Z
UID:10002404-1875196800-1875196800@www.shrewsburyvt.org
SUMMARY:WRITERS GROUP
DESCRIPTION:Please contact Penelope Weiss: pw9@earthlink.net \nor Joan Aleshire: joanaleshire@vermontel.net
URL:https://www.shrewsburyvt.org/calendar/writers-group-2-2-2-2-2/2029-06-03/
LOCATION:Shrewsbury Library
END:VEVENT
BEGIN:VEVENT
DTSTART;TZID=UTC:20290606T183000
DTEND;TZID=UTC:20290606T183000
DTSTAMP:20260425T234505
CREATED:20230507T171521Z
LAST-MODIFIED:20250723T182929Z
UID:10002259-1875465000-1875465000@www.shrewsburyvt.org
SUMMARY:Selectboard Meeting
DESCRIPTION:AGENDA
URL:https://www.shrewsburyvt.org/calendar/selectboard-meeting-7/2029-06-06/
LOCATION:Shrewsbury Town Office\, 9823 Cold River Rd
END:VEVENT
BEGIN:VEVENT
DTSTART;TZID=UTC:20290620T183000
DTEND;TZID=UTC:20290620T183000
DTSTAMP:20260425T234505
CREATED:20250713T224834Z
LAST-MODIFIED:20250713T224834Z
UID:10002262-1876674600-1876674600@www.shrewsburyvt.org
SUMMARY:Selectboard Meeting
DESCRIPTION:AGENDA
URL:https://www.shrewsburyvt.org/calendar/selectboard-meeting-6-26/2029-06-20/
LOCATION:Shrewsbury Town Office\, 9823 Cold River Rd
END:VEVENT
BEGIN:VEVENT
DTSTART;TZID=UTC:20290626T190000
DTEND;TZID=UTC:20290626T203000
DTSTAMP:20260425T234505
CREATED:20230908T182709Z
LAST-MODIFIED:20230908T182709Z
UID:10002341-1877194800-1877200200@www.shrewsburyvt.org
SUMMARY:Planning Commission Meeting
DESCRIPTION:AGENDA
URL:https://www.shrewsburyvt.org/calendar/planning-commission-meeting-8/2029-06-26/
LOCATION:Shrewsbury Town Office\, 9823 Cold River Rd
END:VEVENT
BEGIN:VEVENT
DTSTART;TZID=UTC:20290701T160000
DTEND;TZID=UTC:20290701T160000
DTSTAMP:20260425T234505
CREATED:20240930T132636Z
LAST-MODIFIED:20240930T132636Z
UID:10002405-1877616000-1877616000@www.shrewsburyvt.org
SUMMARY:WRITERS GROUP
DESCRIPTION:Please contact Penelope Weiss: pw9@earthlink.net \nor Joan Aleshire: joanaleshire@vermontel.net
URL:https://www.shrewsburyvt.org/calendar/writers-group-2-2-2-2-2/2029-07-01/
LOCATION:Shrewsbury Library
END:VEVENT
BEGIN:VEVENT
DTSTART;TZID=UTC:20290704T183000
DTEND;TZID=UTC:20290704T183000
DTSTAMP:20260425T234505
CREATED:20230507T171521Z
LAST-MODIFIED:20250723T182929Z
UID:10002263-1877884200-1877884200@www.shrewsburyvt.org
SUMMARY:Selectboard Meeting
DESCRIPTION:AGENDA
URL:https://www.shrewsburyvt.org/calendar/selectboard-meeting-7/2029-07-04/
LOCATION:Shrewsbury Town Office\, 9823 Cold River Rd
END:VEVENT
BEGIN:VEVENT
DTSTART;TZID=UTC:20290718T183000
DTEND;TZID=UTC:20290718T183000
DTSTAMP:20260425T234505
CREATED:20250713T224834Z
LAST-MODIFIED:20250713T224834Z
UID:10002265-1879093800-1879093800@www.shrewsburyvt.org
SUMMARY:Selectboard Meeting
DESCRIPTION:AGENDA
URL:https://www.shrewsburyvt.org/calendar/selectboard-meeting-6-26/2029-07-18/
LOCATION:Shrewsbury Town Office\, 9823 Cold River Rd
END:VEVENT
BEGIN:VEVENT
DTSTART;TZID=UTC:20290724T190000
DTEND;TZID=UTC:20290724T203000
DTSTAMP:20260425T234505
CREATED:20230908T182709Z
LAST-MODIFIED:20230908T182709Z
UID:10002342-1879614000-1879619400@www.shrewsburyvt.org
SUMMARY:Planning Commission Meeting
DESCRIPTION:AGENDA
URL:https://www.shrewsburyvt.org/calendar/planning-commission-meeting-8/2029-07-24/
LOCATION:Shrewsbury Town Office\, 9823 Cold River Rd
END:VEVENT
BEGIN:VEVENT
DTSTART;TZID=UTC:20290801T183000
DTEND;TZID=UTC:20290801T183000
DTSTAMP:20260425T234505
CREATED:20230507T171521Z
LAST-MODIFIED:20250723T182929Z
UID:10002264-1880303400-1880303400@www.shrewsburyvt.org
SUMMARY:Selectboard Meeting
DESCRIPTION:AGENDA
URL:https://www.shrewsburyvt.org/calendar/selectboard-meeting-7/2029-08-01/
LOCATION:Shrewsbury Town Office\, 9823 Cold River Rd
END:VEVENT
BEGIN:VEVENT
DTSTART;TZID=UTC:20290805T160000
DTEND;TZID=UTC:20290805T160000
DTSTAMP:20260425T234505
CREATED:20240930T132636Z
LAST-MODIFIED:20240930T132636Z
UID:10002406-1880640000-1880640000@www.shrewsburyvt.org
SUMMARY:WRITERS GROUP
DESCRIPTION:Please contact Penelope Weiss: pw9@earthlink.net \nor Joan Aleshire: joanaleshire@vermontel.net
URL:https://www.shrewsburyvt.org/calendar/writers-group-2-2-2-2-2/2029-08-05/
LOCATION:Shrewsbury Library
END:VEVENT
BEGIN:VEVENT
DTSTART;TZID=UTC:20290815T183000
DTEND;TZID=UTC:20290815T183000
DTSTAMP:20260425T234505
CREATED:20250713T224834Z
LAST-MODIFIED:20250713T224834Z
UID:10002266-1881513000-1881513000@www.shrewsburyvt.org
SUMMARY:Selectboard Meeting
DESCRIPTION:AGENDA
URL:https://www.shrewsburyvt.org/calendar/selectboard-meeting-6-26/2029-08-15/
LOCATION:Shrewsbury Town Office\, 9823 Cold River Rd
END:VEVENT
BEGIN:VEVENT
DTSTART;TZID=UTC:20290828T190000
DTEND;TZID=UTC:20290828T203000
DTSTAMP:20260425T234505
CREATED:20230908T182709Z
LAST-MODIFIED:20230908T182709Z
UID:10002343-1882638000-1882643400@www.shrewsburyvt.org
SUMMARY:Planning Commission Meeting
DESCRIPTION:AGENDA
URL:https://www.shrewsburyvt.org/calendar/planning-commission-meeting-8/2029-08-28/
LOCATION:Shrewsbury Town Office\, 9823 Cold River Rd
END:VEVENT
BEGIN:VEVENT
DTSTART;TZID=UTC:20290902T160000
DTEND;TZID=UTC:20290902T160000
DTSTAMP:20260425T234505
CREATED:20240930T132636Z
LAST-MODIFIED:20240930T132636Z
UID:10002407-1883059200-1883059200@www.shrewsburyvt.org
SUMMARY:WRITERS GROUP
DESCRIPTION:Please contact Penelope Weiss: pw9@earthlink.net \nor Joan Aleshire: joanaleshire@vermontel.net
URL:https://www.shrewsburyvt.org/calendar/writers-group-2-2-2-2-2/2029-09-02/
LOCATION:Shrewsbury Library
END:VEVENT
BEGIN:VEVENT
DTSTART;TZID=UTC:20290905T183000
DTEND;TZID=UTC:20290905T183000
DTSTAMP:20260425T234505
CREATED:20230507T171521Z
LAST-MODIFIED:20250723T182929Z
UID:10002345-1883327400-1883327400@www.shrewsburyvt.org
SUMMARY:Selectboard Meeting
DESCRIPTION:AGENDA
URL:https://www.shrewsburyvt.org/calendar/selectboard-meeting-7/2029-09-05/
LOCATION:Shrewsbury Town Office\, 9823 Cold River Rd
END:VEVENT
BEGIN:VEVENT
DTSTART;TZID=UTC:20290919T183000
DTEND;TZID=UTC:20290919T183000
DTSTAMP:20260425T234505
CREATED:20250713T224834Z
LAST-MODIFIED:20250713T224834Z
UID:10002409-1884537000-1884537000@www.shrewsburyvt.org
SUMMARY:Selectboard Meeting
DESCRIPTION:AGENDA
URL:https://www.shrewsburyvt.org/calendar/selectboard-meeting-6-26/2029-09-19/
LOCATION:Shrewsbury Town Office\, 9823 Cold River Rd
END:VEVENT
BEGIN:VEVENT
DTSTART;TZID=UTC:20290925T190000
DTEND;TZID=UTC:20290925T203000
DTSTAMP:20260425T234505
CREATED:20230908T182709Z
LAST-MODIFIED:20230908T182709Z
UID:10002411-1885057200-1885062600@www.shrewsburyvt.org
SUMMARY:Planning Commission Meeting
DESCRIPTION:AGENDA
URL:https://www.shrewsburyvt.org/calendar/planning-commission-meeting-8/2029-09-25/
LOCATION:Shrewsbury Town Office\, 9823 Cold River Rd
END:VEVENT
BEGIN:VEVENT
DTSTART;TZID=UTC:20291003T183000
DTEND;TZID=UTC:20291003T183000
DTSTAMP:20260425T234505
CREATED:20230507T171521Z
LAST-MODIFIED:20250723T182929Z
UID:10002421-1885746600-1885746600@www.shrewsburyvt.org
SUMMARY:Selectboard Meeting
DESCRIPTION:AGENDA
URL:https://www.shrewsburyvt.org/calendar/selectboard-meeting-7/2029-10-03/
LOCATION:Shrewsbury Town Office\, 9823 Cold River Rd
END:VEVENT
BEGIN:VEVENT
DTSTART;TZID=UTC:20291017T183000
DTEND;TZID=UTC:20291017T183000
DTSTAMP:20260425T234505
CREATED:20250713T224834Z
LAST-MODIFIED:20250713T224834Z
UID:10002423-1886956200-1886956200@www.shrewsburyvt.org
SUMMARY:Selectboard Meeting
DESCRIPTION:AGENDA
URL:https://www.shrewsburyvt.org/calendar/selectboard-meeting-6-26/2029-10-17/
LOCATION:Shrewsbury Town Office\, 9823 Cold River Rd
END:VEVENT
BEGIN:VEVENT
DTSTART;TZID=UTC:20291023T190000
DTEND;TZID=UTC:20291023T203000
DTSTAMP:20260425T234505
CREATED:20230908T182709Z
LAST-MODIFIED:20230908T182709Z
UID:10002427-1887476400-1887481800@www.shrewsburyvt.org
SUMMARY:Planning Commission Meeting
DESCRIPTION:AGENDA
URL:https://www.shrewsburyvt.org/calendar/planning-commission-meeting-8/2029-10-23/
LOCATION:Shrewsbury Town Office\, 9823 Cold River Rd
END:VEVENT
BEGIN:VEVENT
DTSTART;TZID=UTC:20291107T183000
DTEND;TZID=UTC:20291107T183000
DTSTAMP:20260425T234505
CREATED:20230507T171521Z
LAST-MODIFIED:20250723T182929Z
UID:10002428-1888770600-1888770600@www.shrewsburyvt.org
SUMMARY:Selectboard Meeting
DESCRIPTION:AGENDA
URL:https://www.shrewsburyvt.org/calendar/selectboard-meeting-7/2029-11-07/
LOCATION:Shrewsbury Town Office\, 9823 Cold River Rd
END:VEVENT
BEGIN:VEVENT
DTSTART;TZID=UTC:20291121T183000
DTEND;TZID=UTC:20291121T183000
DTSTAMP:20260425T234505
CREATED:20250713T224834Z
LAST-MODIFIED:20250713T224834Z
UID:10002435-1889980200-1889980200@www.shrewsburyvt.org
SUMMARY:Selectboard Meeting
DESCRIPTION:AGENDA
URL:https://www.shrewsburyvt.org/calendar/selectboard-meeting-6-26/2029-11-21/
LOCATION:Shrewsbury Town Office\, 9823 Cold River Rd
END:VEVENT
END:VCALENDAR