BEGIN:VCALENDAR
VERSION:2.0
PRODID:-//Town of Shrewsbury, Vermont - ECPv6.15.20//NONSGML v1.0//EN
CALSCALE:GREGORIAN
METHOD:PUBLISH
X-ORIGINAL-URL:https://www.shrewsburyvt.org
X-WR-CALDESC:Events for Town of Shrewsbury, Vermont
REFRESH-INTERVAL;VALUE=DURATION:PT1H
X-Robots-Tag:noindex
X-PUBLISHED-TTL:PT1H
BEGIN:VTIMEZONE
TZID:UTC
BEGIN:STANDARD
TZOFFSETFROM:+0000
TZOFFSETTO:+0000
TZNAME:UTC
DTSTART:20260101T000000
END:STANDARD
END:VTIMEZONE
BEGIN:VEVENT
DTSTART;TZID=UTC:20270620T160000
DTEND;TZID=UTC:20270620T160000
DTSTAMP:20260424T072412
CREATED:20230924T222837Z
LAST-MODIFIED:20230924T222838Z
UID:10001922-1813507200-1813507200@www.shrewsburyvt.org
SUMMARY:Famous Books Club
DESCRIPTION:
URL:https://www.shrewsburyvt.org/calendar/famous-books-club-2-2-2/2027-06-20/
LOCATION:Shrewsbury Library
END:VEVENT
BEGIN:VEVENT
DTSTART;TZID=UTC:20270622T190000
DTEND;TZID=UTC:20270622T203000
DTSTAMP:20260424T072412
CREATED:20230908T182709Z
LAST-MODIFIED:20230908T182709Z
UID:10000946-1813690800-1813696200@www.shrewsburyvt.org
SUMMARY:Planning Commission Meeting
DESCRIPTION:AGENDA
URL:https://www.shrewsburyvt.org/calendar/planning-commission-meeting-8/2027-06-22/
LOCATION:Shrewsbury Town Office\, 9823 Cold River Rd
END:VEVENT
BEGIN:VEVENT
DTSTART;TZID=UTC:20270627T190000
DTEND;TZID=UTC:20270627T190000
DTSTAMP:20260424T072412
CREATED:20230228T225508Z
LAST-MODIFIED:20230520T185638Z
UID:10000578-1814122800-1814122800@www.shrewsburyvt.org
SUMMARY:Science Book Club
DESCRIPTION:Contact Margery Salmon (salmonm@vermontel.net)
URL:https://www.shrewsburyvt.org/calendar/science-book-club/2027-06-27/
LOCATION:Shrewsbury Library
END:VEVENT
BEGIN:VEVENT
DTSTART;TZID=UTC:20270704T160000
DTEND;TZID=UTC:20270704T160000
DTSTAMP:20260424T072412
CREATED:20240930T132636Z
LAST-MODIFIED:20240930T132636Z
UID:10002381-1814716800-1814716800@www.shrewsburyvt.org
SUMMARY:WRITERS GROUP
DESCRIPTION:Please contact Penelope Weiss: pw9@earthlink.net \nor Joan Aleshire: joanaleshire@vermontel.net
URL:https://www.shrewsburyvt.org/calendar/writers-group-2-2-2-2-2/2027-07-04/
LOCATION:Shrewsbury Library
END:VEVENT
BEGIN:VEVENT
DTSTART;TZID=UTC:20270707T183000
DTEND;TZID=UTC:20270707T183000
DTSTAMP:20260424T072412
CREATED:20230507T171521Z
LAST-MODIFIED:20250723T182929Z
UID:10000216-1814985000-1814985000@www.shrewsburyvt.org
SUMMARY:Selectboard Meeting
DESCRIPTION:AGENDA
URL:https://www.shrewsburyvt.org/calendar/selectboard-meeting-7/2027-07-07/
LOCATION:Shrewsbury Town Office\, 9823 Cold River Rd
END:VEVENT
BEGIN:VEVENT
DTSTART;TZID=UTC:20270718T160000
DTEND;TZID=UTC:20270718T160000
DTSTAMP:20260424T072412
CREATED:20230924T222837Z
LAST-MODIFIED:20230924T222838Z
UID:10001923-1815926400-1815926400@www.shrewsburyvt.org
SUMMARY:Famous Books Club
DESCRIPTION:
URL:https://www.shrewsburyvt.org/calendar/famous-books-club-2-2-2/2027-07-18/
LOCATION:Shrewsbury Library
END:VEVENT
BEGIN:VEVENT
DTSTART;TZID=UTC:20270721T183000
DTEND;TZID=UTC:20270721T183000
DTSTAMP:20260424T072412
CREATED:20250713T224834Z
LAST-MODIFIED:20250713T224834Z
UID:10000097-1816194600-1816194600@www.shrewsburyvt.org
SUMMARY:Selectboard Meeting
DESCRIPTION:AGENDA
URL:https://www.shrewsburyvt.org/calendar/selectboard-meeting-6-26/2027-07-21/
LOCATION:Shrewsbury Town Office\, 9823 Cold River Rd
END:VEVENT
BEGIN:VEVENT
DTSTART;TZID=UTC:20270725T190000
DTEND;TZID=UTC:20270725T190000
DTSTAMP:20260424T072412
CREATED:20230228T225508Z
LAST-MODIFIED:20230520T185638Z
UID:10000579-1816542000-1816542000@www.shrewsburyvt.org
SUMMARY:Science Book Club
DESCRIPTION:Contact Margery Salmon (salmonm@vermontel.net)
URL:https://www.shrewsburyvt.org/calendar/science-book-club/2027-07-25/
LOCATION:Shrewsbury Library
END:VEVENT
BEGIN:VEVENT
DTSTART;TZID=UTC:20270727T190000
DTEND;TZID=UTC:20270727T203000
DTSTAMP:20260424T072412
CREATED:20230908T182709Z
LAST-MODIFIED:20230908T182709Z
UID:10000947-1816714800-1816720200@www.shrewsburyvt.org
SUMMARY:Planning Commission Meeting
DESCRIPTION:AGENDA
URL:https://www.shrewsburyvt.org/calendar/planning-commission-meeting-8/2027-07-27/
LOCATION:Shrewsbury Town Office\, 9823 Cold River Rd
END:VEVENT
BEGIN:VEVENT
DTSTART;TZID=UTC:20270801T160000
DTEND;TZID=UTC:20270801T160000
DTSTAMP:20260424T072412
CREATED:20240930T132636Z
LAST-MODIFIED:20240930T132636Z
UID:10002382-1817136000-1817136000@www.shrewsburyvt.org
SUMMARY:WRITERS GROUP
DESCRIPTION:Please contact Penelope Weiss: pw9@earthlink.net \nor Joan Aleshire: joanaleshire@vermontel.net
URL:https://www.shrewsburyvt.org/calendar/writers-group-2-2-2-2-2/2027-08-01/
LOCATION:Shrewsbury Library
END:VEVENT
BEGIN:VEVENT
DTSTART;TZID=UTC:20270804T183000
DTEND;TZID=UTC:20270804T183000
DTSTAMP:20260424T072412
CREATED:20230507T171521Z
LAST-MODIFIED:20250723T182929Z
UID:10000217-1817404200-1817404200@www.shrewsburyvt.org
SUMMARY:Selectboard Meeting
DESCRIPTION:AGENDA
URL:https://www.shrewsburyvt.org/calendar/selectboard-meeting-7/2027-08-04/
LOCATION:Shrewsbury Town Office\, 9823 Cold River Rd
END:VEVENT
BEGIN:VEVENT
DTSTART;TZID=UTC:20270815T160000
DTEND;TZID=UTC:20270815T160000
DTSTAMP:20260424T072412
CREATED:20230924T222837Z
LAST-MODIFIED:20230924T222838Z
UID:10001924-1818345600-1818345600@www.shrewsburyvt.org
SUMMARY:Famous Books Club
DESCRIPTION:
URL:https://www.shrewsburyvt.org/calendar/famous-books-club-2-2-2/2027-08-15/
LOCATION:Shrewsbury Library
END:VEVENT
BEGIN:VEVENT
DTSTART;TZID=UTC:20270818T183000
DTEND;TZID=UTC:20270818T183000
DTSTAMP:20260424T072412
CREATED:20250713T224834Z
LAST-MODIFIED:20250713T224834Z
UID:10000098-1818613800-1818613800@www.shrewsburyvt.org
SUMMARY:Selectboard Meeting
DESCRIPTION:AGENDA
URL:https://www.shrewsburyvt.org/calendar/selectboard-meeting-6-26/2027-08-18/
LOCATION:Shrewsbury Town Office\, 9823 Cold River Rd
END:VEVENT
BEGIN:VEVENT
DTSTART;TZID=UTC:20270822T190000
DTEND;TZID=UTC:20270822T190000
DTSTAMP:20260424T072412
CREATED:20230228T225508Z
LAST-MODIFIED:20230520T185638Z
UID:10000580-1818961200-1818961200@www.shrewsburyvt.org
SUMMARY:Science Book Club
DESCRIPTION:Contact Margery Salmon (salmonm@vermontel.net)
URL:https://www.shrewsburyvt.org/calendar/science-book-club/2027-08-22/
LOCATION:Shrewsbury Library
END:VEVENT
BEGIN:VEVENT
DTSTART;TZID=UTC:20270824T190000
DTEND;TZID=UTC:20270824T203000
DTSTAMP:20260424T072412
CREATED:20230908T182709Z
LAST-MODIFIED:20230908T182709Z
UID:10000948-1819134000-1819139400@www.shrewsburyvt.org
SUMMARY:Planning Commission Meeting
DESCRIPTION:AGENDA
URL:https://www.shrewsburyvt.org/calendar/planning-commission-meeting-8/2027-08-24/
LOCATION:Shrewsbury Town Office\, 9823 Cold River Rd
END:VEVENT
BEGIN:VEVENT
DTSTART;TZID=UTC:20270901T183000
DTEND;TZID=UTC:20270901T183000
DTSTAMP:20260424T072412
CREATED:20230507T171521Z
LAST-MODIFIED:20250723T182929Z
UID:10000218-1819823400-1819823400@www.shrewsburyvt.org
SUMMARY:Selectboard Meeting
DESCRIPTION:AGENDA
URL:https://www.shrewsburyvt.org/calendar/selectboard-meeting-7/2027-09-01/
LOCATION:Shrewsbury Town Office\, 9823 Cold River Rd
END:VEVENT
BEGIN:VEVENT
DTSTART;TZID=UTC:20270905T160000
DTEND;TZID=UTC:20270905T160000
DTSTAMP:20260424T072412
CREATED:20240930T132636Z
LAST-MODIFIED:20240930T132636Z
UID:10002383-1820160000-1820160000@www.shrewsburyvt.org
SUMMARY:WRITERS GROUP
DESCRIPTION:Please contact Penelope Weiss: pw9@earthlink.net \nor Joan Aleshire: joanaleshire@vermontel.net
URL:https://www.shrewsburyvt.org/calendar/writers-group-2-2-2-2-2/2027-09-05/
LOCATION:Shrewsbury Library
END:VEVENT
BEGIN:VEVENT
DTSTART;TZID=UTC:20270915T183000
DTEND;TZID=UTC:20270915T183000
DTSTAMP:20260424T072412
CREATED:20250713T224834Z
LAST-MODIFIED:20250713T224834Z
UID:10000099-1821033000-1821033000@www.shrewsburyvt.org
SUMMARY:Selectboard Meeting
DESCRIPTION:AGENDA
URL:https://www.shrewsburyvt.org/calendar/selectboard-meeting-6-26/2027-09-15/
LOCATION:Shrewsbury Town Office\, 9823 Cold River Rd
END:VEVENT
BEGIN:VEVENT
DTSTART;TZID=UTC:20270919T160000
DTEND;TZID=UTC:20270919T160000
DTSTAMP:20260424T072412
CREATED:20230924T222837Z
LAST-MODIFIED:20230924T222838Z
UID:10001925-1821369600-1821369600@www.shrewsburyvt.org
SUMMARY:Famous Books Club
DESCRIPTION:
URL:https://www.shrewsburyvt.org/calendar/famous-books-club-2-2-2/2027-09-19/
LOCATION:Shrewsbury Library
END:VEVENT
BEGIN:VEVENT
DTSTART;TZID=UTC:20270926T190000
DTEND;TZID=UTC:20270926T190000
DTSTAMP:20260424T072412
CREATED:20230228T225508Z
LAST-MODIFIED:20230520T185638Z
UID:10000581-1821985200-1821985200@www.shrewsburyvt.org
SUMMARY:Science Book Club
DESCRIPTION:Contact Margery Salmon (salmonm@vermontel.net)
URL:https://www.shrewsburyvt.org/calendar/science-book-club/2027-09-26/
LOCATION:Shrewsbury Library
END:VEVENT
BEGIN:VEVENT
DTSTART;TZID=UTC:20270928T190000
DTEND;TZID=UTC:20270928T203000
DTSTAMP:20260424T072412
CREATED:20230908T182709Z
LAST-MODIFIED:20230908T182709Z
UID:10000949-1822158000-1822163400@www.shrewsburyvt.org
SUMMARY:Planning Commission Meeting
DESCRIPTION:AGENDA
URL:https://www.shrewsburyvt.org/calendar/planning-commission-meeting-8/2027-09-28/
LOCATION:Shrewsbury Town Office\, 9823 Cold River Rd
END:VEVENT
BEGIN:VEVENT
DTSTART;TZID=UTC:20271003T160000
DTEND;TZID=UTC:20271003T160000
DTSTAMP:20260424T072412
CREATED:20240930T132636Z
LAST-MODIFIED:20240930T132636Z
UID:10002384-1822579200-1822579200@www.shrewsburyvt.org
SUMMARY:WRITERS GROUP
DESCRIPTION:Please contact Penelope Weiss: pw9@earthlink.net \nor Joan Aleshire: joanaleshire@vermontel.net
URL:https://www.shrewsburyvt.org/calendar/writers-group-2-2-2-2-2/2027-10-03/
LOCATION:Shrewsbury Library
END:VEVENT
BEGIN:VEVENT
DTSTART;TZID=UTC:20271006T183000
DTEND;TZID=UTC:20271006T183000
DTSTAMP:20260424T072412
CREATED:20230507T171521Z
LAST-MODIFIED:20250723T182929Z
UID:10000219-1822847400-1822847400@www.shrewsburyvt.org
SUMMARY:Selectboard Meeting
DESCRIPTION:AGENDA
URL:https://www.shrewsburyvt.org/calendar/selectboard-meeting-7/2027-10-06/
LOCATION:Shrewsbury Town Office\, 9823 Cold River Rd
END:VEVENT
BEGIN:VEVENT
DTSTART;TZID=UTC:20271017T160000
DTEND;TZID=UTC:20271017T160000
DTSTAMP:20260424T072412
CREATED:20230924T222837Z
LAST-MODIFIED:20230924T222838Z
UID:10001926-1823788800-1823788800@www.shrewsburyvt.org
SUMMARY:Famous Books Club
DESCRIPTION:
URL:https://www.shrewsburyvt.org/calendar/famous-books-club-2-2-2/2027-10-17/
LOCATION:Shrewsbury Library
END:VEVENT
BEGIN:VEVENT
DTSTART;TZID=UTC:20271020T183000
DTEND;TZID=UTC:20271020T183000
DTSTAMP:20260424T072412
CREATED:20250713T224834Z
LAST-MODIFIED:20250713T224834Z
UID:10000100-1824057000-1824057000@www.shrewsburyvt.org
SUMMARY:Selectboard Meeting
DESCRIPTION:AGENDA
URL:https://www.shrewsburyvt.org/calendar/selectboard-meeting-6-26/2027-10-20/
LOCATION:Shrewsbury Town Office\, 9823 Cold River Rd
END:VEVENT
BEGIN:VEVENT
DTSTART;TZID=UTC:20271024T190000
DTEND;TZID=UTC:20271024T190000
DTSTAMP:20260424T072412
CREATED:20230228T225508Z
LAST-MODIFIED:20230520T185638Z
UID:10000582-1824404400-1824404400@www.shrewsburyvt.org
SUMMARY:Science Book Club
DESCRIPTION:Contact Margery Salmon (salmonm@vermontel.net)
URL:https://www.shrewsburyvt.org/calendar/science-book-club/2027-10-24/
LOCATION:Shrewsbury Library
END:VEVENT
BEGIN:VEVENT
DTSTART;TZID=UTC:20271026T190000
DTEND;TZID=UTC:20271026T203000
DTSTAMP:20260424T072412
CREATED:20230908T182709Z
LAST-MODIFIED:20230908T182709Z
UID:10000950-1824577200-1824582600@www.shrewsburyvt.org
SUMMARY:Planning Commission Meeting
DESCRIPTION:AGENDA
URL:https://www.shrewsburyvt.org/calendar/planning-commission-meeting-8/2027-10-26/
LOCATION:Shrewsbury Town Office\, 9823 Cold River Rd
END:VEVENT
BEGIN:VEVENT
DTSTART;TZID=UTC:20271103T183000
DTEND;TZID=UTC:20271103T183000
DTSTAMP:20260424T072412
CREATED:20230507T171521Z
LAST-MODIFIED:20250723T182929Z
UID:10000220-1825266600-1825266600@www.shrewsburyvt.org
SUMMARY:Selectboard Meeting
DESCRIPTION:AGENDA
URL:https://www.shrewsburyvt.org/calendar/selectboard-meeting-7/2027-11-03/
LOCATION:Shrewsbury Town Office\, 9823 Cold River Rd
END:VEVENT
BEGIN:VEVENT
DTSTART;TZID=UTC:20271107T160000
DTEND;TZID=UTC:20271107T160000
DTSTAMP:20260424T072412
CREATED:20240930T132636Z
LAST-MODIFIED:20240930T132636Z
UID:10002385-1825603200-1825603200@www.shrewsburyvt.org
SUMMARY:WRITERS GROUP
DESCRIPTION:Please contact Penelope Weiss: pw9@earthlink.net \nor Joan Aleshire: joanaleshire@vermontel.net
URL:https://www.shrewsburyvt.org/calendar/writers-group-2-2-2-2-2/2027-11-07/
LOCATION:Shrewsbury Library
END:VEVENT
BEGIN:VEVENT
DTSTART;TZID=UTC:20271117T183000
DTEND;TZID=UTC:20271117T183000
DTSTAMP:20260424T072412
CREATED:20250713T224834Z
LAST-MODIFIED:20250713T224834Z
UID:10000101-1826476200-1826476200@www.shrewsburyvt.org
SUMMARY:Selectboard Meeting
DESCRIPTION:AGENDA
URL:https://www.shrewsburyvt.org/calendar/selectboard-meeting-6-26/2027-11-17/
LOCATION:Shrewsbury Town Office\, 9823 Cold River Rd
END:VEVENT
END:VCALENDAR