BEGIN:VCALENDAR
VERSION:2.0
PRODID:-//Town of Shrewsbury, Vermont - ECPv6.15.20//NONSGML v1.0//EN
CALSCALE:GREGORIAN
METHOD:PUBLISH
X-WR-CALNAME:Town of Shrewsbury, Vermont
X-ORIGINAL-URL:https://www.shrewsburyvt.org
X-WR-CALDESC:Events for Town of Shrewsbury, Vermont
REFRESH-INTERVAL;VALUE=DURATION:PT1H
X-Robots-Tag:noindex
X-PUBLISHED-TTL:PT1H
BEGIN:VTIMEZONE
TZID:UTC
BEGIN:STANDARD
TZOFFSETFROM:+0000
TZOFFSETTO:+0000
TZNAME:UTC
DTSTART:20220101T000000
END:STANDARD
END:VTIMEZONE
BEGIN:VTIMEZONE
TZID:America/New_York
BEGIN:DAYLIGHT
TZOFFSETFROM:-0500
TZOFFSETTO:-0400
TZNAME:EDT
DTSTART:20220313T070000
END:DAYLIGHT
BEGIN:STANDARD
TZOFFSETFROM:-0400
TZOFFSETTO:-0500
TZNAME:EST
DTSTART:20221106T060000
END:STANDARD
BEGIN:DAYLIGHT
TZOFFSETFROM:-0500
TZOFFSETTO:-0400
TZNAME:EDT
DTSTART:20230312T070000
END:DAYLIGHT
BEGIN:STANDARD
TZOFFSETFROM:-0400
TZOFFSETTO:-0500
TZNAME:EST
DTSTART:20231105T060000
END:STANDARD
BEGIN:DAYLIGHT
TZOFFSETFROM:-0500
TZOFFSETTO:-0400
TZNAME:EDT
DTSTART:20240310T070000
END:DAYLIGHT
BEGIN:STANDARD
TZOFFSETFROM:-0400
TZOFFSETTO:-0500
TZNAME:EST
DTSTART:20241103T060000
END:STANDARD
END:VTIMEZONE
BEGIN:VEVENT
DTSTART;TZID=UTC:20231101T183000
DTEND;TZID=UTC:20231101T183000
DTSTAMP:20260425T230432
CREATED:20231030T173951Z
LAST-MODIFIED:20231030T173952Z
UID:10000172-1698863400-1698863400@www.shrewsburyvt.org
SUMMARY:Selectboard Meeting
DESCRIPTION:AGENDA
URL:https://www.shrewsburyvt.org/calendar/selectboard-meeting-7-7/
LOCATION:Shrewsbury Town Office\, 9823 Cold River Rd
END:VEVENT
BEGIN:VEVENT
DTSTART;TZID=UTC:20231104T110000
DTEND;TZID=UTC:20231104T110000
DTSTAMP:20260425T230432
CREATED:20231025T185025Z
LAST-MODIFIED:20231025T185025Z
UID:10002064-1699095600-1699095600@www.shrewsburyvt.org
SUMMARY:Library Event - Story Hour
DESCRIPTION:Saturday\, November 4 @  11 am: STORY HOUR. We’ll suspend sessions after this\, and re-group after the holidays!
URL:https://www.shrewsburyvt.org/calendar/library-event-story-hour/
LOCATION:Shrewsbury Library
END:VEVENT
BEGIN:VEVENT
DTSTART;TZID=UTC:20231104T190000
DTEND;TZID=UTC:20231104T190000
DTSTAMP:20260425T230432
CREATED:20230924T222144Z
LAST-MODIFIED:20231025T183947Z
UID:10001877-1699124400-1699124400@www.shrewsburyvt.org
SUMMARY:Library Event - Joan Aleshire will read from her new novel\, Belfield\,
DESCRIPTION:Saturday\, November 4 @ 7 pm:  JOAN ALESHIRE will read from her new novel\, Belfield\, out now from Green Writers Press. Copies will be available for sale at the reading or at Bookshop.org.
URL:https://www.shrewsburyvt.org/calendar/library-event-joan-aleshire-will-read-from-her-new-novel-belfield/
LOCATION:Shrewsbury Library
END:VEVENT
BEGIN:VEVENT
DTSTART;TZID=UTC:20231107T171500
DTEND;TZID=UTC:20231107T171500
DTSTAMP:20260425T230432
CREATED:20231106T192659Z
LAST-MODIFIED:20231106T192700Z
UID:10002002-1699377300-1699377300@www.shrewsburyvt.org
SUMMARY:Conservation Commission Meeting
DESCRIPTION:AGENDA
URL:https://www.shrewsburyvt.org/calendar/conservation-commission-meeting-2-2-3/
END:VEVENT
BEGIN:VEVENT
DTSTART;TZID=UTC:20231112T153000
DTEND;TZID=UTC:20231112T153000
DTSTAMP:20260425T230432
CREATED:20230624T183538Z
LAST-MODIFIED:20230624T183540Z
UID:10000660-1699803000-1699803000@www.shrewsburyvt.org
SUMMARY:WRITERS GROUP
DESCRIPTION:Please contact Penelope Weiss: pw9@earthlink.net \nor Joan Aleshire: joanaleshire@vermontel.net
URL:https://www.shrewsburyvt.org/calendar/writers-group-2-2/2023-11-12/
LOCATION:Shrewsbury Library
END:VEVENT
BEGIN:VEVENT
DTSTART;TZID=UTC:20231114T190000
DTEND;TZID=UTC:20231114T203000
DTSTAMP:20260425T230432
CREATED:20231109T022738Z
LAST-MODIFIED:20231109T022739Z
UID:10000847-1699988400-1699993800@www.shrewsburyvt.org
SUMMARY:Planning Commission Meeting
DESCRIPTION:AGENDA
URL:https://www.shrewsburyvt.org/calendar/planning-commission-meeting-7-4/
LOCATION:Shrewsbury Town Office\, 9823 Cold River Rd
END:VEVENT
BEGIN:VEVENT
DTSTART;TZID=America/New_York:20231115T150000
DTEND;TZID=America/New_York:20231115T150000
DTSTAMP:20260425T230432
CREATED:20231111T023902Z
LAST-MODIFIED:20231115T210438Z
UID:10002068-1700060400-1700060400@www.shrewsburyvt.org
SUMMARY:Board of Civil Authority Meeting
DESCRIPTION:AGENDA
URL:https://www.shrewsburyvt.org/calendar/board-of-civil-authority-meeting/
LOCATION:Shrewsbury Town Office\, 9823 Cold River Rd
END:VEVENT
BEGIN:VEVENT
DTSTART;TZID=UTC:20231115T183000
DTEND;TZID=UTC:20231115T183000
DTSTAMP:20260425T230432
CREATED:20231113T025648Z
LAST-MODIFIED:20231113T025649Z
UID:10000053-1700073000-1700073000@www.shrewsburyvt.org
SUMMARY:Selectboard Meeting
DESCRIPTION:AGENDA
URL:https://www.shrewsburyvt.org/calendar/selectboard-meeting-6-8/
LOCATION:Shrewsbury Town Office\, 9823 Cold River Rd
END:VEVENT
BEGIN:VEVENT
DTSTART;TZID=UTC:20231119T160000
DTEND;TZID=UTC:20231119T160000
DTSTAMP:20260425T230432
CREATED:20230924T222837Z
LAST-MODIFIED:20230924T222838Z
UID:10001879-1700409600-1700409600@www.shrewsburyvt.org
SUMMARY:Famous Books Club
DESCRIPTION:
URL:https://www.shrewsburyvt.org/calendar/famous-books-club-2-2-2/2023-11-19/
LOCATION:Shrewsbury Library
END:VEVENT
BEGIN:VEVENT
DTSTART;TZID=UTC:20231126T190000
DTEND;TZID=UTC:20231126T190000
DTSTAMP:20260425T230432
CREATED:20230228T225508Z
LAST-MODIFIED:20230520T185638Z
UID:10000535-1701025200-1701025200@www.shrewsburyvt.org
SUMMARY:Science Book Club
DESCRIPTION:Contact Margery Salmon (salmonm@vermontel.net)
URL:https://www.shrewsburyvt.org/calendar/science-book-club/2023-11-26/
LOCATION:Shrewsbury Library
END:VEVENT
BEGIN:VEVENT
DTSTART;TZID=UTC:20231128T190000
DTEND;TZID=UTC:20231128T203000
DTSTAMP:20260425T230432
CREATED:20231125T190558Z
LAST-MODIFIED:20231125T190559Z
UID:10000905-1701198000-1701203400@www.shrewsburyvt.org
SUMMARY:Planning Commission Meeting
DESCRIPTION:AGENDA
URL:https://www.shrewsburyvt.org/calendar/planning-commission-meeting-8-6/
LOCATION:Shrewsbury Town Office\, 9823 Cold River Rd
END:VEVENT
END:VCALENDAR