BEGIN:VCALENDAR
VERSION:2.0
PRODID:-//Town of Shrewsbury, Vermont - ECPv6.15.20//NONSGML v1.0//EN
CALSCALE:GREGORIAN
METHOD:PUBLISH
X-ORIGINAL-URL:https://www.shrewsburyvt.org
X-WR-CALDESC:Events for Town of Shrewsbury, Vermont
REFRESH-INTERVAL;VALUE=DURATION:PT1H
X-Robots-Tag:noindex
X-PUBLISHED-TTL:PT1H
BEGIN:VTIMEZONE
TZID:UTC
BEGIN:STANDARD
TZOFFSETFROM:+0000
TZOFFSETTO:+0000
TZNAME:UTC
DTSTART:20240101T000000
END:STANDARD
END:VTIMEZONE
BEGIN:VTIMEZONE
TZID:America/New_York
BEGIN:DAYLIGHT
TZOFFSETFROM:-0500
TZOFFSETTO:-0400
TZNAME:EDT
DTSTART:20240310T070000
END:DAYLIGHT
BEGIN:STANDARD
TZOFFSETFROM:-0400
TZOFFSETTO:-0500
TZNAME:EST
DTSTART:20241103T060000
END:STANDARD
BEGIN:DAYLIGHT
TZOFFSETFROM:-0500
TZOFFSETTO:-0400
TZNAME:EDT
DTSTART:20250309T070000
END:DAYLIGHT
BEGIN:STANDARD
TZOFFSETFROM:-0400
TZOFFSETTO:-0500
TZNAME:EST
DTSTART:20251102T060000
END:STANDARD
BEGIN:DAYLIGHT
TZOFFSETFROM:-0500
TZOFFSETTO:-0400
TZNAME:EDT
DTSTART:20260308T070000
END:DAYLIGHT
BEGIN:STANDARD
TZOFFSETFROM:-0400
TZOFFSETTO:-0500
TZNAME:EST
DTSTART:20261101T060000
END:STANDARD
END:VTIMEZONE
BEGIN:VEVENT
DTSTART;TZID=UTC:20250702T183000
DTEND;TZID=UTC:20250702T183000
DTSTAMP:20260423T234104
CREATED:20230507T171521Z
LAST-MODIFIED:20250723T182929Z
UID:10000192-1751481000-1751481000@www.shrewsburyvt.org
SUMMARY:Selectboard Meeting
DESCRIPTION:AGENDA
URL:https://www.shrewsburyvt.org/calendar/selectboard-meeting-7/2025-07-02/
LOCATION:Shrewsbury Town Office\, 9823 Cold River Rd
END:VEVENT
BEGIN:VEVENT
DTSTART;TZID=UTC:20250706T160000
DTEND;TZID=UTC:20250706T160000
DTSTAMP:20260423T234104
CREATED:20240930T132636Z
LAST-MODIFIED:20240930T132636Z
UID:10002357-1751817600-1751817600@www.shrewsburyvt.org
SUMMARY:WRITERS GROUP
DESCRIPTION:Please contact Penelope Weiss: pw9@earthlink.net \nor Joan Aleshire: joanaleshire@vermontel.net
URL:https://www.shrewsburyvt.org/calendar/writers-group-2-2-2-2-2/2025-07-06/
LOCATION:Shrewsbury Library
END:VEVENT
BEGIN:VEVENT
DTSTART;TZID=America/New_York:20250711T060000
DTEND;TZID=America/New_York:20250711T200000
DTSTAMP:20260423T234104
CREATED:20241202T162049Z
LAST-MODIFIED:20250214T155415Z
UID:10002431-1752213600-1752264000@www.shrewsburyvt.org
SUMMARY:Shrewsbury Summer Concert Series - GASLIGHT TINKERS
DESCRIPTION:
URL:https://www.shrewsburyvt.org/calendar/shrewsbury-summer-concert-series-tba-3/
LOCATION:Community Meeting House\, 88 Lottery Rd
END:VEVENT
BEGIN:VEVENT
DTSTART;TZID=America/New_York:20250713T140000
DTEND;TZID=America/New_York:20250713T140000
DTSTAMP:20260423T234104
CREATED:20250222T214620Z
LAST-MODIFIED:20250222T214620Z
UID:10002473-1752415200-1752415200@www.shrewsburyvt.org
SUMMARY:Library Event - Film “SISTER UNA LIVED A GOOD DEATH\,”
DESCRIPTION:Sunday\, July 13 @ 2 pm: “SISTER UNA LIVED A GOOD DEATH\,” with documentary filmmaker PAR PAREKH.
URL:https://www.shrewsburyvt.org/calendar/library-event-film-sister-una-lived-a-good-death/
LOCATION:Shrewsbury Library
END:VEVENT
BEGIN:VEVENT
DTSTART;TZID=UTC:20250716T183000
DTEND;TZID=UTC:20250716T183000
DTSTAMP:20260423T234104
CREATED:20250713T224844Z
LAST-MODIFIED:20250807T171309Z
UID:10000073-1752690600-1752690600@www.shrewsburyvt.org
SUMMARY:Selectboard Meeting
DESCRIPTION:Selectboard Agenda 7-16-25
URL:https://www.shrewsburyvt.org/calendar/selectboard-meeting-6-26-2/
LOCATION:Shrewsbury Town Office\, 9823 Cold River Rd
END:VEVENT
BEGIN:VEVENT
DTSTART;TZID=UTC:20250720T160000
DTEND;TZID=UTC:20250720T160000
DTSTAMP:20260423T234104
CREATED:20230924T222837Z
LAST-MODIFIED:20230924T222838Z
UID:10001899-1753027200-1753027200@www.shrewsburyvt.org
SUMMARY:Famous Books Club
DESCRIPTION:
URL:https://www.shrewsburyvt.org/calendar/famous-books-club-2-2-2/2025-07-20/
LOCATION:Shrewsbury Library
END:VEVENT
BEGIN:VEVENT
DTSTART;TZID=UTC:20250722T190000
DTEND;TZID=UTC:20250722T203000
DTSTAMP:20260423T234104
CREATED:20230908T182709Z
LAST-MODIFIED:20230908T182709Z
UID:10000923-1753210800-1753216200@www.shrewsburyvt.org
SUMMARY:Planning Commission Meeting
DESCRIPTION:AGENDA
URL:https://www.shrewsburyvt.org/calendar/planning-commission-meeting-8/2025-07-22/
LOCATION:Shrewsbury Town Office\, 9823 Cold River Rd
END:VEVENT
BEGIN:VEVENT
DTSTART;TZID=America/New_York:20250723T190000
DTEND;TZID=America/New_York:20250723T190000
DTSTAMP:20260423T234104
CREATED:20250707T185657Z
LAST-MODIFIED:20250707T185703Z
UID:10002501-1753297200-1753297200@www.shrewsburyvt.org
SUMMARY:DRB Hearing
DESCRIPTION:AGENDA
URL:https://www.shrewsburyvt.org/calendar/drb-hearing/
LOCATION:Shrewsbury Town Office\, 9823 Cold River Rd
END:VEVENT
BEGIN:VEVENT
DTSTART;TZID=America/New_York:20250725T060000
DTEND;TZID=America/New_York:20250725T200000
DTSTAMP:20260423T234104
CREATED:20241202T162111Z
LAST-MODIFIED:20250214T155350Z
UID:10002432-1753423200-1753473600@www.shrewsburyvt.org
SUMMARY:Shrewsbury Summer Concert Series - Trio of Aether: Bow Thayer\, Krishna Guthrie and Steve Ferraris
DESCRIPTION:
URL:https://www.shrewsburyvt.org/calendar/shrewsbury-summer-concert-series-tba-4/
LOCATION:Community Meeting House\, 88 Lottery Rd
END:VEVENT
BEGIN:VEVENT
DTSTART;TZID=UTC:20250727T190000
DTEND;TZID=UTC:20250727T190000
DTSTAMP:20260423T234104
CREATED:20230228T225508Z
LAST-MODIFIED:20230520T185638Z
UID:10000555-1753642800-1753642800@www.shrewsburyvt.org
SUMMARY:Science Book Club
DESCRIPTION:Contact Margery Salmon (salmonm@vermontel.net)
URL:https://www.shrewsburyvt.org/calendar/science-book-club/2025-07-27/
LOCATION:Shrewsbury Library
END:VEVENT
END:VCALENDAR