BEGIN:VCALENDAR
VERSION:2.0
PRODID:-//Town of Shrewsbury, Vermont - ECPv6.15.20//NONSGML v1.0//EN
CALSCALE:GREGORIAN
METHOD:PUBLISH
X-WR-CALNAME:Town of Shrewsbury, Vermont
X-ORIGINAL-URL:https://www.shrewsburyvt.org
X-WR-CALDESC:Events for Town of Shrewsbury, Vermont
REFRESH-INTERVAL;VALUE=DURATION:PT1H
X-Robots-Tag:noindex
X-PUBLISHED-TTL:PT1H
BEGIN:VTIMEZONE
TZID:UTC
BEGIN:STANDARD
TZOFFSETFROM:+0000
TZOFFSETTO:+0000
TZNAME:UTC
DTSTART:20250101T000000
END:STANDARD
END:VTIMEZONE
BEGIN:VTIMEZONE
TZID:America/New_York
BEGIN:DAYLIGHT
TZOFFSETFROM:-0500
TZOFFSETTO:-0400
TZNAME:EDT
DTSTART:20250309T070000
END:DAYLIGHT
BEGIN:STANDARD
TZOFFSETFROM:-0400
TZOFFSETTO:-0500
TZNAME:EST
DTSTART:20251102T060000
END:STANDARD
BEGIN:DAYLIGHT
TZOFFSETFROM:-0500
TZOFFSETTO:-0400
TZNAME:EDT
DTSTART:20260308T070000
END:DAYLIGHT
BEGIN:STANDARD
TZOFFSETFROM:-0400
TZOFFSETTO:-0500
TZNAME:EST
DTSTART:20261101T060000
END:STANDARD
BEGIN:DAYLIGHT
TZOFFSETFROM:-0500
TZOFFSETTO:-0400
TZNAME:EDT
DTSTART:20270314T070000
END:DAYLIGHT
BEGIN:STANDARD
TZOFFSETFROM:-0400
TZOFFSETTO:-0500
TZNAME:EST
DTSTART:20271107T060000
END:STANDARD
END:VTIMEZONE
BEGIN:VEVENT
DTSTART;TZID=UTC:20260603T183000
DTEND;TZID=UTC:20260603T183000
DTSTAMP:20260423T161435
CREATED:20230507T171521Z
LAST-MODIFIED:20250723T182929Z
UID:10000203-1780511400-1780511400@www.shrewsburyvt.org
SUMMARY:Selectboard Meeting
DESCRIPTION:AGENDA
URL:https://www.shrewsburyvt.org/calendar/selectboard-meeting-7/2026-06-03/
LOCATION:Shrewsbury Town Office\, 9823 Cold River Rd
END:VEVENT
BEGIN:VEVENT
DTSTART;TZID=UTC:20260607T160000
DTEND;TZID=UTC:20260607T160000
DTSTAMP:20260423T161435
CREATED:20240930T132636Z
LAST-MODIFIED:20240930T132636Z
UID:10002368-1780848000-1780848000@www.shrewsburyvt.org
SUMMARY:WRITERS GROUP
DESCRIPTION:Please contact Penelope Weiss: pw9@earthlink.net \nor Joan Aleshire: joanaleshire@vermontel.net
URL:https://www.shrewsburyvt.org/calendar/writers-group-2-2-2-2-2/2026-06-07/
LOCATION:Shrewsbury Library
END:VEVENT
BEGIN:VEVENT
DTSTART;TZID=America/New_York:20260609T190000
DTEND;TZID=America/New_York:20260609T203000
DTSTAMP:20260423T161435
CREATED:20250109T195455Z
LAST-MODIFIED:20250306T222500Z
UID:10002453-1781031600-1781037000@www.shrewsburyvt.org
SUMMARY:Planning Commission Meeting
DESCRIPTION:AGENDA
URL:https://www.shrewsburyvt.org/calendar/planning-commission-meeting-9/2026-06-09/
LOCATION:Shrewsbury Town Office\, 9823 Cold River Rd
END:VEVENT
BEGIN:VEVENT
DTSTART;TZID=America/New_York:20260612T180000
DTEND;TZID=America/New_York:20260612T180000
DTSTAMP:20260423T161435
CREATED:20260328T125841Z
LAST-MODIFIED:20260328T130457Z
UID:10002561-1781287200-1781287200@www.shrewsburyvt.org
SUMMARY:Swing Noire - 2026 Concert Series
DESCRIPTION:
URL:https://www.shrewsburyvt.org/calendar/swing-noire-2026-concert-series/
LOCATION:Community Meeting House\, 88 Lottery Rd
END:VEVENT
BEGIN:VEVENT
DTSTART;TZID=America/New_York:20260612T180000
DTEND;TZID=America/New_York:20260612T200000
DTSTAMP:20260423T161435
CREATED:20251021T204021Z
LAST-MODIFIED:20251021T204126Z
UID:10002535-1781287200-1781294400@www.shrewsburyvt.org
SUMMARY:Shrewsbury Concert Series
DESCRIPTION:
URL:https://www.shrewsburyvt.org/calendar/shrewsbury-concert-series-7/2026-06-12/
LOCATION:Community Meeting House\, 88 Lottery Rd
END:VEVENT
BEGIN:VEVENT
DTSTART;TZID=UTC:20260617T183000
DTEND;TZID=UTC:20260617T183000
DTSTAMP:20260423T161435
CREATED:20250713T224834Z
LAST-MODIFIED:20250713T224834Z
UID:10000084-1781721000-1781721000@www.shrewsburyvt.org
SUMMARY:Selectboard Meeting
DESCRIPTION:AGENDA
URL:https://www.shrewsburyvt.org/calendar/selectboard-meeting-6-26/2026-06-17/
LOCATION:Shrewsbury Town Office\, 9823 Cold River Rd
END:VEVENT
BEGIN:VEVENT
DTSTART;TZID=UTC:20260621T160000
DTEND;TZID=UTC:20260621T160000
DTSTAMP:20260423T161435
CREATED:20230924T222837Z
LAST-MODIFIED:20230924T222838Z
UID:10001910-1782057600-1782057600@www.shrewsburyvt.org
SUMMARY:Famous Books Club
DESCRIPTION:
URL:https://www.shrewsburyvt.org/calendar/famous-books-club-2-2-2/2026-06-21/
LOCATION:Shrewsbury Library
END:VEVENT
BEGIN:VEVENT
DTSTART;TZID=UTC:20260623T190000
DTEND;TZID=UTC:20260623T203000
DTSTAMP:20260423T161435
CREATED:20230908T182709Z
LAST-MODIFIED:20230908T182709Z
UID:10000934-1782241200-1782246600@www.shrewsburyvt.org
SUMMARY:Planning Commission Meeting
DESCRIPTION:AGENDA
URL:https://www.shrewsburyvt.org/calendar/planning-commission-meeting-8/2026-06-23/
LOCATION:Shrewsbury Town Office\, 9823 Cold River Rd
END:VEVENT
BEGIN:VEVENT
DTSTART;TZID=America/New_York:20260626T180000
DTEND;TZID=America/New_York:20260626T180000
DTSTAMP:20260423T161435
CREATED:20260328T125912Z
LAST-MODIFIED:20260328T130327Z
UID:10002562-1782496800-1782496800@www.shrewsburyvt.org
SUMMARY:Mojo Birds - 2026 Concert Series
DESCRIPTION:
URL:https://www.shrewsburyvt.org/calendar/mojo-birds-2026-concert-series/
LOCATION:Community Meeting House\, 88 Lottery Rd
END:VEVENT
BEGIN:VEVENT
DTSTART;TZID=America/New_York:20260626T180000
DTEND;TZID=America/New_York:20260626T200000
DTSTAMP:20260423T161435
CREATED:20251021T204021Z
LAST-MODIFIED:20251021T204126Z
UID:10002536-1782496800-1782504000@www.shrewsburyvt.org
SUMMARY:Shrewsbury Concert Series
DESCRIPTION:
URL:https://www.shrewsburyvt.org/calendar/shrewsbury-concert-series-7/2026-06-26/
LOCATION:Community Meeting House\, 88 Lottery Rd
END:VEVENT
BEGIN:VEVENT
DTSTART;TZID=UTC:20260628T190000
DTEND;TZID=UTC:20260628T190000
DTSTAMP:20260423T161435
CREATED:20230228T225508Z
LAST-MODIFIED:20230520T185638Z
UID:10000566-1782673200-1782673200@www.shrewsburyvt.org
SUMMARY:Science Book Club
DESCRIPTION:Contact Margery Salmon (salmonm@vermontel.net)
URL:https://www.shrewsburyvt.org/calendar/science-book-club/2026-06-28/
LOCATION:Shrewsbury Library
END:VEVENT
END:VCALENDAR