BEGIN:VCALENDAR
VERSION:2.0
PRODID:-//Town of Shrewsbury, Vermont - ECPv6.15.20//NONSGML v1.0//EN
CALSCALE:GREGORIAN
METHOD:PUBLISH
X-ORIGINAL-URL:https://www.shrewsburyvt.org
X-WR-CALDESC:Events for Town of Shrewsbury, Vermont
REFRESH-INTERVAL;VALUE=DURATION:PT1H
X-Robots-Tag:noindex
X-PUBLISHED-TTL:PT1H
BEGIN:VTIMEZONE
TZID:UTC
BEGIN:STANDARD
TZOFFSETFROM:+0000
TZOFFSETTO:+0000
TZNAME:UTC
DTSTART:20270101T000000
END:STANDARD
END:VTIMEZONE
BEGIN:VEVENT
DTSTART;TZID=UTC:20280702T160000
DTEND;TZID=UTC:20280702T160000
DTSTAMP:20260426T002739
CREATED:20240930T132636Z
LAST-MODIFIED:20240930T132636Z
UID:10002393-1846166400-1846166400@www.shrewsburyvt.org
SUMMARY:WRITERS GROUP
DESCRIPTION:Please contact Penelope Weiss: pw9@earthlink.net \nor Joan Aleshire: joanaleshire@vermontel.net
URL:https://www.shrewsburyvt.org/calendar/writers-group-2-2-2-2-2/2028-07-02/
LOCATION:Shrewsbury Library
END:VEVENT
BEGIN:VEVENT
DTSTART;TZID=UTC:20280705T183000
DTEND;TZID=UTC:20280705T183000
DTSTAMP:20260426T002739
CREATED:20230507T171521Z
LAST-MODIFIED:20250723T182929Z
UID:10000779-1846434600-1846434600@www.shrewsburyvt.org
SUMMARY:Selectboard Meeting
DESCRIPTION:AGENDA
URL:https://www.shrewsburyvt.org/calendar/selectboard-meeting-7/2028-07-05/
LOCATION:Shrewsbury Town Office\, 9823 Cold River Rd
END:VEVENT
BEGIN:VEVENT
DTSTART;TZID=UTC:20280716T160000
DTEND;TZID=UTC:20280716T160000
DTSTAMP:20260426T002739
CREATED:20230924T222837Z
LAST-MODIFIED:20230924T222838Z
UID:10001935-1847376000-1847376000@www.shrewsburyvt.org
SUMMARY:Famous Books Club
DESCRIPTION:
URL:https://www.shrewsburyvt.org/calendar/famous-books-club-2-2-2/2028-07-16/
LOCATION:Shrewsbury Library
END:VEVENT
BEGIN:VEVENT
DTSTART;TZID=UTC:20280719T183000
DTEND;TZID=UTC:20280719T183000
DTSTAMP:20260426T002739
CREATED:20250713T224834Z
LAST-MODIFIED:20250713T224834Z
UID:10000782-1847644200-1847644200@www.shrewsburyvt.org
SUMMARY:Selectboard Meeting
DESCRIPTION:AGENDA
URL:https://www.shrewsburyvt.org/calendar/selectboard-meeting-6-26/2028-07-19/
LOCATION:Shrewsbury Town Office\, 9823 Cold River Rd
END:VEVENT
BEGIN:VEVENT
DTSTART;TZID=UTC:20280725T190000
DTEND;TZID=UTC:20280725T203000
DTSTAMP:20260426T002739
CREATED:20230908T182709Z
LAST-MODIFIED:20230908T182709Z
UID:10000959-1848164400-1848169800@www.shrewsburyvt.org
SUMMARY:Planning Commission Meeting
DESCRIPTION:AGENDA
URL:https://www.shrewsburyvt.org/calendar/planning-commission-meeting-8/2028-07-25/
LOCATION:Shrewsbury Town Office\, 9823 Cold River Rd
END:VEVENT
END:VCALENDAR