BEGIN:VCALENDAR
VERSION:2.0
PRODID:-//Town of Shrewsbury, Vermont - ECPv6.15.20//NONSGML v1.0//EN
CALSCALE:GREGORIAN
METHOD:PUBLISH
X-WR-CALNAME:Town of Shrewsbury, Vermont
X-ORIGINAL-URL:https://www.shrewsburyvt.org
X-WR-CALDESC:Events for Town of Shrewsbury, Vermont
REFRESH-INTERVAL;VALUE=DURATION:PT1H
X-Robots-Tag:noindex
X-PUBLISHED-TTL:PT1H
BEGIN:VTIMEZONE
TZID:UTC
BEGIN:STANDARD
TZOFFSETFROM:+0000
TZOFFSETTO:+0000
TZNAME:UTC
DTSTART:20250101T000000
END:STANDARD
END:VTIMEZONE
BEGIN:VEVENT
DTSTART;TZID=UTC:20260506T183000
DTEND;TZID=UTC:20260506T183000
DTSTAMP:20260423T091324
CREATED:20230507T171521Z
LAST-MODIFIED:20250723T182929Z
UID:10000202-1778092200-1778092200@www.shrewsburyvt.org
SUMMARY:Selectboard Meeting
DESCRIPTION:AGENDA
URL:https://www.shrewsburyvt.org/calendar/selectboard-meeting-7/2026-05-06/
LOCATION:Shrewsbury Town Office\, 9823 Cold River Rd
END:VEVENT
BEGIN:VEVENT
DTSTART;TZID=UTC:20260520T183000
DTEND;TZID=UTC:20260520T183000
DTSTAMP:20260423T091324
CREATED:20250713T224834Z
LAST-MODIFIED:20250713T224834Z
UID:10000083-1779301800-1779301800@www.shrewsburyvt.org
SUMMARY:Selectboard Meeting
DESCRIPTION:AGENDA
URL:https://www.shrewsburyvt.org/calendar/selectboard-meeting-6-26/2026-05-20/
LOCATION:Shrewsbury Town Office\, 9823 Cold River Rd
END:VEVENT
BEGIN:VEVENT
DTSTART;TZID=UTC:20260603T183000
DTEND;TZID=UTC:20260603T183000
DTSTAMP:20260423T091324
CREATED:20230507T171521Z
LAST-MODIFIED:20250723T182929Z
UID:10000203-1780511400-1780511400@www.shrewsburyvt.org
SUMMARY:Selectboard Meeting
DESCRIPTION:AGENDA
URL:https://www.shrewsburyvt.org/calendar/selectboard-meeting-7/2026-06-03/
LOCATION:Shrewsbury Town Office\, 9823 Cold River Rd
END:VEVENT
BEGIN:VEVENT
DTSTART;TZID=UTC:20260617T183000
DTEND;TZID=UTC:20260617T183000
DTSTAMP:20260423T091324
CREATED:20250713T224834Z
LAST-MODIFIED:20250713T224834Z
UID:10000084-1781721000-1781721000@www.shrewsburyvt.org
SUMMARY:Selectboard Meeting
DESCRIPTION:AGENDA
URL:https://www.shrewsburyvt.org/calendar/selectboard-meeting-6-26/2026-06-17/
LOCATION:Shrewsbury Town Office\, 9823 Cold River Rd
END:VEVENT
BEGIN:VEVENT
DTSTART;TZID=UTC:20260701T183000
DTEND;TZID=UTC:20260701T183000
DTSTAMP:20260423T091324
CREATED:20230507T171521Z
LAST-MODIFIED:20250723T182929Z
UID:10000204-1782930600-1782930600@www.shrewsburyvt.org
SUMMARY:Selectboard Meeting
DESCRIPTION:AGENDA
URL:https://www.shrewsburyvt.org/calendar/selectboard-meeting-7/2026-07-01/
LOCATION:Shrewsbury Town Office\, 9823 Cold River Rd
END:VEVENT
BEGIN:VEVENT
DTSTART;TZID=UTC:20260715T183000
DTEND;TZID=UTC:20260715T183000
DTSTAMP:20260423T091324
CREATED:20250713T224834Z
LAST-MODIFIED:20250713T224834Z
UID:10000085-1784140200-1784140200@www.shrewsburyvt.org
SUMMARY:Selectboard Meeting
DESCRIPTION:AGENDA
URL:https://www.shrewsburyvt.org/calendar/selectboard-meeting-6-26/2026-07-15/
LOCATION:Shrewsbury Town Office\, 9823 Cold River Rd
END:VEVENT
BEGIN:VEVENT
DTSTART;TZID=UTC:20260805T183000
DTEND;TZID=UTC:20260805T183000
DTSTAMP:20260423T091324
CREATED:20230507T171521Z
LAST-MODIFIED:20250723T182929Z
UID:10000205-1785954600-1785954600@www.shrewsburyvt.org
SUMMARY:Selectboard Meeting
DESCRIPTION:AGENDA
URL:https://www.shrewsburyvt.org/calendar/selectboard-meeting-7/2026-08-05/
LOCATION:Shrewsbury Town Office\, 9823 Cold River Rd
END:VEVENT
BEGIN:VEVENT
DTSTART;TZID=UTC:20260819T183000
DTEND;TZID=UTC:20260819T183000
DTSTAMP:20260423T091324
CREATED:20250713T224834Z
LAST-MODIFIED:20250713T224834Z
UID:10000086-1787164200-1787164200@www.shrewsburyvt.org
SUMMARY:Selectboard Meeting
DESCRIPTION:AGENDA
URL:https://www.shrewsburyvt.org/calendar/selectboard-meeting-6-26/2026-08-19/
LOCATION:Shrewsbury Town Office\, 9823 Cold River Rd
END:VEVENT
BEGIN:VEVENT
DTSTART;TZID=UTC:20260902T183000
DTEND;TZID=UTC:20260902T183000
DTSTAMP:20260423T091324
CREATED:20230507T171521Z
LAST-MODIFIED:20250723T182929Z
UID:10000206-1788373800-1788373800@www.shrewsburyvt.org
SUMMARY:Selectboard Meeting
DESCRIPTION:AGENDA
URL:https://www.shrewsburyvt.org/calendar/selectboard-meeting-7/2026-09-02/
LOCATION:Shrewsbury Town Office\, 9823 Cold River Rd
END:VEVENT
BEGIN:VEVENT
DTSTART;TZID=UTC:20260916T183000
DTEND;TZID=UTC:20260916T183000
DTSTAMP:20260423T091324
CREATED:20250713T224834Z
LAST-MODIFIED:20250713T224834Z
UID:10000087-1789583400-1789583400@www.shrewsburyvt.org
SUMMARY:Selectboard Meeting
DESCRIPTION:AGENDA
URL:https://www.shrewsburyvt.org/calendar/selectboard-meeting-6-26/2026-09-16/
LOCATION:Shrewsbury Town Office\, 9823 Cold River Rd
END:VEVENT
BEGIN:VEVENT
DTSTART;TZID=UTC:20261007T183000
DTEND;TZID=UTC:20261007T183000
DTSTAMP:20260423T091324
CREATED:20230507T171521Z
LAST-MODIFIED:20250723T182929Z
UID:10000207-1791397800-1791397800@www.shrewsburyvt.org
SUMMARY:Selectboard Meeting
DESCRIPTION:AGENDA
URL:https://www.shrewsburyvt.org/calendar/selectboard-meeting-7/2026-10-07/
LOCATION:Shrewsbury Town Office\, 9823 Cold River Rd
END:VEVENT
BEGIN:VEVENT
DTSTART;TZID=UTC:20261021T183000
DTEND;TZID=UTC:20261021T183000
DTSTAMP:20260423T091324
CREATED:20250713T224834Z
LAST-MODIFIED:20250713T224834Z
UID:10000088-1792607400-1792607400@www.shrewsburyvt.org
SUMMARY:Selectboard Meeting
DESCRIPTION:AGENDA
URL:https://www.shrewsburyvt.org/calendar/selectboard-meeting-6-26/2026-10-21/
LOCATION:Shrewsbury Town Office\, 9823 Cold River Rd
END:VEVENT
BEGIN:VEVENT
DTSTART;TZID=UTC:20261104T183000
DTEND;TZID=UTC:20261104T183000
DTSTAMP:20260423T091324
CREATED:20230507T171521Z
LAST-MODIFIED:20250723T182929Z
UID:10000208-1793817000-1793817000@www.shrewsburyvt.org
SUMMARY:Selectboard Meeting
DESCRIPTION:AGENDA
URL:https://www.shrewsburyvt.org/calendar/selectboard-meeting-7/2026-11-04/
LOCATION:Shrewsbury Town Office\, 9823 Cold River Rd
END:VEVENT
BEGIN:VEVENT
DTSTART;TZID=UTC:20261118T183000
DTEND;TZID=UTC:20261118T183000
DTSTAMP:20260423T091324
CREATED:20250713T224834Z
LAST-MODIFIED:20250713T224834Z
UID:10000089-1795026600-1795026600@www.shrewsburyvt.org
SUMMARY:Selectboard Meeting
DESCRIPTION:AGENDA
URL:https://www.shrewsburyvt.org/calendar/selectboard-meeting-6-26/2026-11-18/
LOCATION:Shrewsbury Town Office\, 9823 Cold River Rd
END:VEVENT
BEGIN:VEVENT
DTSTART;TZID=UTC:20261202T183000
DTEND;TZID=UTC:20261202T183000
DTSTAMP:20260423T091324
CREATED:20230507T171521Z
LAST-MODIFIED:20250723T182929Z
UID:10000209-1796236200-1796236200@www.shrewsburyvt.org
SUMMARY:Selectboard Meeting
DESCRIPTION:AGENDA
URL:https://www.shrewsburyvt.org/calendar/selectboard-meeting-7/2026-12-02/
LOCATION:Shrewsbury Town Office\, 9823 Cold River Rd
END:VEVENT
BEGIN:VEVENT
DTSTART;TZID=UTC:20261216T183000
DTEND;TZID=UTC:20261216T183000
DTSTAMP:20260423T091324
CREATED:20250713T224834Z
LAST-MODIFIED:20250713T224834Z
UID:10000090-1797445800-1797445800@www.shrewsburyvt.org
SUMMARY:Selectboard Meeting
DESCRIPTION:AGENDA
URL:https://www.shrewsburyvt.org/calendar/selectboard-meeting-6-26/2026-12-16/
LOCATION:Shrewsbury Town Office\, 9823 Cold River Rd
END:VEVENT
BEGIN:VEVENT
DTSTART;TZID=UTC:20270106T183000
DTEND;TZID=UTC:20270106T183000
DTSTAMP:20260423T091324
CREATED:20230507T171521Z
LAST-MODIFIED:20250723T182929Z
UID:10000210-1799260200-1799260200@www.shrewsburyvt.org
SUMMARY:Selectboard Meeting
DESCRIPTION:AGENDA
URL:https://www.shrewsburyvt.org/calendar/selectboard-meeting-7/2027-01-06/
LOCATION:Shrewsbury Town Office\, 9823 Cold River Rd
END:VEVENT
BEGIN:VEVENT
DTSTART;TZID=UTC:20270120T183000
DTEND;TZID=UTC:20270120T183000
DTSTAMP:20260423T091324
CREATED:20250713T224834Z
LAST-MODIFIED:20250713T224834Z
UID:10000091-1800469800-1800469800@www.shrewsburyvt.org
SUMMARY:Selectboard Meeting
DESCRIPTION:AGENDA
URL:https://www.shrewsburyvt.org/calendar/selectboard-meeting-6-26/2027-01-20/
LOCATION:Shrewsbury Town Office\, 9823 Cold River Rd
END:VEVENT
BEGIN:VEVENT
DTSTART;TZID=UTC:20270203T183000
DTEND;TZID=UTC:20270203T183000
DTSTAMP:20260423T091324
CREATED:20230507T171521Z
LAST-MODIFIED:20250723T182929Z
UID:10000211-1801679400-1801679400@www.shrewsburyvt.org
SUMMARY:Selectboard Meeting
DESCRIPTION:AGENDA
URL:https://www.shrewsburyvt.org/calendar/selectboard-meeting-7/2027-02-03/
LOCATION:Shrewsbury Town Office\, 9823 Cold River Rd
END:VEVENT
BEGIN:VEVENT
DTSTART;TZID=UTC:20270217T183000
DTEND;TZID=UTC:20270217T183000
DTSTAMP:20260423T091324
CREATED:20250713T224834Z
LAST-MODIFIED:20250713T224834Z
UID:10000092-1802889000-1802889000@www.shrewsburyvt.org
SUMMARY:Selectboard Meeting
DESCRIPTION:AGENDA
URL:https://www.shrewsburyvt.org/calendar/selectboard-meeting-6-26/2027-02-17/
LOCATION:Shrewsbury Town Office\, 9823 Cold River Rd
END:VEVENT
BEGIN:VEVENT
DTSTART;TZID=UTC:20270303T183000
DTEND;TZID=UTC:20270303T183000
DTSTAMP:20260423T091324
CREATED:20230507T171521Z
LAST-MODIFIED:20250723T182929Z
UID:10000212-1804098600-1804098600@www.shrewsburyvt.org
SUMMARY:Selectboard Meeting
DESCRIPTION:AGENDA
URL:https://www.shrewsburyvt.org/calendar/selectboard-meeting-7/2027-03-03/
LOCATION:Shrewsbury Town Office\, 9823 Cold River Rd
END:VEVENT
BEGIN:VEVENT
DTSTART;TZID=UTC:20270317T183000
DTEND;TZID=UTC:20270317T183000
DTSTAMP:20260423T091324
CREATED:20250713T224834Z
LAST-MODIFIED:20250713T224834Z
UID:10000093-1805308200-1805308200@www.shrewsburyvt.org
SUMMARY:Selectboard Meeting
DESCRIPTION:AGENDA
URL:https://www.shrewsburyvt.org/calendar/selectboard-meeting-6-26/2027-03-17/
LOCATION:Shrewsbury Town Office\, 9823 Cold River Rd
END:VEVENT
BEGIN:VEVENT
DTSTART;TZID=UTC:20270407T183000
DTEND;TZID=UTC:20270407T183000
DTSTAMP:20260423T091324
CREATED:20230507T171521Z
LAST-MODIFIED:20250723T182929Z
UID:10000213-1807122600-1807122600@www.shrewsburyvt.org
SUMMARY:Selectboard Meeting
DESCRIPTION:AGENDA
URL:https://www.shrewsburyvt.org/calendar/selectboard-meeting-7/2027-04-07/
LOCATION:Shrewsbury Town Office\, 9823 Cold River Rd
END:VEVENT
BEGIN:VEVENT
DTSTART;TZID=UTC:20270421T183000
DTEND;TZID=UTC:20270421T183000
DTSTAMP:20260423T091324
CREATED:20250713T224834Z
LAST-MODIFIED:20250713T224834Z
UID:10000094-1808332200-1808332200@www.shrewsburyvt.org
SUMMARY:Selectboard Meeting
DESCRIPTION:AGENDA
URL:https://www.shrewsburyvt.org/calendar/selectboard-meeting-6-26/2027-04-21/
LOCATION:Shrewsbury Town Office\, 9823 Cold River Rd
END:VEVENT
BEGIN:VEVENT
DTSTART;TZID=UTC:20270505T183000
DTEND;TZID=UTC:20270505T183000
DTSTAMP:20260423T091324
CREATED:20230507T171521Z
LAST-MODIFIED:20250723T182929Z
UID:10000214-1809541800-1809541800@www.shrewsburyvt.org
SUMMARY:Selectboard Meeting
DESCRIPTION:AGENDA
URL:https://www.shrewsburyvt.org/calendar/selectboard-meeting-7/2027-05-05/
LOCATION:Shrewsbury Town Office\, 9823 Cold River Rd
END:VEVENT
BEGIN:VEVENT
DTSTART;TZID=UTC:20270519T183000
DTEND;TZID=UTC:20270519T183000
DTSTAMP:20260423T091324
CREATED:20250713T224834Z
LAST-MODIFIED:20250713T224834Z
UID:10000095-1810751400-1810751400@www.shrewsburyvt.org
SUMMARY:Selectboard Meeting
DESCRIPTION:AGENDA
URL:https://www.shrewsburyvt.org/calendar/selectboard-meeting-6-26/2027-05-19/
LOCATION:Shrewsbury Town Office\, 9823 Cold River Rd
END:VEVENT
BEGIN:VEVENT
DTSTART;TZID=UTC:20270602T183000
DTEND;TZID=UTC:20270602T183000
DTSTAMP:20260423T091324
CREATED:20230507T171521Z
LAST-MODIFIED:20250723T182929Z
UID:10000215-1811961000-1811961000@www.shrewsburyvt.org
SUMMARY:Selectboard Meeting
DESCRIPTION:AGENDA
URL:https://www.shrewsburyvt.org/calendar/selectboard-meeting-7/2027-06-02/
LOCATION:Shrewsbury Town Office\, 9823 Cold River Rd
END:VEVENT
BEGIN:VEVENT
DTSTART;TZID=UTC:20270616T183000
DTEND;TZID=UTC:20270616T183000
DTSTAMP:20260423T091324
CREATED:20250713T224834Z
LAST-MODIFIED:20250713T224834Z
UID:10000096-1813170600-1813170600@www.shrewsburyvt.org
SUMMARY:Selectboard Meeting
DESCRIPTION:AGENDA
URL:https://www.shrewsburyvt.org/calendar/selectboard-meeting-6-26/2027-06-16/
LOCATION:Shrewsbury Town Office\, 9823 Cold River Rd
END:VEVENT
BEGIN:VEVENT
DTSTART;TZID=UTC:20270707T183000
DTEND;TZID=UTC:20270707T183000
DTSTAMP:20260423T091324
CREATED:20230507T171521Z
LAST-MODIFIED:20250723T182929Z
UID:10000216-1814985000-1814985000@www.shrewsburyvt.org
SUMMARY:Selectboard Meeting
DESCRIPTION:AGENDA
URL:https://www.shrewsburyvt.org/calendar/selectboard-meeting-7/2027-07-07/
LOCATION:Shrewsbury Town Office\, 9823 Cold River Rd
END:VEVENT
BEGIN:VEVENT
DTSTART;TZID=UTC:20270721T183000
DTEND;TZID=UTC:20270721T183000
DTSTAMP:20260423T091324
CREATED:20250713T224834Z
LAST-MODIFIED:20250713T224834Z
UID:10000097-1816194600-1816194600@www.shrewsburyvt.org
SUMMARY:Selectboard Meeting
DESCRIPTION:AGENDA
URL:https://www.shrewsburyvt.org/calendar/selectboard-meeting-6-26/2027-07-21/
LOCATION:Shrewsbury Town Office\, 9823 Cold River Rd
END:VEVENT
END:VCALENDAR