BEGIN:VCALENDAR
VERSION:2.0
PRODID:-//Town of Shrewsbury, Vermont - ECPv6.15.20//NONSGML v1.0//EN
CALSCALE:GREGORIAN
METHOD:PUBLISH
X-WR-CALNAME:Town of Shrewsbury, Vermont
X-ORIGINAL-URL:https://www.shrewsburyvt.org
X-WR-CALDESC:Events for Town of Shrewsbury, Vermont
REFRESH-INTERVAL;VALUE=DURATION:PT1H
X-Robots-Tag:noindex
X-PUBLISHED-TTL:PT1H
BEGIN:VTIMEZONE
TZID:America/New_York
BEGIN:DAYLIGHT
TZOFFSETFROM:-0500
TZOFFSETTO:-0400
TZNAME:EDT
DTSTART:20240310T070000
END:DAYLIGHT
BEGIN:STANDARD
TZOFFSETFROM:-0400
TZOFFSETTO:-0500
TZNAME:EST
DTSTART:20241103T060000
END:STANDARD
BEGIN:DAYLIGHT
TZOFFSETFROM:-0500
TZOFFSETTO:-0400
TZNAME:EDT
DTSTART:20250309T070000
END:DAYLIGHT
BEGIN:STANDARD
TZOFFSETFROM:-0400
TZOFFSETTO:-0500
TZNAME:EST
DTSTART:20251102T060000
END:STANDARD
BEGIN:DAYLIGHT
TZOFFSETFROM:-0500
TZOFFSETTO:-0400
TZNAME:EDT
DTSTART:20260308T070000
END:DAYLIGHT
BEGIN:STANDARD
TZOFFSETFROM:-0400
TZOFFSETTO:-0500
TZNAME:EST
DTSTART:20261101T060000
END:STANDARD
END:VTIMEZONE
BEGIN:VTIMEZONE
TZID:UTC
BEGIN:STANDARD
TZOFFSETFROM:+0000
TZOFFSETTO:+0000
TZNAME:UTC
DTSTART:20240101T000000
END:STANDARD
END:VTIMEZONE
BEGIN:VEVENT
DTSTART;TZID=America/New_York:20251104T171500
DTEND;TZID=America/New_York:20251104T171500
DTSTAMP:20260423T203902
CREATED:20251008T140844Z
LAST-MODIFIED:20251008T140920Z
UID:10002522-1762276500-1762276500@www.shrewsburyvt.org
SUMMARY:Conservation Commission Meeting
DESCRIPTION:
URL:https://www.shrewsburyvt.org/calendar/conservation-commission-meeting-7/2025-11-04/
LOCATION:450 Frank Lord Road\, 450 Frank Lord Road\, Shrewsbury\, VT\, United States
END:VEVENT
BEGIN:VEVENT
DTSTART;TZID=America/New_York:20251007T171500
DTEND;TZID=America/New_York:20251007T171500
DTSTAMP:20260423T203902
CREATED:20251008T140844Z
LAST-MODIFIED:20251008T140920Z
UID:10002521-1759857300-1759857300@www.shrewsburyvt.org
SUMMARY:Conservation Commission Meeting
DESCRIPTION:
URL:https://www.shrewsburyvt.org/calendar/conservation-commission-meeting-7/2025-10-07/
LOCATION:450 Frank Lord Road\, 450 Frank Lord Road\, Shrewsbury\, VT\, United States
END:VEVENT
BEGIN:VEVENT
DTSTART;TZID=America/New_York:20250902T171500
DTEND;TZID=America/New_York:20250902T171500
DTSTAMP:20260423T203902
CREATED:20250829T125634Z
LAST-MODIFIED:20250829T125634Z
UID:10002516-1756833300-1756833300@www.shrewsburyvt.org
SUMMARY:Conservation Commission Meeting
DESCRIPTION:SCC Agenda 9-2-25
URL:https://www.shrewsburyvt.org/calendar/conservation-commission-meeting-6/
LOCATION:450 Frank Lord Road\, 450 Frank Lord Road\, Shrewsbury\, VT\, United States
END:VEVENT
BEGIN:VEVENT
DTSTART;TZID=America/New_York:20250805T171500
DTEND;TZID=America/New_York:20250805T171500
DTSTAMP:20260423T203902
CREATED:20250801T191234Z
LAST-MODIFIED:20250801T191403Z
UID:10002511-1754414100-1754414100@www.shrewsburyvt.org
SUMMARY:Conservation Commission Meeting
DESCRIPTION:
URL:https://www.shrewsburyvt.org/calendar/conservation-commission-meeting-5/
LOCATION:450 Frank Lord Road\, 450 Frank Lord Road\, Shrewsbury\, VT\, United States
END:VEVENT
BEGIN:VEVENT
DTSTART;TZID=UTC:20250506T171500
DTEND;TZID=UTC:20250506T171500
DTSTAMP:20260423T203902
CREATED:20250502T150323Z
LAST-MODIFIED:20250502T150323Z
UID:10002500-1746551700-1746551700@www.shrewsburyvt.org
SUMMARY:Conservation Commission Meeting - virtual only
DESCRIPTION:AGENDA \n(to request to attend this virtual meeting\, contact Conservation Commission 48 hours prior to meeting)
URL:https://www.shrewsburyvt.org/calendar/conservation-commission-meeting-virtual-only-5/
END:VEVENT
BEGIN:VEVENT
DTSTART;TZID=UTC:20250401T171500
DTEND;TZID=UTC:20250401T171500
DTSTAMP:20260423T203902
CREATED:20250327T154146Z
LAST-MODIFIED:20250327T154146Z
UID:10002486-1743527700-1743527700@www.shrewsburyvt.org
SUMMARY:Conservation Commission Meeting - virtual only
DESCRIPTION:AGENDA \n(to request to attend this virtual meeting\, contact Conservation Commission 48 hours prior to meeting)
URL:https://www.shrewsburyvt.org/calendar/conservation-commission-meeting-virtual-only-4/
END:VEVENT
END:VCALENDAR