BEGIN:VCALENDAR
VERSION:2.0
PRODID:-//Town of Shrewsbury, Vermont - ECPv6.15.20//NONSGML v1.0//EN
CALSCALE:GREGORIAN
METHOD:PUBLISH
X-ORIGINAL-URL:https://www.shrewsburyvt.org
X-WR-CALDESC:Events for Town of Shrewsbury, Vermont
REFRESH-INTERVAL;VALUE=DURATION:PT1H
X-Robots-Tag:noindex
X-PUBLISHED-TTL:PT1H
BEGIN:VTIMEZONE
TZID:UTC
BEGIN:STANDARD
TZOFFSETFROM:+0000
TZOFFSETTO:+0000
TZNAME:UTC
DTSTART:20220101T000000
END:STANDARD
END:VTIMEZONE
BEGIN:VEVENT
DTSTART;TZID=UTC:20231104T110000
DTEND;TZID=UTC:20231104T110000
DTSTAMP:20260424T032843
CREATED:20231025T185025Z
LAST-MODIFIED:20231025T185025Z
UID:10002064-1699095600-1699095600@www.shrewsburyvt.org
SUMMARY:Library Event - Story Hour
DESCRIPTION:Saturday\, November 4 @  11 am: STORY HOUR. We’ll suspend sessions after this\, and re-group after the holidays!
URL:https://www.shrewsburyvt.org/calendar/library-event-story-hour/
LOCATION:Shrewsbury Library
END:VEVENT
BEGIN:VEVENT
DTSTART;TZID=UTC:20231027T170000
DTEND;TZID=UTC:20231027T170000
DTSTAMP:20260424T032843
CREATED:20230924T222343Z
LAST-MODIFIED:20230924T222720Z
UID:10001878-1698426000-1698426000@www.shrewsburyvt.org
SUMMARY:THE HAUNTED LIBRARY
DESCRIPTION:Friday\, October 27 @ 5 pm: THE HAUNTED LIBRARY. Please see ad in Times of Shrewsbury for details\, and prepare to be scared!
URL:https://www.shrewsburyvt.org/calendar/the-haunted-library/
LOCATION:Shrewsbury Library
END:VEVENT
BEGIN:VEVENT
DTSTART;TZID=UTC:20230923T090000
DTEND;TZID=UTC:20231014T090000
DTSTAMP:20260424T032843
CREATED:20230825T010321Z
LAST-MODIFIED:20230923T181107Z
UID:10000784-1695459600-1697274000@www.shrewsburyvt.org
SUMMARY:LIBRARY BOOK SALE!
DESCRIPTION:Saturday\, September 23rd @ 9 am: The LIBRARY BOOK SALE begins\, and lasts two weeks\, on the honor system! We’re OPEN FOR DONATIONS starting SEPTEMBER 1; \nPlease put your books and DVDs in the boxes on  the tables under the tent —- NOT on the ground\, or on the Library porch!! We accept books in good condition only\, no moldy or torn items\, \nand NO ENCYCLOPEDIAS OR MAGAZINES\, PLEASE!  – Take those to the Transfer Station!
URL:https://www.shrewsburyvt.org/calendar/library-book-sale/
LOCATION:Shrewsbury Library
END:VEVENT
BEGIN:VEVENT
DTSTART;TZID=UTC:20230723T140000
DTEND;TZID=UTC:20230723T173000
DTSTAMP:20260424T032843
CREATED:20230624T182927Z
LAST-MODIFIED:20230713T164636Z
UID:10000655-1690120800-1690133400@www.shrewsburyvt.org
SUMMARY:FARM BOY: a film by VT filmmaker George Woodard.
DESCRIPTION:Note Time Change: \n\nSunday\, July 23 @ 2:00 pm: FARM BOY: a film by VT filmmaker George Woodard. This evocation of Vermont farm life during WWII stars Woodard’s son and a local cast. It’s 3 hours long; there will be an intermission and refreshments!
URL:https://www.shrewsburyvt.org/calendar/farm-boy-a-film-by-vt-filmmaker-george-woodard/
LOCATION:Shrewsbury Library
END:VEVENT
BEGIN:VEVENT
DTSTART;TZID=UTC:20230701T150000
DTEND;TZID=UTC:20230701T150000
DTSTAMP:20260424T032843
CREATED:20230624T182251Z
LAST-MODIFIED:20230624T182251Z
UID:10000653-1688223600-1688223600@www.shrewsburyvt.org
SUMMARY:'OMA' - SANDGLASS PUPPET THEATER
DESCRIPTION:Saturday\, July 1 @ 3 pm @ THE RUSSELLVILLE SCHOOLHOUSE: SANDGLASS PUPPET THEATER presents “OMA\,” co-sponsored with SAGE
URL:https://www.shrewsburyvt.org/calendar/oma-sandglass-puppet-theater/
LOCATION:Russelville Schoolhouse
END:VEVENT
END:VCALENDAR