BEGIN:VCALENDAR
VERSION:2.0
PRODID:-//Town of Shrewsbury, Vermont - ECPv6.15.20//NONSGML v1.0//EN
CALSCALE:GREGORIAN
METHOD:PUBLISH
X-WR-CALNAME:Town of Shrewsbury, Vermont
X-ORIGINAL-URL:https://www.shrewsburyvt.org
X-WR-CALDESC:Events for Town of Shrewsbury, Vermont
REFRESH-INTERVAL;VALUE=DURATION:PT1H
X-Robots-Tag:noindex
X-PUBLISHED-TTL:PT1H
BEGIN:VTIMEZONE
TZID:America/New_York
BEGIN:DAYLIGHT
TZOFFSETFROM:-0500
TZOFFSETTO:-0400
TZNAME:EDT
DTSTART:20230312T070000
END:DAYLIGHT
BEGIN:STANDARD
TZOFFSETFROM:-0400
TZOFFSETTO:-0500
TZNAME:EST
DTSTART:20231105T060000
END:STANDARD
BEGIN:DAYLIGHT
TZOFFSETFROM:-0500
TZOFFSETTO:-0400
TZNAME:EDT
DTSTART:20240310T070000
END:DAYLIGHT
BEGIN:STANDARD
TZOFFSETFROM:-0400
TZOFFSETTO:-0500
TZNAME:EST
DTSTART:20241103T060000
END:STANDARD
BEGIN:DAYLIGHT
TZOFFSETFROM:-0500
TZOFFSETTO:-0400
TZNAME:EDT
DTSTART:20250309T070000
END:DAYLIGHT
BEGIN:STANDARD
TZOFFSETFROM:-0400
TZOFFSETTO:-0500
TZNAME:EST
DTSTART:20251102T060000
END:STANDARD
BEGIN:DAYLIGHT
TZOFFSETFROM:-0500
TZOFFSETTO:-0400
TZNAME:EDT
DTSTART:20260308T070000
END:DAYLIGHT
BEGIN:STANDARD
TZOFFSETFROM:-0400
TZOFFSETTO:-0500
TZNAME:EST
DTSTART:20261101T060000
END:STANDARD
BEGIN:DAYLIGHT
TZOFFSETFROM:-0500
TZOFFSETTO:-0400
TZNAME:EDT
DTSTART:20270314T070000
END:DAYLIGHT
BEGIN:STANDARD
TZOFFSETFROM:-0400
TZOFFSETTO:-0500
TZNAME:EST
DTSTART:20271107T060000
END:STANDARD
END:VTIMEZONE
BEGIN:VTIMEZONE
TZID:UTC
BEGIN:STANDARD
TZOFFSETFROM:+0000
TZOFFSETTO:+0000
TZNAME:UTC
DTSTART:20230101T000000
END:STANDARD
END:VTIMEZONE
BEGIN:VEVENT
DTSTART;TZID=America/New_York:20260414T190000
DTEND;TZID=America/New_York:20260414T203000
DTSTAMP:20260423T125921
CREATED:20260414T115525Z
LAST-MODIFIED:20260414T115525Z
UID:10002567-1776193200-1776198600@www.shrewsburyvt.org
SUMMARY:Planning Commission Meeting - CANCELLED
DESCRIPTION:
URL:https://www.shrewsburyvt.org/calendar/planning-commission-meeting-cancelled/
LOCATION:Shrewsbury Town Office\, 9823 Cold River Rd
END:VEVENT
BEGIN:VEVENT
DTSTART;TZID=America/New_York:20260414T190000
DTEND;TZID=America/New_York:20260414T203000
DTSTAMP:20260423T125921
CREATED:20250109T195455Z
LAST-MODIFIED:20250306T222500Z
UID:10002451-1776193200-1776198600@www.shrewsburyvt.org
SUMMARY:Planning Commission Meeting
DESCRIPTION:AGENDA
URL:https://www.shrewsburyvt.org/calendar/planning-commission-meeting-9/2026-04-14/
LOCATION:Shrewsbury Town Office\, 9823 Cold River Rd
END:VEVENT
BEGIN:VEVENT
DTSTART;TZID=America/New_York:20260310T190000
DTEND;TZID=America/New_York:20260310T203000
DTSTAMP:20260423T125921
CREATED:20250109T195455Z
LAST-MODIFIED:20250306T222500Z
UID:10002450-1773169200-1773174600@www.shrewsburyvt.org
SUMMARY:Planning Commission Meeting
DESCRIPTION:AGENDA
URL:https://www.shrewsburyvt.org/calendar/planning-commission-meeting-9/2026-03-10/
LOCATION:Shrewsbury Town Office\, 9823 Cold River Rd
END:VEVENT
BEGIN:VEVENT
DTSTART;TZID=America/New_York:20260210T190000
DTEND;TZID=America/New_York:20260210T203000
DTSTAMP:20260423T125921
CREATED:20250109T195455Z
LAST-MODIFIED:20250306T222500Z
UID:10002449-1770750000-1770755400@www.shrewsburyvt.org
SUMMARY:Planning Commission Meeting
DESCRIPTION:AGENDA
URL:https://www.shrewsburyvt.org/calendar/planning-commission-meeting-9/2026-02-10/
LOCATION:Shrewsbury Town Office\, 9823 Cold River Rd
END:VEVENT
BEGIN:VEVENT
DTSTART;TZID=America/New_York:20260113T190000
DTEND;TZID=America/New_York:20260113T203000
DTSTAMP:20260423T125921
CREATED:20251229T214340Z
LAST-MODIFIED:20251229T214340Z
UID:10002448-1768330800-1768336200@www.shrewsburyvt.org
SUMMARY:Planning Commission Meeting - CANCELLED
DESCRIPTION:
URL:https://www.shrewsburyvt.org/calendar/planning-commission-meeting-9-7/
LOCATION:Shrewsbury Town Office\, 9823 Cold River Rd
END:VEVENT
BEGIN:VEVENT
DTSTART;TZID=America/New_York:20251209T190000
DTEND;TZID=America/New_York:20251209T203000
DTSTAMP:20260423T125921
CREATED:20250109T195455Z
LAST-MODIFIED:20250306T222500Z
UID:10002447-1765306800-1765312200@www.shrewsburyvt.org
SUMMARY:Planning Commission Meeting
DESCRIPTION:AGENDA
URL:https://www.shrewsburyvt.org/calendar/planning-commission-meeting-9/2025-12-09/
LOCATION:Shrewsbury Town Office\, 9823 Cold River Rd
END:VEVENT
BEGIN:VEVENT
DTSTART;TZID=America/New_York:20251111T190000
DTEND;TZID=America/New_York:20251111T203000
DTSTAMP:20260423T125921
CREATED:20251111T212926Z
LAST-MODIFIED:20251111T212935Z
UID:10002446-1762887600-1762893000@www.shrewsburyvt.org
SUMMARY:Planning Commission Meeting - CANCELLED
DESCRIPTION:AGENDA
URL:https://www.shrewsburyvt.org/calendar/planning-commission-meeting-9-6/
LOCATION:Shrewsbury Town Office\, 9823 Cold River Rd
END:VEVENT
BEGIN:VEVENT
DTSTART;TZID=America/New_York:20251014T190000
DTEND;TZID=America/New_York:20251014T203000
DTSTAMP:20260423T125921
CREATED:20250109T195455Z
LAST-MODIFIED:20250306T222500Z
UID:10002445-1760468400-1760473800@www.shrewsburyvt.org
SUMMARY:Planning Commission Meeting
DESCRIPTION:AGENDA
URL:https://www.shrewsburyvt.org/calendar/planning-commission-meeting-9/2025-10-14/
LOCATION:Shrewsbury Town Office\, 9823 Cold River Rd
END:VEVENT
BEGIN:VEVENT
DTSTART;TZID=America/New_York:20250909T190000
DTEND;TZID=America/New_York:20250909T203000
DTSTAMP:20260423T125921
CREATED:20250109T195455Z
LAST-MODIFIED:20250306T222500Z
UID:10002444-1757444400-1757449800@www.shrewsburyvt.org
SUMMARY:Planning Commission Meeting
DESCRIPTION:AGENDA
URL:https://www.shrewsburyvt.org/calendar/planning-commission-meeting-9/2025-09-09/
LOCATION:Shrewsbury Town Office\, 9823 Cold River Rd
END:VEVENT
BEGIN:VEVENT
DTSTART;TZID=America/New_York:20250610T190000
DTEND;TZID=America/New_York:20250610T203000
DTSTAMP:20260423T125921
CREATED:20250109T195455Z
LAST-MODIFIED:20250306T222500Z
UID:10002443-1749582000-1749587400@www.shrewsburyvt.org
SUMMARY:Planning Commission Meeting
DESCRIPTION:AGENDA
URL:https://www.shrewsburyvt.org/calendar/planning-commission-meeting-9/2025-06-10/
LOCATION:Shrewsbury Town Office\, 9823 Cold River Rd
END:VEVENT
BEGIN:VEVENT
DTSTART;TZID=America/New_York:20250513T190000
DTEND;TZID=America/New_York:20250513T203000
DTSTAMP:20260423T125921
CREATED:20250109T195455Z
LAST-MODIFIED:20250306T222500Z
UID:10002442-1747162800-1747168200@www.shrewsburyvt.org
SUMMARY:Planning Commission Meeting
DESCRIPTION:AGENDA
URL:https://www.shrewsburyvt.org/calendar/planning-commission-meeting-9/2025-05-13/
LOCATION:Shrewsbury Town Office\, 9823 Cold River Rd
END:VEVENT
BEGIN:VEVENT
DTSTART;TZID=America/New_York:20250408T190000
DTEND;TZID=America/New_York:20250408T203000
DTSTAMP:20260423T125921
CREATED:20250404T132207Z
LAST-MODIFIED:20250404T132213Z
UID:10002441-1744138800-1744144200@www.shrewsburyvt.org
SUMMARY:Planning Commission Meeting - Informal Only
DESCRIPTION:There will not be an official meeting on 4-8-25 due to no quorum \nNOTICE
URL:https://www.shrewsburyvt.org/calendar/planning-commission-meeting-9-5/
LOCATION:Shrewsbury Town Office\, 9823 Cold River Rd
END:VEVENT
BEGIN:VEVENT
DTSTART;TZID=America/New_York:20250311T190000
DTEND;TZID=America/New_York:20250311T203000
DTSTAMP:20260423T125921
CREATED:20250306T223016Z
LAST-MODIFIED:20250306T223023Z
UID:10002440-1741719600-1741725000@www.shrewsburyvt.org
SUMMARY:Planning Commission Meeting
DESCRIPTION:AGENDA
URL:https://www.shrewsburyvt.org/calendar/planning-commission-meeting-9-4/
LOCATION:Shrewsbury Town Office\, 9823 Cold River Rd
END:VEVENT
BEGIN:VEVENT
DTSTART;TZID=America/New_York:20250211T190000
DTEND;TZID=America/New_York:20250211T203000
DTSTAMP:20260423T125921
CREATED:20250207T130254Z
LAST-MODIFIED:20250207T130310Z
UID:10002439-1739300400-1739305800@www.shrewsburyvt.org
SUMMARY:Planning Commission Meeting
DESCRIPTION:AGENDA
URL:https://www.shrewsburyvt.org/calendar/planning-commission-meeting-9-3/
LOCATION:Shrewsbury Town Office\, 9823 Cold River Rd
END:VEVENT
BEGIN:VEVENT
DTSTART;TZID=America/New_York:20250114T190000
DTEND;TZID=America/New_York:20250114T203000
DTSTAMP:20260423T125921
CREATED:20250109T205210Z
LAST-MODIFIED:20250109T205211Z
UID:10002438-1736881200-1736886600@www.shrewsburyvt.org
SUMMARY:Planning Commission Meeting
DESCRIPTION:AGENDA
URL:https://www.shrewsburyvt.org/calendar/planning-commission-meeting-9-2/
LOCATION:Shrewsbury Town Office\, 9823 Cold River Rd
END:VEVENT
BEGIN:VEVENT
DTSTART;TZID=UTC:20241210T190000
DTEND;TZID=UTC:20241210T203000
DTSTAMP:20260423T125921
CREATED:20240908T134151Z
LAST-MODIFIED:20241206T144611Z
UID:10002271-1733857200-1733862600@www.shrewsburyvt.org
SUMMARY:Planning Commission Meeting
DESCRIPTION:AGENDA
URL:https://www.shrewsburyvt.org/calendar/planning-commission-meeting-7-10-2/
LOCATION:Shrewsbury Town Office\, 9823 Cold River Rd
END:VEVENT
BEGIN:VEVENT
DTSTART;TZID=America/New_York:20240427T150000
DTEND;TZID=America/New_York:20240427T170000
DTSTAMP:20260423T125921
CREATED:20240211T184657Z
LAST-MODIFIED:20240229T224832Z
UID:10002088-1714230000-1714237200@www.shrewsburyvt.org
SUMMARY:Community Values Mapping Event 3-5pm
DESCRIPTION:The Shrewsbury Planning Commission invites all townspeople to the Community Values Mapping Event.  This event will gather data about special town landmarks\, historical places\, events like the concert series\, or even land that Shrewsberries feel passionate about. This event will be a wonderful way for the Planning Commission to get individual town members’ input and will present visualization as our town maps fill up with your markings.  The information will then be digitized into GIS. \nlink to Flyer
URL:https://www.shrewsburyvt.org/calendar/community-values-mapping-event-3-5pm/
LOCATION:Community Meeting House\, 88 Lottery Rd
END:VEVENT
END:VCALENDAR