BEGIN:VCALENDAR
VERSION:2.0
PRODID:-//Town of Shrewsbury, Vermont - ECPv6.15.20//NONSGML v1.0//EN
CALSCALE:GREGORIAN
METHOD:PUBLISH
X-WR-CALNAME:Town of Shrewsbury, Vermont
X-ORIGINAL-URL:https://www.shrewsburyvt.org
X-WR-CALDESC:Events for Town of Shrewsbury, Vermont
REFRESH-INTERVAL;VALUE=DURATION:PT1H
X-Robots-Tag:noindex
X-PUBLISHED-TTL:PT1H
BEGIN:VTIMEZONE
TZID:UTC
BEGIN:STANDARD
TZOFFSETFROM:+0000
TZOFFSETTO:+0000
TZNAME:UTC
DTSTART:20220101T000000
END:STANDARD
END:VTIMEZONE
BEGIN:VEVENT
DTSTART;TZID=UTC:20230423T190000
DTEND;TZID=UTC:20230423T190000
DTSTAMP:20260425T101915
CREATED:20230228T225508Z
LAST-MODIFIED:20230520T185638Z
UID:10000528-1682276400-1682276400@www.shrewsburyvt.org
SUMMARY:Science Book Club
DESCRIPTION:Contact Margery Salmon (salmonm@vermontel.net)
URL:https://www.shrewsburyvt.org/calendar/science-book-club/2023-04-23/
LOCATION:Shrewsbury Library
END:VEVENT
BEGIN:VEVENT
DTSTART;TZID=UTC:20230423T160000
DTEND;TZID=UTC:20230423T160000
DTSTAMP:20260425T101915
CREATED:20230401T021137Z
LAST-MODIFIED:20230401T021137Z
UID:10000038-1682265600-1682265600@www.shrewsburyvt.org
SUMMARY:Science Book Club
DESCRIPTION:
URL:https://www.shrewsburyvt.org/calendar/science-book-club-2/
LOCATION:Shrewsbury Library
END:VEVENT
BEGIN:VEVENT
DTSTART;TZID=UTC:20230421T190000
DTEND;TZID=UTC:20230421T190000
DTSTAMP:20260425T101915
CREATED:20230401T021052Z
LAST-MODIFIED:20230401T021052Z
UID:10000037-1682103600-1682103600@www.shrewsburyvt.org
SUMMARY:The Impact of Plastics on Our Environment - presentation
DESCRIPTION:
URL:https://www.shrewsburyvt.org/calendar/the-impact-of-plastics-on-our-environment-presentation/
LOCATION:Shrewsbury Library
END:VEVENT
BEGIN:VEVENT
DTSTART;TZID=UTC:20230416T160000
DTEND;TZID=UTC:20230416T160000
DTSTAMP:20260425T101915
CREATED:20230401T020943Z
LAST-MODIFIED:20230520T185353Z
UID:10000036-1681660800-1681660800@www.shrewsburyvt.org
SUMMARY:Famous Books Club
DESCRIPTION:
URL:https://www.shrewsburyvt.org/calendar/famous-books-club-2/2023-04-16/
LOCATION:Shrewsbury Library
END:VEVENT
BEGIN:VEVENT
DTSTART;TZID=UTC:20230402T153000
DTEND;TZID=UTC:20230402T153000
DTSTAMP:20260425T101915
CREATED:20230401T020444Z
LAST-MODIFIED:20230520T190817Z
UID:10000034-1680449400-1680449400@www.shrewsburyvt.org
SUMMARY:Writers Group
DESCRIPTION:Please contact Penelope Weiss: pw9@earthlink.net \nor Joan Aleshire: joanaleshire@vermontel.net
URL:https://www.shrewsburyvt.org/calendar/writers-group-2/2023-04-02/
LOCATION:Shrewsbury Library
END:VEVENT
BEGIN:VEVENT
DTSTART;TZID=UTC:20230331T190000
DTEND;TZID=UTC:20230331T203000
DTSTAMP:20260425T101915
CREATED:20230228T225654Z
LAST-MODIFIED:20230228T225654Z
UID:10000017-1680289200-1680294600@www.shrewsburyvt.org
SUMMARY:Mid-Winter Trip to Yellowstone program
DESCRIPTION:
URL:https://www.shrewsburyvt.org/calendar/mid-winter-trip-to-yellowstone-program/
LOCATION:Shrewsbury Library
END:VEVENT
BEGIN:VEVENT
DTSTART;TZID=UTC:20230326T190000
DTEND;TZID=UTC:20230326T190000
DTSTAMP:20260425T101915
CREATED:20230228T225508Z
LAST-MODIFIED:20230520T185638Z
UID:10000527-1679857200-1679857200@www.shrewsburyvt.org
SUMMARY:Science Book Club
DESCRIPTION:Contact Margery Salmon (salmonm@vermontel.net)
URL:https://www.shrewsburyvt.org/calendar/science-book-club/2023-03-26/
LOCATION:Shrewsbury Library
END:VEVENT
BEGIN:VEVENT
DTSTART;TZID=UTC:20230319T160000
DTEND;TZID=UTC:20230319T170000
DTSTAMP:20260425T101915
CREATED:20230224T202808Z
LAST-MODIFIED:20230224T202808Z
UID:10000009-1679241600-1679245200@www.shrewsburyvt.org
SUMMARY:Famous Books Club
DESCRIPTION:
URL:https://www.shrewsburyvt.org/calendar/famous-books-club/
LOCATION:Shrewsbury Library
END:VEVENT
BEGIN:VEVENT
DTSTART;TZID=UTC:20230312T153000
DTEND;TZID=UTC:20230312T170000
DTSTAMP:20260425T101915
CREATED:20230224T202704Z
LAST-MODIFIED:20230224T202704Z
UID:10000008-1678635000-1678640400@www.shrewsburyvt.org
SUMMARY:Writer's Group
DESCRIPTION:
URL:https://www.shrewsburyvt.org/calendar/writers-group/
LOCATION:Shrewsbury Library
END:VEVENT
END:VCALENDAR