BEGIN:VCALENDAR
VERSION:2.0
PRODID:-//Town of Shrewsbury, Vermont - ECPv6.15.20//NONSGML v1.0//EN
CALSCALE:GREGORIAN
METHOD:PUBLISH
X-WR-CALNAME:Town of Shrewsbury, Vermont
X-ORIGINAL-URL:https://www.shrewsburyvt.org
X-WR-CALDESC:Events for Town of Shrewsbury, Vermont
REFRESH-INTERVAL;VALUE=DURATION:PT1H
X-Robots-Tag:noindex
X-PUBLISHED-TTL:PT1H
BEGIN:VTIMEZONE
TZID:UTC
BEGIN:STANDARD
TZOFFSETFROM:+0000
TZOFFSETTO:+0000
TZNAME:UTC
DTSTART:20230101T000000
END:STANDARD
END:VTIMEZONE
BEGIN:VTIMEZONE
TZID:America/New_York
BEGIN:DAYLIGHT
TZOFFSETFROM:-0500
TZOFFSETTO:-0400
TZNAME:EDT
DTSTART:20230312T070000
END:DAYLIGHT
BEGIN:STANDARD
TZOFFSETFROM:-0400
TZOFFSETTO:-0500
TZNAME:EST
DTSTART:20231105T060000
END:STANDARD
BEGIN:DAYLIGHT
TZOFFSETFROM:-0500
TZOFFSETTO:-0400
TZNAME:EDT
DTSTART:20240310T070000
END:DAYLIGHT
BEGIN:STANDARD
TZOFFSETFROM:-0400
TZOFFSETTO:-0500
TZNAME:EST
DTSTART:20241103T060000
END:STANDARD
BEGIN:DAYLIGHT
TZOFFSETFROM:-0500
TZOFFSETTO:-0400
TZNAME:EDT
DTSTART:20250309T070000
END:DAYLIGHT
BEGIN:STANDARD
TZOFFSETFROM:-0400
TZOFFSETTO:-0500
TZNAME:EST
DTSTART:20251102T060000
END:STANDARD
BEGIN:DAYLIGHT
TZOFFSETFROM:-0500
TZOFFSETTO:-0400
TZNAME:EDT
DTSTART:20260308T070000
END:DAYLIGHT
BEGIN:STANDARD
TZOFFSETFROM:-0400
TZOFFSETTO:-0500
TZNAME:EST
DTSTART:20261101T060000
END:STANDARD
END:VTIMEZONE
BEGIN:VEVENT
DTSTART;TZID=UTC:20250601T160000
DTEND;TZID=UTC:20250601T160000
DTSTAMP:20260424T105303
CREATED:20240930T132636Z
LAST-MODIFIED:20240930T132636Z
UID:10002356-1748793600-1748793600@www.shrewsburyvt.org
SUMMARY:WRITERS GROUP
DESCRIPTION:Please contact Penelope Weiss: pw9@earthlink.net \nor Joan Aleshire: joanaleshire@vermontel.net
URL:https://www.shrewsburyvt.org/calendar/writers-group-2-2-2-2-2/2025-06-01/
LOCATION:Shrewsbury Library
END:VEVENT
BEGIN:VEVENT
DTSTART;TZID=America/New_York:20250531T160000
DTEND;TZID=America/New_York:20250531T160000
DTSTAMP:20260424T105303
CREATED:20250321T173455Z
LAST-MODIFIED:20250321T173455Z
UID:10002485-1748707200-1748707200@www.shrewsburyvt.org
SUMMARY:Shrewsbury Library 50th Anniversary Celebration!
DESCRIPTION:Details to come.
URL:https://www.shrewsburyvt.org/calendar/shrewsbury-library-50th-anniversary-celebration/
LOCATION:Shrewsbury Library
END:VEVENT
BEGIN:VEVENT
DTSTART;TZID=UTC:20250525T190000
DTEND;TZID=UTC:20250525T190000
DTSTAMP:20260424T105303
CREATED:20230228T225508Z
LAST-MODIFIED:20230520T185638Z
UID:10000553-1748199600-1748199600@www.shrewsburyvt.org
SUMMARY:Science Book Club
DESCRIPTION:Contact Margery Salmon (salmonm@vermontel.net)
URL:https://www.shrewsburyvt.org/calendar/science-book-club/2025-05-25/
LOCATION:Shrewsbury Library
END:VEVENT
BEGIN:VEVENT
DTSTART;TZID=UTC:20250518T160000
DTEND;TZID=UTC:20250518T160000
DTSTAMP:20260424T105303
CREATED:20230924T222837Z
LAST-MODIFIED:20230924T222838Z
UID:10001897-1747584000-1747584000@www.shrewsburyvt.org
SUMMARY:Famous Books Club
DESCRIPTION:
URL:https://www.shrewsburyvt.org/calendar/famous-books-club-2-2-2/2025-05-18/
LOCATION:Shrewsbury Library
END:VEVENT
BEGIN:VEVENT
DTSTART;TZID=America/New_York:20250516T190000
DTEND;TZID=America/New_York:20250516T210000
DTSTAMP:20260424T105303
CREATED:20250427T152730Z
LAST-MODIFIED:20250427T152730Z
UID:10002494-1747422000-1747429200@www.shrewsburyvt.org
SUMMARY:Learn About Rodenticides
DESCRIPTION:Shrewsbury Conservation Commission hosts this event. \nSee Times for more info.
URL:https://www.shrewsburyvt.org/calendar/learn-about-rodenticides/
LOCATION:Shrewsbury Library
END:VEVENT
BEGIN:VEVENT
DTSTART;TZID=America/New_York:20250509T190000
DTEND;TZID=America/New_York:20250509T190000
DTSTAMP:20260424T105303
CREATED:20250321T173258Z
LAST-MODIFIED:20250321T173258Z
UID:10002484-1746817200-1746817200@www.shrewsburyvt.org
SUMMARY:Library Event - WILL PATTEN\, author of 'Rescuing Capitalism: Vermont Shows the Way'
DESCRIPTION:Friday\, May 9 @ 7 pm: WILL PATTEN\, Shrewsbury native\, will read from and sign his new book: Rescuing Capitalism: Vermont Shows the Way.
URL:https://www.shrewsburyvt.org/calendar/library-event-will-patten-author-of-rescuing-capitalism-vermont-shows-the-way/
LOCATION:Shrewsbury Library
END:VEVENT
BEGIN:VEVENT
DTSTART;TZID=UTC:20250504T160000
DTEND;TZID=UTC:20250504T160000
DTSTAMP:20260424T105303
CREATED:20240930T132636Z
LAST-MODIFIED:20240930T132636Z
UID:10002355-1746374400-1746374400@www.shrewsburyvt.org
SUMMARY:WRITERS GROUP
DESCRIPTION:Please contact Penelope Weiss: pw9@earthlink.net \nor Joan Aleshire: joanaleshire@vermontel.net
URL:https://www.shrewsburyvt.org/calendar/writers-group-2-2-2-2-2/2025-05-04/
LOCATION:Shrewsbury Library
END:VEVENT
BEGIN:VEVENT
DTSTART;TZID=UTC:20250427T190000
DTEND;TZID=UTC:20250427T190000
DTSTAMP:20260424T105303
CREATED:20230228T225508Z
LAST-MODIFIED:20230520T185638Z
UID:10000552-1745780400-1745780400@www.shrewsburyvt.org
SUMMARY:Science Book Club
DESCRIPTION:Contact Margery Salmon (salmonm@vermontel.net)
URL:https://www.shrewsburyvt.org/calendar/science-book-club/2025-04-27/
LOCATION:Shrewsbury Library
END:VEVENT
BEGIN:VEVENT
DTSTART;TZID=UTC:20250420T160000
DTEND;TZID=UTC:20250420T160000
DTSTAMP:20260424T105303
CREATED:20230924T222837Z
LAST-MODIFIED:20230924T222838Z
UID:10001896-1745164800-1745164800@www.shrewsburyvt.org
SUMMARY:Famous Books Club
DESCRIPTION:
URL:https://www.shrewsburyvt.org/calendar/famous-books-club-2-2-2/2025-04-20/
LOCATION:Shrewsbury Library
END:VEVENT
BEGIN:VEVENT
DTSTART;TZID=UTC:20250406T160000
DTEND;TZID=UTC:20250406T160000
DTSTAMP:20260424T105303
CREATED:20240930T132636Z
LAST-MODIFIED:20240930T132636Z
UID:10002354-1743955200-1743955200@www.shrewsburyvt.org
SUMMARY:WRITERS GROUP
DESCRIPTION:Please contact Penelope Weiss: pw9@earthlink.net \nor Joan Aleshire: joanaleshire@vermontel.net
URL:https://www.shrewsburyvt.org/calendar/writers-group-2-2-2-2-2/2025-04-06/
LOCATION:Shrewsbury Library
END:VEVENT
BEGIN:VEVENT
DTSTART;TZID=UTC:20250323T190000
DTEND;TZID=UTC:20250323T190000
DTSTAMP:20260424T105303
CREATED:20230228T225508Z
LAST-MODIFIED:20230520T185638Z
UID:10000551-1742756400-1742756400@www.shrewsburyvt.org
SUMMARY:Science Book Club
DESCRIPTION:Contact Margery Salmon (salmonm@vermontel.net)
URL:https://www.shrewsburyvt.org/calendar/science-book-club/2025-03-23/
LOCATION:Shrewsbury Library
END:VEVENT
BEGIN:VEVENT
DTSTART;TZID=UTC:20250316T160000
DTEND;TZID=UTC:20250316T160000
DTSTAMP:20260424T105303
CREATED:20230924T222837Z
LAST-MODIFIED:20230924T222838Z
UID:10001895-1742140800-1742140800@www.shrewsburyvt.org
SUMMARY:Famous Books Club
DESCRIPTION:
URL:https://www.shrewsburyvt.org/calendar/famous-books-club-2-2-2/2025-03-16/
LOCATION:Shrewsbury Library
END:VEVENT
BEGIN:VEVENT
DTSTART;TZID=UTC:20250302T160000
DTEND;TZID=UTC:20250302T160000
DTSTAMP:20260424T105303
CREATED:20240930T132636Z
LAST-MODIFIED:20240930T132636Z
UID:10002353-1740931200-1740931200@www.shrewsburyvt.org
SUMMARY:WRITERS GROUP
DESCRIPTION:Please contact Penelope Weiss: pw9@earthlink.net \nor Joan Aleshire: joanaleshire@vermontel.net
URL:https://www.shrewsburyvt.org/calendar/writers-group-2-2-2-2-2/2025-03-02/
LOCATION:Shrewsbury Library
END:VEVENT
BEGIN:VEVENT
DTSTART;TZID=UTC:20250223T190000
DTEND;TZID=UTC:20250223T190000
DTSTAMP:20260424T105303
CREATED:20230228T225508Z
LAST-MODIFIED:20230520T185638Z
UID:10000550-1740337200-1740337200@www.shrewsburyvt.org
SUMMARY:Science Book Club
DESCRIPTION:Contact Margery Salmon (salmonm@vermontel.net)
URL:https://www.shrewsburyvt.org/calendar/science-book-club/2025-02-23/
LOCATION:Shrewsbury Library
END:VEVENT
BEGIN:VEVENT
DTSTART;TZID=America/New_York:20250220T080000
DTEND;TZID=America/New_York:20250311T170000
DTSTAMP:20260424T105303
CREATED:20250220T205011Z
LAST-MODIFIED:20250308T151325Z
UID:10002471-1740038400-1741712400@www.shrewsburyvt.org
SUMMARY:LIBRARY CLOSED 2/20 to 3/11 for floor refinishing
DESCRIPTION:Re-opening on Wednesday\, 3/12!
URL:https://www.shrewsburyvt.org/calendar/library-closed-2-24-to-3-8-for-floor-refinishing/
LOCATION:Shrewsbury Library
END:VEVENT
BEGIN:VEVENT
DTSTART;TZID=UTC:20250216T160000
DTEND;TZID=UTC:20250216T160000
DTSTAMP:20260424T105303
CREATED:20230924T222837Z
LAST-MODIFIED:20230924T222838Z
UID:10001894-1739721600-1739721600@www.shrewsburyvt.org
SUMMARY:Famous Books Club
DESCRIPTION:
URL:https://www.shrewsburyvt.org/calendar/famous-books-club-2-2-2/2025-02-16/
LOCATION:Shrewsbury Library
END:VEVENT
BEGIN:VEVENT
DTSTART;TZID=UTC:20250202T160000
DTEND;TZID=UTC:20250202T160000
DTSTAMP:20260424T105303
CREATED:20240930T132636Z
LAST-MODIFIED:20240930T132636Z
UID:10002352-1738512000-1738512000@www.shrewsburyvt.org
SUMMARY:WRITERS GROUP
DESCRIPTION:Please contact Penelope Weiss: pw9@earthlink.net \nor Joan Aleshire: joanaleshire@vermontel.net
URL:https://www.shrewsburyvt.org/calendar/writers-group-2-2-2-2-2/2025-02-02/
LOCATION:Shrewsbury Library
END:VEVENT
BEGIN:VEVENT
DTSTART;TZID=UTC:20250126T190000
DTEND;TZID=UTC:20250126T190000
DTSTAMP:20260424T105303
CREATED:20230228T225508Z
LAST-MODIFIED:20230520T185638Z
UID:10000549-1737918000-1737918000@www.shrewsburyvt.org
SUMMARY:Science Book Club
DESCRIPTION:Contact Margery Salmon (salmonm@vermontel.net)
URL:https://www.shrewsburyvt.org/calendar/science-book-club/2025-01-26/
LOCATION:Shrewsbury Library
END:VEVENT
BEGIN:VEVENT
DTSTART;TZID=UTC:20250119T160000
DTEND;TZID=UTC:20250119T160000
DTSTAMP:20260424T105303
CREATED:20230924T222837Z
LAST-MODIFIED:20230924T222838Z
UID:10001893-1737302400-1737302400@www.shrewsburyvt.org
SUMMARY:Famous Books Club
DESCRIPTION:
URL:https://www.shrewsburyvt.org/calendar/famous-books-club-2-2-2/2025-01-19/
LOCATION:Shrewsbury Library
END:VEVENT
BEGIN:VEVENT
DTSTART;TZID=UTC:20250105T160000
DTEND;TZID=UTC:20250105T160000
DTSTAMP:20260424T105303
CREATED:20240930T132636Z
LAST-MODIFIED:20240930T132636Z
UID:10002351-1736092800-1736092800@www.shrewsburyvt.org
SUMMARY:WRITERS GROUP
DESCRIPTION:Please contact Penelope Weiss: pw9@earthlink.net \nor Joan Aleshire: joanaleshire@vermontel.net
URL:https://www.shrewsburyvt.org/calendar/writers-group-2-2-2-2-2/2025-01-05/
LOCATION:Shrewsbury Library
END:VEVENT
BEGIN:VEVENT
DTSTART;TZID=UTC:20241222T190000
DTEND;TZID=UTC:20241222T190000
DTSTAMP:20260424T105303
CREATED:20230228T225508Z
LAST-MODIFIED:20230520T185638Z
UID:10000548-1734894000-1734894000@www.shrewsburyvt.org
SUMMARY:Science Book Club
DESCRIPTION:Contact Margery Salmon (salmonm@vermontel.net)
URL:https://www.shrewsburyvt.org/calendar/science-book-club/2024-12-22/
LOCATION:Shrewsbury Library
END:VEVENT
BEGIN:VEVENT
DTSTART;TZID=UTC:20241215T160000
DTEND;TZID=UTC:20241215T160000
DTSTAMP:20260424T105303
CREATED:20230924T222837Z
LAST-MODIFIED:20230924T222838Z
UID:10001892-1734278400-1734278400@www.shrewsburyvt.org
SUMMARY:Famous Books Club
DESCRIPTION:
URL:https://www.shrewsburyvt.org/calendar/famous-books-club-2-2-2/2024-12-15/
LOCATION:Shrewsbury Library
END:VEVENT
BEGIN:VEVENT
DTSTART;TZID=America/New_York:20241214T120000
DTEND;TZID=America/New_York:20241214T140000
DTSTAMP:20260424T105303
CREATED:20241121T162530Z
LAST-MODIFIED:20241121T162530Z
UID:10002426-1734177600-1734184800@www.shrewsburyvt.org
SUMMARY:Library Event - children’s book\, The Christmas Calf.
DESCRIPTION:Saturday\, December 14th from 12 pm to 2 pm: Filmmaker GEORGE WOODARD \nreads and signs his new children’s book\, The Christmas Calf. (See The Times for further info.)
URL:https://www.shrewsburyvt.org/calendar/library-event-childrens-book-the-christmas-calf/
LOCATION:Shrewsbury Library
END:VEVENT
BEGIN:VEVENT
DTSTART;TZID=America/New_York:20241207T190000
DTEND;TZID=America/New_York:20241207T190000
DTSTAMP:20260424T105303
CREATED:20241121T162235Z
LAST-MODIFIED:20241121T162333Z
UID:10002425-1733598000-1733598000@www.shrewsburyvt.org
SUMMARY:Library Event - ANNUAL COOKIE SHARE\, SILENT AUCTION & HOLIDAY PARTY!!
DESCRIPTION:Saturday\, December 7 @ 7 pm: ANNUAL COOKIE SHARE\, SILENT AUCTION & HOLIDAY PARTY!! \nSee the TIMES for further information.
URL:https://www.shrewsburyvt.org/calendar/library-event-annual-cookie-share-silent-auction-holiday-party/
LOCATION:Shrewsbury Library
END:VEVENT
BEGIN:VEVENT
DTSTART;TZID=UTC:20241201T160000
DTEND;TZID=UTC:20241201T160000
DTSTAMP:20260424T105303
CREATED:20240930T132636Z
LAST-MODIFIED:20240930T132636Z
UID:10002350-1733068800-1733068800@www.shrewsburyvt.org
SUMMARY:WRITERS GROUP
DESCRIPTION:Please contact Penelope Weiss: pw9@earthlink.net \nor Joan Aleshire: joanaleshire@vermontel.net
URL:https://www.shrewsburyvt.org/calendar/writers-group-2-2-2-2-2/2024-12-01/
LOCATION:Shrewsbury Library
END:VEVENT
BEGIN:VEVENT
DTSTART;TZID=UTC:20241124T190000
DTEND;TZID=UTC:20241124T190000
DTSTAMP:20260424T105303
CREATED:20230228T225508Z
LAST-MODIFIED:20230520T185638Z
UID:10000547-1732474800-1732474800@www.shrewsburyvt.org
SUMMARY:Science Book Club
DESCRIPTION:Contact Margery Salmon (salmonm@vermontel.net)
URL:https://www.shrewsburyvt.org/calendar/science-book-club/2024-11-24/
LOCATION:Shrewsbury Library
END:VEVENT
BEGIN:VEVENT
DTSTART;TZID=UTC:20241117T160000
DTEND;TZID=UTC:20241117T160000
DTSTAMP:20260424T105303
CREATED:20230924T222837Z
LAST-MODIFIED:20230924T222838Z
UID:10001891-1731859200-1731859200@www.shrewsburyvt.org
SUMMARY:Famous Books Club
DESCRIPTION:
URL:https://www.shrewsburyvt.org/calendar/famous-books-club-2-2-2/2024-11-17/
LOCATION:Shrewsbury Library
END:VEVENT
BEGIN:VEVENT
DTSTART;TZID=UTC:20241103T160000
DTEND;TZID=UTC:20241103T160000
DTSTAMP:20260424T105303
CREATED:20240930T132636Z
LAST-MODIFIED:20240930T132636Z
UID:10002349-1730649600-1730649600@www.shrewsburyvt.org
SUMMARY:WRITERS GROUP
DESCRIPTION:Please contact Penelope Weiss: pw9@earthlink.net \nor Joan Aleshire: joanaleshire@vermontel.net
URL:https://www.shrewsburyvt.org/calendar/writers-group-2-2-2-2-2/2024-11-03/
LOCATION:Shrewsbury Library
END:VEVENT
BEGIN:VEVENT
DTSTART;TZID=UTC:20241027T190000
DTEND;TZID=UTC:20241027T190000
DTSTAMP:20260424T105303
CREATED:20230228T225508Z
LAST-MODIFIED:20230520T185638Z
UID:10000546-1730055600-1730055600@www.shrewsburyvt.org
SUMMARY:Science Book Club
DESCRIPTION:Contact Margery Salmon (salmonm@vermontel.net)
URL:https://www.shrewsburyvt.org/calendar/science-book-club/2024-10-27/
LOCATION:Shrewsbury Library
END:VEVENT
BEGIN:VEVENT
DTSTART;TZID=UTC:20241020T160000
DTEND;TZID=UTC:20241020T160000
DTSTAMP:20260424T105303
CREATED:20230924T222837Z
LAST-MODIFIED:20230924T222838Z
UID:10001890-1729440000-1729440000@www.shrewsburyvt.org
SUMMARY:Famous Books Club
DESCRIPTION:
URL:https://www.shrewsburyvt.org/calendar/famous-books-club-2-2-2/2024-10-20/
LOCATION:Shrewsbury Library
END:VEVENT
END:VCALENDAR