BEGIN:VCALENDAR
VERSION:2.0
PRODID:-//Town of Shrewsbury, Vermont - ECPv6.15.20//NONSGML v1.0//EN
CALSCALE:GREGORIAN
METHOD:PUBLISH
X-ORIGINAL-URL:https://www.shrewsburyvt.org
X-WR-CALDESC:Events for Town of Shrewsbury, Vermont
REFRESH-INTERVAL;VALUE=DURATION:PT1H
X-Robots-Tag:noindex
X-PUBLISHED-TTL:PT1H
BEGIN:VTIMEZONE
TZID:UTC
BEGIN:STANDARD
TZOFFSETFROM:+0000
TZOFFSETTO:+0000
TZNAME:UTC
DTSTART:20220101T000000
END:STANDARD
END:VTIMEZONE
BEGIN:VTIMEZONE
TZID:America/New_York
BEGIN:DAYLIGHT
TZOFFSETFROM:-0500
TZOFFSETTO:-0400
TZNAME:EDT
DTSTART:20220313T070000
END:DAYLIGHT
BEGIN:STANDARD
TZOFFSETFROM:-0400
TZOFFSETTO:-0500
TZNAME:EST
DTSTART:20221106T060000
END:STANDARD
BEGIN:DAYLIGHT
TZOFFSETFROM:-0500
TZOFFSETTO:-0400
TZNAME:EDT
DTSTART:20230312T070000
END:DAYLIGHT
BEGIN:STANDARD
TZOFFSETFROM:-0400
TZOFFSETTO:-0500
TZNAME:EST
DTSTART:20231105T060000
END:STANDARD
BEGIN:DAYLIGHT
TZOFFSETFROM:-0500
TZOFFSETTO:-0400
TZNAME:EDT
DTSTART:20240310T070000
END:DAYLIGHT
BEGIN:STANDARD
TZOFFSETFROM:-0400
TZOFFSETTO:-0500
TZNAME:EST
DTSTART:20241103T060000
END:STANDARD
BEGIN:DAYLIGHT
TZOFFSETFROM:-0500
TZOFFSETTO:-0400
TZNAME:EDT
DTSTART:20250309T070000
END:DAYLIGHT
BEGIN:STANDARD
TZOFFSETFROM:-0400
TZOFFSETTO:-0500
TZNAME:EST
DTSTART:20251102T060000
END:STANDARD
END:VTIMEZONE
BEGIN:VEVENT
DTSTART;TZID=UTC:20240609T160000
DTEND;TZID=UTC:20240609T160000
DTSTAMP:20260424T193412
CREATED:20240520T012018Z
LAST-MODIFIED:20240520T012018Z
UID:10000667-1717948800-1717948800@www.shrewsburyvt.org
SUMMARY:WRITERS GROUP
DESCRIPTION:Please contact Penelope Weiss: pw9@earthlink.net \nor Joan Aleshire: joanaleshire@vermontel.net
URL:https://www.shrewsburyvt.org/calendar/writers-group-2-2-2-2/2024-06-09/
LOCATION:Shrewsbury Library
END:VEVENT
BEGIN:VEVENT
DTSTART;TZID=UTC:20240526T190000
DTEND;TZID=UTC:20240526T190000
DTSTAMP:20260424T193412
CREATED:20230228T225508Z
LAST-MODIFIED:20230520T185638Z
UID:10000541-1716750000-1716750000@www.shrewsburyvt.org
SUMMARY:Science Book Club
DESCRIPTION:Contact Margery Salmon (salmonm@vermontel.net)
URL:https://www.shrewsburyvt.org/calendar/science-book-club/2024-05-26/
LOCATION:Shrewsbury Library
END:VEVENT
BEGIN:VEVENT
DTSTART;TZID=UTC:20240519T160000
DTEND;TZID=UTC:20240519T160000
DTSTAMP:20260424T193412
CREATED:20230924T222837Z
LAST-MODIFIED:20230924T222838Z
UID:10001885-1716134400-1716134400@www.shrewsburyvt.org
SUMMARY:Famous Books Club
DESCRIPTION:
URL:https://www.shrewsburyvt.org/calendar/famous-books-club-2-2-2/2024-05-19/
LOCATION:Shrewsbury Library
END:VEVENT
BEGIN:VEVENT
DTSTART;TZID=America/New_York:20240517T190000
DTEND;TZID=America/New_York:20240517T190000
DTSTAMP:20260424T193412
CREATED:20240424T142551Z
LAST-MODIFIED:20240424T142551Z
UID:10002110-1715972400-1715972400@www.shrewsburyvt.org
SUMMARY:Library Event - OVERVIEW of THE TOTAL ECLIPSE
DESCRIPTION:Friday\, May 17 @ 7 pm: SCOTT GARREN presents an OVERVIEW of THE TOTAL ECLIPSE: a follow-up to his program last December\, sharing photos and impressions of this extraordinary event. Please see SCOTT’S ad in the May Times
URL:https://www.shrewsburyvt.org/calendar/library-event-overview-of-the-total-eclipse/
LOCATION:Shrewsbury Library
END:VEVENT
BEGIN:VEVENT
DTSTART;TZID=UTC:20240512T153000
DTEND;TZID=UTC:20240512T153000
DTSTAMP:20260424T193412
CREATED:20240424T142941Z
LAST-MODIFIED:20240424T142942Z
UID:10000666-1715527800-1715527800@www.shrewsburyvt.org
SUMMARY:WRITERS GROUP
DESCRIPTION:Please contact Penelope Weiss: pw9@earthlink.net \nor Joan Aleshire: joanaleshire@vermontel.net
URL:https://www.shrewsburyvt.org/calendar/writers-group-2-2-2/
LOCATION:Shrewsbury Library
END:VEVENT
BEGIN:VEVENT
DTSTART;TZID=America/New_York:20240510T190000
DTEND;TZID=America/New_York:20240510T190000
DTSTAMP:20260424T193412
CREATED:20240424T142407Z
LAST-MODIFIED:20240424T142407Z
UID:10002109-1715367600-1715367600@www.shrewsburyvt.org
SUMMARY:Library Event - The Resilience of Vermont Forests
DESCRIPTION:Friday\, May 10 @ 7 pm: TIM STOUT presents a program on The Resilience of Vermont Forests\, based on intensive\, innovative research and his observations on his own property. THANK YOU\, TIM for sharing this crucial information. Please see Tim’s ad in the May edition of The Times.
URL:https://www.shrewsburyvt.org/calendar/library-event-the-resilience-of-vermont-forests/
LOCATION:Shrewsbury Library
END:VEVENT
BEGIN:VEVENT
DTSTART;TZID=UTC:20240505T153000
DTEND;TZID=UTC:20240505T153000
DTSTAMP:20260424T193412
CREATED:20240424T143151Z
LAST-MODIFIED:20240424T143151Z
UID:10002121-1714923000-1714923000@www.shrewsburyvt.org
SUMMARY:WRITERS GROUP
DESCRIPTION:Please contact Penelope Weiss: pw9@earthlink.net \nor Joan Aleshire: joanaleshire@vermontel.net
URL:https://www.shrewsburyvt.org/calendar/writers-group-3/
LOCATION:Shrewsbury Library
END:VEVENT
BEGIN:VEVENT
DTSTART;TZID=UTC:20240428T190000
DTEND;TZID=UTC:20240428T190000
DTSTAMP:20260424T193412
CREATED:20230228T225508Z
LAST-MODIFIED:20230520T185638Z
UID:10000540-1714330800-1714330800@www.shrewsburyvt.org
SUMMARY:Science Book Club
DESCRIPTION:Contact Margery Salmon (salmonm@vermontel.net)
URL:https://www.shrewsburyvt.org/calendar/science-book-club/2024-04-28/
LOCATION:Shrewsbury Library
END:VEVENT
BEGIN:VEVENT
DTSTART;TZID=UTC:20240421T160000
DTEND;TZID=UTC:20240421T160000
DTSTAMP:20260424T193412
CREATED:20230924T222837Z
LAST-MODIFIED:20230924T222838Z
UID:10001884-1713715200-1713715200@www.shrewsburyvt.org
SUMMARY:Famous Books Club
DESCRIPTION:
URL:https://www.shrewsburyvt.org/calendar/famous-books-club-2-2-2/2024-04-21/
LOCATION:Shrewsbury Library
END:VEVENT
BEGIN:VEVENT
DTSTART;TZID=UTC:20240414T153000
DTEND;TZID=UTC:20240414T153000
DTSTAMP:20260424T193412
CREATED:20230624T183538Z
LAST-MODIFIED:20230624T183540Z
UID:10000665-1713108600-1713108600@www.shrewsburyvt.org
SUMMARY:WRITERS GROUP
DESCRIPTION:Please contact Penelope Weiss: pw9@earthlink.net \nor Joan Aleshire: joanaleshire@vermontel.net
URL:https://www.shrewsburyvt.org/calendar/writers-group-2-2/2024-04-14/
LOCATION:Shrewsbury Library
END:VEVENT
BEGIN:VEVENT
DTSTART;TZID=UTC:20240324T190000
DTEND;TZID=UTC:20240324T190000
DTSTAMP:20260424T193412
CREATED:20230228T225508Z
LAST-MODIFIED:20230520T185638Z
UID:10000539-1711306800-1711306800@www.shrewsburyvt.org
SUMMARY:Science Book Club
DESCRIPTION:Contact Margery Salmon (salmonm@vermontel.net)
URL:https://www.shrewsburyvt.org/calendar/science-book-club/2024-03-24/
LOCATION:Shrewsbury Library
END:VEVENT
BEGIN:VEVENT
DTSTART;TZID=UTC:20240317T160000
DTEND;TZID=UTC:20240317T160000
DTSTAMP:20260424T193412
CREATED:20230924T222837Z
LAST-MODIFIED:20230924T222838Z
UID:10001883-1710691200-1710691200@www.shrewsburyvt.org
SUMMARY:Famous Books Club
DESCRIPTION:
URL:https://www.shrewsburyvt.org/calendar/famous-books-club-2-2-2/2024-03-17/
LOCATION:Shrewsbury Library
END:VEVENT
BEGIN:VEVENT
DTSTART;TZID=UTC:20240310T153000
DTEND;TZID=UTC:20240310T153000
DTSTAMP:20260424T193412
CREATED:20230624T183538Z
LAST-MODIFIED:20230624T183540Z
UID:10000664-1710084600-1710084600@www.shrewsburyvt.org
SUMMARY:WRITERS GROUP
DESCRIPTION:Please contact Penelope Weiss: pw9@earthlink.net \nor Joan Aleshire: joanaleshire@vermontel.net
URL:https://www.shrewsburyvt.org/calendar/writers-group-2-2/2024-03-10/
LOCATION:Shrewsbury Library
END:VEVENT
BEGIN:VEVENT
DTSTART;TZID=UTC:20240225T190000
DTEND;TZID=UTC:20240225T190000
DTSTAMP:20260424T193412
CREATED:20230228T225508Z
LAST-MODIFIED:20230520T185638Z
UID:10000538-1708887600-1708887600@www.shrewsburyvt.org
SUMMARY:Science Book Club
DESCRIPTION:Contact Margery Salmon (salmonm@vermontel.net)
URL:https://www.shrewsburyvt.org/calendar/science-book-club/2024-02-25/
LOCATION:Shrewsbury Library
END:VEVENT
BEGIN:VEVENT
DTSTART;TZID=UTC:20240218T160000
DTEND;TZID=UTC:20240218T160000
DTSTAMP:20260424T193412
CREATED:20230924T222837Z
LAST-MODIFIED:20230924T222838Z
UID:10001882-1708272000-1708272000@www.shrewsburyvt.org
SUMMARY:Famous Books Club
DESCRIPTION:
URL:https://www.shrewsburyvt.org/calendar/famous-books-club-2-2-2/2024-02-18/
LOCATION:Shrewsbury Library
END:VEVENT
BEGIN:VEVENT
DTSTART;TZID=UTC:20240211T153000
DTEND;TZID=UTC:20240211T153000
DTSTAMP:20260424T193412
CREATED:20230624T183538Z
LAST-MODIFIED:20230624T183540Z
UID:10000663-1707665400-1707665400@www.shrewsburyvt.org
SUMMARY:WRITERS GROUP
DESCRIPTION:Please contact Penelope Weiss: pw9@earthlink.net \nor Joan Aleshire: joanaleshire@vermontel.net
URL:https://www.shrewsburyvt.org/calendar/writers-group-2-2/2024-02-11/
LOCATION:Shrewsbury Library
END:VEVENT
BEGIN:VEVENT
DTSTART;TZID=UTC:20240128T190000
DTEND;TZID=UTC:20240128T190000
DTSTAMP:20260424T193412
CREATED:20230228T225508Z
LAST-MODIFIED:20230520T185638Z
UID:10000537-1706468400-1706468400@www.shrewsburyvt.org
SUMMARY:Science Book Club
DESCRIPTION:Contact Margery Salmon (salmonm@vermontel.net)
URL:https://www.shrewsburyvt.org/calendar/science-book-club/2024-01-28/
LOCATION:Shrewsbury Library
END:VEVENT
BEGIN:VEVENT
DTSTART;TZID=America/New_York:20240127T160000
DTEND;TZID=America/New_York:20240127T180000
DTSTAMP:20260424T193412
CREATED:20240120T153449Z
LAST-MODIFIED:20240120T153449Z
UID:10002083-1706371200-1706378400@www.shrewsburyvt.org
SUMMARY:Library Event - 1933-35 Antarctica Expedition
DESCRIPTION:Saturday\, January 20 and 27 @ 4 pm to 6 pm  \n(SNOW DATE: TBD)  \nSALLY DEINZER’S long-anticipated program about her father’s work as a radio operator for Admiral Byrd’s expedition to Antarctica! Please see her ad in this December’s Times.
URL:https://www.shrewsburyvt.org/calendar/library-event-1933-35-antarctica-expedition-3/
LOCATION:Shrewsbury Library
END:VEVENT
BEGIN:VEVENT
DTSTART;TZID=UTC:20240121T160000
DTEND;TZID=UTC:20240121T160000
DTSTAMP:20260424T193412
CREATED:20230924T222837Z
LAST-MODIFIED:20230924T222838Z
UID:10001881-1705852800-1705852800@www.shrewsburyvt.org
SUMMARY:Famous Books Club
DESCRIPTION:
URL:https://www.shrewsburyvt.org/calendar/famous-books-club-2-2-2/2024-01-21/
LOCATION:Shrewsbury Library
END:VEVENT
BEGIN:VEVENT
DTSTART;TZID=America/New_York:20240120T160000
DTEND;TZID=America/New_York:20240120T180000
DTSTAMP:20260424T193412
CREATED:20240107T222708Z
LAST-MODIFIED:20240120T153533Z
UID:10002079-1705766400-1705773600@www.shrewsburyvt.org
SUMMARY:Library Event - 1933-35 Antarctica Expedition
DESCRIPTION:Saturday\, January 20 and 27 @ 4 pm to 6 pm  \n(SNOW DATE: JANUARY 27th)  \nSALLY DEINZER’S long-anticipated program about her father’s work as a radio operator for Admiral Byrd’s expedition to Antarctica! Please see her ad in this December’s Times.
URL:https://www.shrewsburyvt.org/calendar/library-event-1933-35-antarctica-expedition-2/
LOCATION:Shrewsbury Library
END:VEVENT
BEGIN:VEVENT
DTSTART;TZID=UTC:20240114T153000
DTEND;TZID=UTC:20240114T153000
DTSTAMP:20260424T193412
CREATED:20230624T183538Z
LAST-MODIFIED:20230624T183540Z
UID:10000662-1705246200-1705246200@www.shrewsburyvt.org
SUMMARY:WRITERS GROUP
DESCRIPTION:Please contact Penelope Weiss: pw9@earthlink.net \nor Joan Aleshire: joanaleshire@vermontel.net
URL:https://www.shrewsburyvt.org/calendar/writers-group-2-2/2024-01-14/
LOCATION:Shrewsbury Library
END:VEVENT
BEGIN:VEVENT
DTSTART;TZID=America/New_York:20240113T160000
DTEND;TZID=America/New_York:20240113T180000
DTSTAMP:20260424T193412
CREATED:20231125T191723Z
LAST-MODIFIED:20240113T160324Z
UID:10002072-1705161600-1705168800@www.shrewsburyvt.org
SUMMARY:CANCELLED!  Library Event - 1933-35 Antarctica Expedition
DESCRIPTION:Saturday\, January 13 and 20 @ 4 pm to 6 pm\n \n (SNOW DATE: JANUARY 27th)  \nSALLY DEINZER’S long-anticipated program about her father’s work as a radio operator for Admiral Byrd’s expedition to Antarctica! Please see her ad in this December’s Times.
URL:https://www.shrewsburyvt.org/calendar/library-event-1933-35-antarctica-expedition/
LOCATION:Shrewsbury Library
END:VEVENT
BEGIN:VEVENT
DTSTART;TZID=UTC:20231224T190000
DTEND;TZID=UTC:20231224T190000
DTSTAMP:20260424T193412
CREATED:20230228T225508Z
LAST-MODIFIED:20230520T185638Z
UID:10000536-1703444400-1703444400@www.shrewsburyvt.org
SUMMARY:Science Book Club
DESCRIPTION:Contact Margery Salmon (salmonm@vermontel.net)
URL:https://www.shrewsburyvt.org/calendar/science-book-club/2023-12-24/
LOCATION:Shrewsbury Library
END:VEVENT
BEGIN:VEVENT
DTSTART;TZID=UTC:20231217T160000
DTEND;TZID=UTC:20231217T160000
DTSTAMP:20260424T193412
CREATED:20230924T222837Z
LAST-MODIFIED:20230924T222838Z
UID:10001880-1702828800-1702828800@www.shrewsburyvt.org
SUMMARY:Famous Books Club
DESCRIPTION:
URL:https://www.shrewsburyvt.org/calendar/famous-books-club-2-2-2/2023-12-17/
LOCATION:Shrewsbury Library
END:VEVENT
BEGIN:VEVENT
DTSTART;TZID=America/New_York:20231216T103000
DTEND;TZID=America/New_York:20231216T103000
DTSTAMP:20260424T193412
CREATED:20231125T191343Z
LAST-MODIFIED:20231125T191343Z
UID:10002071-1702722600-1702722600@www.shrewsburyvt.org
SUMMARY:Library Event - 'A Cup of Dreams' by Lindsay Courcelle
DESCRIPTION:Saturday\, December 16 @ 10:30 am:  LINDSAY COURCELLE will read and sign her new picture book\, A Cup of Dreams: Chamomile.   Kids\, parents\, and grandparents all are invited to join her for this special treat!
URL:https://www.shrewsburyvt.org/calendar/library-event-a-cup-of-dreams-by-lindsay-courcelle/
LOCATION:Shrewsbury Library
END:VEVENT
BEGIN:VEVENT
DTSTART;TZID=UTC:20231210T153000
DTEND;TZID=UTC:20231210T153000
DTSTAMP:20260424T193412
CREATED:20230624T183538Z
LAST-MODIFIED:20230624T183540Z
UID:10000661-1702222200-1702222200@www.shrewsburyvt.org
SUMMARY:WRITERS GROUP
DESCRIPTION:Please contact Penelope Weiss: pw9@earthlink.net \nor Joan Aleshire: joanaleshire@vermontel.net
URL:https://www.shrewsburyvt.org/calendar/writers-group-2-2/2023-12-10/
LOCATION:Shrewsbury Library
END:VEVENT
BEGIN:VEVENT
DTSTART;TZID=UTC:20231208T190000
DTEND;TZID=UTC:20231208T190000
DTSTAMP:20260424T193412
CREATED:20231025T184634Z
LAST-MODIFIED:20231025T184634Z
UID:10002063-1702062000-1702062000@www.shrewsburyvt.org
SUMMARY:Library Event - Solar Eclipse
DESCRIPTION:Saturday\, December 8  @ 7 pm: SCOTT GARREN will present a program on the coming total solar eclipse. Details to come!
URL:https://www.shrewsburyvt.org/calendar/library-event-solar-eclipse/
LOCATION:Shrewsbury Library
END:VEVENT
BEGIN:VEVENT
DTSTART;TZID=UTC:20231202T080000
DTEND;TZID=UTC:20231202T170000
DTSTAMP:20260424T193412
CREATED:20231025T184504Z
LAST-MODIFIED:20231125T190859Z
UID:10002062-1701504000-1701536400@www.shrewsburyvt.org
SUMMARY:Library Event -  Holiday Cookie Share & Silent Auction!
DESCRIPTION:Saturday\, December 2 @ 6pm: HOLIDAY COOKIE SHARE & SILENT AUCTION: Back again after a long delay! Please see ad in the December issue of The Times\, and join us for a great evening!
URL:https://www.shrewsburyvt.org/calendar/library-event-silent-auction/
LOCATION:Shrewsbury Library
END:VEVENT
BEGIN:VEVENT
DTSTART;TZID=UTC:20231126T190000
DTEND;TZID=UTC:20231126T190000
DTSTAMP:20260424T193412
CREATED:20230228T225508Z
LAST-MODIFIED:20230520T185638Z
UID:10000535-1701025200-1701025200@www.shrewsburyvt.org
SUMMARY:Science Book Club
DESCRIPTION:Contact Margery Salmon (salmonm@vermontel.net)
URL:https://www.shrewsburyvt.org/calendar/science-book-club/2023-11-26/
LOCATION:Shrewsbury Library
END:VEVENT
BEGIN:VEVENT
DTSTART;TZID=UTC:20231119T160000
DTEND;TZID=UTC:20231119T160000
DTSTAMP:20260424T193412
CREATED:20230924T222837Z
LAST-MODIFIED:20230924T222838Z
UID:10001879-1700409600-1700409600@www.shrewsburyvt.org
SUMMARY:Famous Books Club
DESCRIPTION:
URL:https://www.shrewsburyvt.org/calendar/famous-books-club-2-2-2/2023-11-19/
LOCATION:Shrewsbury Library
END:VEVENT
END:VCALENDAR