BEGIN:VCALENDAR
VERSION:2.0
PRODID:-//Town of Shrewsbury, Vermont - ECPv6.15.20//NONSGML v1.0//EN
CALSCALE:GREGORIAN
METHOD:PUBLISH
X-ORIGINAL-URL:https://www.shrewsburyvt.org
X-WR-CALDESC:Events for Town of Shrewsbury, Vermont
REFRESH-INTERVAL;VALUE=DURATION:PT1H
X-Robots-Tag:noindex
X-PUBLISHED-TTL:PT1H
BEGIN:VTIMEZONE
TZID:UTC
BEGIN:STANDARD
TZOFFSETFROM:+0000
TZOFFSETTO:+0000
TZNAME:UTC
DTSTART:20220101T000000
END:STANDARD
END:VTIMEZONE
BEGIN:VEVENT
DTSTART;TZID=UTC:20230311T080000
DTEND;TZID=UTC:20230311T170000
DTSTAMP:20260424T072320
CREATED:20230224T194042Z
LAST-MODIFIED:20230224T194042Z
UID:10000006-1678521600-1678554000@www.shrewsburyvt.org
SUMMARY:Build a Bluebird Box!
DESCRIPTION:Mar. 11 – TBD  Build a bluebird box and learn about songbirds with SCC program at Mountain School
URL:https://www.shrewsburyvt.org/calendar/build-a-bluebird-box/
LOCATION:Shrewsbury Mountain School\, School Rd
END:VEVENT
END:VCALENDAR