BEGIN:VCALENDAR
VERSION:2.0
PRODID:-//Town of Shrewsbury, Vermont - ECPv6.15.20//NONSGML v1.0//EN
CALSCALE:GREGORIAN
METHOD:PUBLISH
X-WR-CALNAME:Town of Shrewsbury, Vermont
X-ORIGINAL-URL:https://www.shrewsburyvt.org
X-WR-CALDESC:Events for Town of Shrewsbury, Vermont
REFRESH-INTERVAL;VALUE=DURATION:PT1H
X-Robots-Tag:noindex
X-PUBLISHED-TTL:PT1H
BEGIN:VTIMEZONE
TZID:UTC
BEGIN:STANDARD
TZOFFSETFROM:+0000
TZOFFSETTO:+0000
TZNAME:UTC
DTSTART:20290101T000000
END:STANDARD
END:VTIMEZONE
BEGIN:VEVENT
DTSTART;TZID=UTC:20300619T183000
DTEND;TZID=UTC:20300619T183000
DTSTAMP:20260424T225335
CREATED:20250713T224834Z
LAST-MODIFIED:20250713T224834Z
UID:10002504-1908124200-1908124200@www.shrewsburyvt.org
SUMMARY:Selectboard Meeting
DESCRIPTION:AGENDA
URL:https://www.shrewsburyvt.org/calendar/selectboard-meeting-6-26/2030-06-19/
LOCATION:Shrewsbury Town Office\, 9823 Cold River Rd
END:VEVENT
BEGIN:VEVENT
DTSTART;TZID=UTC:20300703T183000
DTEND;TZID=UTC:20300703T183000
DTSTAMP:20260424T225335
CREATED:20230507T171521Z
LAST-MODIFIED:20250723T182929Z
UID:10002509-1909333800-1909333800@www.shrewsburyvt.org
SUMMARY:Selectboard Meeting
DESCRIPTION:AGENDA
URL:https://www.shrewsburyvt.org/calendar/selectboard-meeting-7/2030-07-03/
LOCATION:Shrewsbury Town Office\, 9823 Cold River Rd
END:VEVENT
BEGIN:VEVENT
DTSTART;TZID=UTC:20300717T183000
DTEND;TZID=UTC:20300717T183000
DTSTAMP:20260424T225335
CREATED:20250713T224834Z
LAST-MODIFIED:20250713T224834Z
UID:10002512-1910543400-1910543400@www.shrewsburyvt.org
SUMMARY:Selectboard Meeting
DESCRIPTION:AGENDA
URL:https://www.shrewsburyvt.org/calendar/selectboard-meeting-6-26/2030-07-17/
LOCATION:Shrewsbury Town Office\, 9823 Cold River Rd
END:VEVENT
BEGIN:VEVENT
DTSTART;TZID=UTC:20300807T183000
DTEND;TZID=UTC:20300807T183000
DTSTAMP:20260424T225335
CREATED:20230507T171521Z
LAST-MODIFIED:20250723T182929Z
UID:10002517-1912357800-1912357800@www.shrewsburyvt.org
SUMMARY:Selectboard Meeting
DESCRIPTION:AGENDA
URL:https://www.shrewsburyvt.org/calendar/selectboard-meeting-7/2030-08-07/
LOCATION:Shrewsbury Town Office\, 9823 Cold River Rd
END:VEVENT
BEGIN:VEVENT
DTSTART;TZID=UTC:20300821T183000
DTEND;TZID=UTC:20300821T183000
DTSTAMP:20260424T225335
CREATED:20250713T224834Z
LAST-MODIFIED:20250713T224834Z
UID:10002519-1913567400-1913567400@www.shrewsburyvt.org
SUMMARY:Selectboard Meeting
DESCRIPTION:AGENDA
URL:https://www.shrewsburyvt.org/calendar/selectboard-meeting-6-26/2030-08-21/
LOCATION:Shrewsbury Town Office\, 9823 Cold River Rd
END:VEVENT
BEGIN:VEVENT
DTSTART;TZID=UTC:20300918T183000
DTEND;TZID=UTC:20300918T183000
DTSTAMP:20260424T225335
CREATED:20250713T224834Z
LAST-MODIFIED:20250713T224834Z
UID:10002529-1915986600-1915986600@www.shrewsburyvt.org
SUMMARY:Selectboard Meeting
DESCRIPTION:AGENDA
URL:https://www.shrewsburyvt.org/calendar/selectboard-meeting-6-26/2030-09-18/
LOCATION:Shrewsbury Town Office\, 9823 Cold River Rd
END:VEVENT
END:VCALENDAR