BEGIN:VCALENDAR
VERSION:2.0
PRODID:-//Town of Shrewsbury, Vermont - ECPv6.15.20//NONSGML v1.0//EN
CALSCALE:GREGORIAN
METHOD:PUBLISH
X-ORIGINAL-URL:https://www.shrewsburyvt.org
X-WR-CALDESC:Events for Town of Shrewsbury, Vermont
REFRESH-INTERVAL;VALUE=DURATION:PT1H
X-Robots-Tag:noindex
X-PUBLISHED-TTL:PT1H
BEGIN:VTIMEZONE
TZID:America/New_York
BEGIN:DAYLIGHT
TZOFFSETFROM:-0500
TZOFFSETTO:-0400
TZNAME:EDT
DTSTART:20240310T070000
END:DAYLIGHT
BEGIN:STANDARD
TZOFFSETFROM:-0400
TZOFFSETTO:-0500
TZNAME:EST
DTSTART:20241103T060000
END:STANDARD
BEGIN:DAYLIGHT
TZOFFSETFROM:-0500
TZOFFSETTO:-0400
TZNAME:EDT
DTSTART:20250309T070000
END:DAYLIGHT
BEGIN:STANDARD
TZOFFSETFROM:-0400
TZOFFSETTO:-0500
TZNAME:EST
DTSTART:20251102T060000
END:STANDARD
BEGIN:DAYLIGHT
TZOFFSETFROM:-0500
TZOFFSETTO:-0400
TZNAME:EDT
DTSTART:20260308T070000
END:DAYLIGHT
BEGIN:STANDARD
TZOFFSETFROM:-0400
TZOFFSETTO:-0500
TZNAME:EST
DTSTART:20261101T060000
END:STANDARD
END:VTIMEZONE
BEGIN:VTIMEZONE
TZID:UTC
BEGIN:STANDARD
TZOFFSETFROM:+0000
TZOFFSETTO:+0000
TZNAME:UTC
DTSTART:20240101T000000
END:STANDARD
END:VTIMEZONE
BEGIN:VEVENT
DTSTART;TZID=America/New_York:20251209T190000
DTEND;TZID=America/New_York:20251209T203000
DTSTAMP:20260423T142835
CREATED:20250109T195455Z
LAST-MODIFIED:20250306T222500Z
UID:10002447-1765306800-1765312200@www.shrewsburyvt.org
SUMMARY:Planning Commission Meeting
DESCRIPTION:AGENDA
URL:https://www.shrewsburyvt.org/calendar/planning-commission-meeting-9/2025-12-09/
LOCATION:Shrewsbury Town Office\, 9823 Cold River Rd
END:VEVENT
BEGIN:VEVENT
DTSTART;TZID=UTC:20251203T183000
DTEND;TZID=UTC:20251203T183000
DTSTAMP:20260423T142835
CREATED:20230507T171521Z
LAST-MODIFIED:20250723T182929Z
UID:10000197-1764786600-1764786600@www.shrewsburyvt.org
SUMMARY:Selectboard Meeting
DESCRIPTION:AGENDA
URL:https://www.shrewsburyvt.org/calendar/selectboard-meeting-7/2025-12-03/
LOCATION:Shrewsbury Town Office\, 9823 Cold River Rd
END:VEVENT
BEGIN:VEVENT
DTSTART;TZID=UTC:20251125T190000
DTEND;TZID=UTC:20251125T203000
DTSTAMP:20260423T142835
CREATED:20230908T182709Z
LAST-MODIFIED:20230908T182709Z
UID:10000927-1764097200-1764102600@www.shrewsburyvt.org
SUMMARY:Planning Commission Meeting
DESCRIPTION:AGENDA
URL:https://www.shrewsburyvt.org/calendar/planning-commission-meeting-8/2025-11-25/
LOCATION:Shrewsbury Town Office\, 9823 Cold River Rd
END:VEVENT
BEGIN:VEVENT
DTSTART;TZID=UTC:20251119T183000
DTEND;TZID=UTC:20251119T183000
DTSTAMP:20260423T142835
CREATED:20250713T224834Z
LAST-MODIFIED:20250713T224834Z
UID:10000077-1763577000-1763577000@www.shrewsburyvt.org
SUMMARY:Selectboard Meeting
DESCRIPTION:AGENDA
URL:https://www.shrewsburyvt.org/calendar/selectboard-meeting-6-26/2025-11-19/
LOCATION:Shrewsbury Town Office\, 9823 Cold River Rd
END:VEVENT
BEGIN:VEVENT
DTSTART;TZID=America/New_York:20251111T190000
DTEND;TZID=America/New_York:20251111T203000
DTSTAMP:20260423T142835
CREATED:20251111T212926Z
LAST-MODIFIED:20251111T212935Z
UID:10002446-1762887600-1762893000@www.shrewsburyvt.org
SUMMARY:Planning Commission Meeting - CANCELLED
DESCRIPTION:AGENDA
URL:https://www.shrewsburyvt.org/calendar/planning-commission-meeting-9-6/
LOCATION:Shrewsbury Town Office\, 9823 Cold River Rd
END:VEVENT
BEGIN:VEVENT
DTSTART;TZID=UTC:20251105T183000
DTEND;TZID=UTC:20251105T183000
DTSTAMP:20260423T142835
CREATED:20230507T171521Z
LAST-MODIFIED:20250723T182929Z
UID:10000196-1762367400-1762367400@www.shrewsburyvt.org
SUMMARY:Selectboard Meeting
DESCRIPTION:AGENDA
URL:https://www.shrewsburyvt.org/calendar/selectboard-meeting-7/2025-11-05/
LOCATION:Shrewsbury Town Office\, 9823 Cold River Rd
END:VEVENT
BEGIN:VEVENT
DTSTART;TZID=America/New_York:20251105T093000
DTEND;TZID=America/New_York:20251105T093000
DTSTAMP:20260423T142835
CREATED:20251031T183021Z
LAST-MODIFIED:20251031T183126Z
UID:10002540-1762335000-1762335000@www.shrewsburyvt.org
SUMMARY:Board of Auditors Meeting
DESCRIPTION:BOA Agenda 11-5-25
URL:https://www.shrewsburyvt.org/calendar/board-of-auditors-meeting-2/
LOCATION:Shrewsbury Town Office\, 9823 Cold River Rd
END:VEVENT
BEGIN:VEVENT
DTSTART;TZID=UTC:20251028T190000
DTEND;TZID=UTC:20251028T203000
DTSTAMP:20260423T142835
CREATED:20230908T182709Z
LAST-MODIFIED:20230908T182709Z
UID:10000926-1761678000-1761683400@www.shrewsburyvt.org
SUMMARY:Planning Commission Meeting
DESCRIPTION:AGENDA
URL:https://www.shrewsburyvt.org/calendar/planning-commission-meeting-8/2025-10-28/
LOCATION:Shrewsbury Town Office\, 9823 Cold River Rd
END:VEVENT
BEGIN:VEVENT
DTSTART;TZID=UTC:20251015T183000
DTEND;TZID=UTC:20251015T183000
DTSTAMP:20260423T142835
CREATED:20251014T143746Z
LAST-MODIFIED:20251014T143747Z
UID:10000076-1760553000-1760553000@www.shrewsburyvt.org
SUMMARY:Selectboard Meeting
DESCRIPTION:Selectboard Agenda 10-15-25
URL:https://www.shrewsburyvt.org/calendar/selectboard-meeting-6-26-5/
LOCATION:Shrewsbury Town Office\, 9823 Cold River Rd
END:VEVENT
BEGIN:VEVENT
DTSTART;TZID=America/New_York:20251014T190000
DTEND;TZID=America/New_York:20251014T203000
DTSTAMP:20260423T142835
CREATED:20250109T195455Z
LAST-MODIFIED:20250306T222500Z
UID:10002445-1760468400-1760473800@www.shrewsburyvt.org
SUMMARY:Planning Commission Meeting
DESCRIPTION:AGENDA
URL:https://www.shrewsburyvt.org/calendar/planning-commission-meeting-9/2025-10-14/
LOCATION:Shrewsbury Town Office\, 9823 Cold River Rd
END:VEVENT
BEGIN:VEVENT
DTSTART;TZID=UTC:20251001T183000
DTEND;TZID=UTC:20251001T183000
DTSTAMP:20260423T142835
CREATED:20230507T171521Z
LAST-MODIFIED:20250723T182929Z
UID:10000195-1759343400-1759343400@www.shrewsburyvt.org
SUMMARY:Selectboard Meeting
DESCRIPTION:AGENDA
URL:https://www.shrewsburyvt.org/calendar/selectboard-meeting-7/2025-10-01/
LOCATION:Shrewsbury Town Office\, 9823 Cold River Rd
END:VEVENT
BEGIN:VEVENT
DTSTART;TZID=UTC:20250923T190000
DTEND;TZID=UTC:20250923T203000
DTSTAMP:20260423T142835
CREATED:20230908T182709Z
LAST-MODIFIED:20230908T182709Z
UID:10000925-1758654000-1758659400@www.shrewsburyvt.org
SUMMARY:Planning Commission Meeting
DESCRIPTION:AGENDA
URL:https://www.shrewsburyvt.org/calendar/planning-commission-meeting-8/2025-09-23/
LOCATION:Shrewsbury Town Office\, 9823 Cold River Rd
END:VEVENT
BEGIN:VEVENT
DTSTART;TZID=UTC:20250917T183000
DTEND;TZID=UTC:20250917T183000
DTSTAMP:20260423T142835
CREATED:20250914T195508Z
LAST-MODIFIED:20250914T195509Z
UID:10000075-1758133800-1758133800@www.shrewsburyvt.org
SUMMARY:Selectboard Meeting
DESCRIPTION:Selectboard Agenda 9-17-25
URL:https://www.shrewsburyvt.org/calendar/selectboard-meeting-6-26-4/
LOCATION:Shrewsbury Town Office\, 9823 Cold River Rd
END:VEVENT
BEGIN:VEVENT
DTSTART;TZID=America/New_York:20250909T190000
DTEND;TZID=America/New_York:20250909T203000
DTSTAMP:20260423T142835
CREATED:20250109T195455Z
LAST-MODIFIED:20250306T222500Z
UID:10002444-1757444400-1757449800@www.shrewsburyvt.org
SUMMARY:Planning Commission Meeting
DESCRIPTION:AGENDA
URL:https://www.shrewsburyvt.org/calendar/planning-commission-meeting-9/2025-09-09/
LOCATION:Shrewsbury Town Office\, 9823 Cold River Rd
END:VEVENT
BEGIN:VEVENT
DTSTART;TZID=UTC:20250903T183000
DTEND;TZID=UTC:20250903T183000
DTSTAMP:20260423T142835
CREATED:20250901T164114Z
LAST-MODIFIED:20250901T164114Z
UID:10000194-1756924200-1756924200@www.shrewsburyvt.org
SUMMARY:Selectboard Meeting
DESCRIPTION:Selectboard Agenda 9-3-25
URL:https://www.shrewsburyvt.org/calendar/selectboard-meeting-7-26/
LOCATION:Shrewsbury Town Office\, 9823 Cold River Rd
END:VEVENT
BEGIN:VEVENT
DTSTART;TZID=UTC:20250826T190000
DTEND;TZID=UTC:20250826T203000
DTSTAMP:20260423T142835
CREATED:20230908T182709Z
LAST-MODIFIED:20230908T182709Z
UID:10000924-1756234800-1756240200@www.shrewsburyvt.org
SUMMARY:Planning Commission Meeting
DESCRIPTION:AGENDA
URL:https://www.shrewsburyvt.org/calendar/planning-commission-meeting-8/2025-08-26/
LOCATION:Shrewsbury Town Office\, 9823 Cold River Rd
END:VEVENT
BEGIN:VEVENT
DTSTART;TZID=UTC:20250820T183000
DTEND;TZID=UTC:20250820T183000
DTSTAMP:20260423T142835
CREATED:20250804T200503Z
LAST-MODIFIED:20250820T180419Z
UID:10000074-1755714600-1755714600@www.shrewsburyvt.org
SUMMARY:Selectboard Meeting
DESCRIPTION:Selectboard Agenda 8-20-25
URL:https://www.shrewsburyvt.org/calendar/selectboard-meeting-6-26-3/
LOCATION:Shrewsbury Town Office\, 9823 Cold River Rd
END:VEVENT
BEGIN:VEVENT
DTSTART;TZID=UTC:20250806T183000
DTEND;TZID=UTC:20250806T183000
DTSTAMP:20260423T142835
CREATED:20250804T201024Z
LAST-MODIFIED:20250804T201024Z
UID:10000193-1754505000-1754505000@www.shrewsburyvt.org
SUMMARY:Selectboard Meeting
DESCRIPTION:Selectboard Agenda 8-6-25
URL:https://www.shrewsburyvt.org/calendar/selectboard-meeting-7-25/
LOCATION:Shrewsbury Town Office\, 9823 Cold River Rd
END:VEVENT
BEGIN:VEVENT
DTSTART;TZID=America/New_York:20250723T190000
DTEND;TZID=America/New_York:20250723T190000
DTSTAMP:20260423T142835
CREATED:20250707T185657Z
LAST-MODIFIED:20250707T185703Z
UID:10002501-1753297200-1753297200@www.shrewsburyvt.org
SUMMARY:DRB Hearing
DESCRIPTION:AGENDA
URL:https://www.shrewsburyvt.org/calendar/drb-hearing/
LOCATION:Shrewsbury Town Office\, 9823 Cold River Rd
END:VEVENT
BEGIN:VEVENT
DTSTART;TZID=UTC:20250722T190000
DTEND;TZID=UTC:20250722T203000
DTSTAMP:20260423T142835
CREATED:20230908T182709Z
LAST-MODIFIED:20230908T182709Z
UID:10000923-1753210800-1753216200@www.shrewsburyvt.org
SUMMARY:Planning Commission Meeting
DESCRIPTION:AGENDA
URL:https://www.shrewsburyvt.org/calendar/planning-commission-meeting-8/2025-07-22/
LOCATION:Shrewsbury Town Office\, 9823 Cold River Rd
END:VEVENT
BEGIN:VEVENT
DTSTART;TZID=UTC:20250716T183000
DTEND;TZID=UTC:20250716T183000
DTSTAMP:20260423T142835
CREATED:20250713T224844Z
LAST-MODIFIED:20250807T171309Z
UID:10000073-1752690600-1752690600@www.shrewsburyvt.org
SUMMARY:Selectboard Meeting
DESCRIPTION:Selectboard Agenda 7-16-25
URL:https://www.shrewsburyvt.org/calendar/selectboard-meeting-6-26-2/
LOCATION:Shrewsbury Town Office\, 9823 Cold River Rd
END:VEVENT
BEGIN:VEVENT
DTSTART;TZID=UTC:20250702T183000
DTEND;TZID=UTC:20250702T183000
DTSTAMP:20260423T142835
CREATED:20230507T171521Z
LAST-MODIFIED:20250723T182929Z
UID:10000192-1751481000-1751481000@www.shrewsburyvt.org
SUMMARY:Selectboard Meeting
DESCRIPTION:AGENDA
URL:https://www.shrewsburyvt.org/calendar/selectboard-meeting-7/2025-07-02/
LOCATION:Shrewsbury Town Office\, 9823 Cold River Rd
END:VEVENT
BEGIN:VEVENT
DTSTART;TZID=UTC:20250624T190000
DTEND;TZID=UTC:20250624T203000
DTSTAMP:20260423T142835
CREATED:20230908T182709Z
LAST-MODIFIED:20230908T182709Z
UID:10000922-1750791600-1750797000@www.shrewsburyvt.org
SUMMARY:Planning Commission Meeting
DESCRIPTION:AGENDA
URL:https://www.shrewsburyvt.org/calendar/planning-commission-meeting-8/2025-06-24/
LOCATION:Shrewsbury Town Office\, 9823 Cold River Rd
END:VEVENT
BEGIN:VEVENT
DTSTART;TZID=UTC:20250618T183000
DTEND;TZID=UTC:20250618T183000
DTSTAMP:20260423T142835
CREATED:20230507T171421Z
LAST-MODIFIED:20230507T171421Z
UID:10000072-1750271400-1750271400@www.shrewsburyvt.org
SUMMARY:Selectboard Meeting
DESCRIPTION:AGENDA
URL:https://www.shrewsburyvt.org/calendar/selectboard-meeting-6/2025-06-18/
LOCATION:Shrewsbury Town Office\, 9823 Cold River Rd
END:VEVENT
BEGIN:VEVENT
DTSTART;TZID=America/New_York:20250610T190000
DTEND;TZID=America/New_York:20250610T203000
DTSTAMP:20260423T142835
CREATED:20250109T195455Z
LAST-MODIFIED:20250306T222500Z
UID:10002443-1749582000-1749587400@www.shrewsburyvt.org
SUMMARY:Planning Commission Meeting
DESCRIPTION:AGENDA
URL:https://www.shrewsburyvt.org/calendar/planning-commission-meeting-9/2025-06-10/
LOCATION:Shrewsbury Town Office\, 9823 Cold River Rd
END:VEVENT
BEGIN:VEVENT
DTSTART;TZID=UTC:20250604T183000
DTEND;TZID=UTC:20250604T183000
DTSTAMP:20260423T142835
CREATED:20230507T171521Z
LAST-MODIFIED:20250723T182929Z
UID:10000191-1749061800-1749061800@www.shrewsburyvt.org
SUMMARY:Selectboard Meeting
DESCRIPTION:AGENDA
URL:https://www.shrewsburyvt.org/calendar/selectboard-meeting-7/2025-06-04/
LOCATION:Shrewsbury Town Office\, 9823 Cold River Rd
END:VEVENT
BEGIN:VEVENT
DTSTART;TZID=UTC:20250527T190000
DTEND;TZID=UTC:20250527T203000
DTSTAMP:20260423T142835
CREATED:20230908T182709Z
LAST-MODIFIED:20230908T182709Z
UID:10000921-1748372400-1748377800@www.shrewsburyvt.org
SUMMARY:Planning Commission Meeting
DESCRIPTION:AGENDA
URL:https://www.shrewsburyvt.org/calendar/planning-commission-meeting-8/2025-05-27/
LOCATION:Shrewsbury Town Office\, 9823 Cold River Rd
END:VEVENT
BEGIN:VEVENT
DTSTART;TZID=UTC:20250521T183000
DTEND;TZID=UTC:20250521T183000
DTSTAMP:20260423T142835
CREATED:20230507T171421Z
LAST-MODIFIED:20230507T171421Z
UID:10000071-1747852200-1747852200@www.shrewsburyvt.org
SUMMARY:Selectboard Meeting
DESCRIPTION:AGENDA
URL:https://www.shrewsburyvt.org/calendar/selectboard-meeting-6/2025-05-21/
LOCATION:Shrewsbury Town Office\, 9823 Cold River Rd
END:VEVENT
BEGIN:VEVENT
DTSTART;TZID=America/New_York:20250513T190000
DTEND;TZID=America/New_York:20250513T203000
DTSTAMP:20260423T142835
CREATED:20250109T195455Z
LAST-MODIFIED:20250306T222500Z
UID:10002442-1747162800-1747168200@www.shrewsburyvt.org
SUMMARY:Planning Commission Meeting
DESCRIPTION:AGENDA
URL:https://www.shrewsburyvt.org/calendar/planning-commission-meeting-9/2025-05-13/
LOCATION:Shrewsbury Town Office\, 9823 Cold River Rd
END:VEVENT
BEGIN:VEVENT
DTSTART;TZID=UTC:20250507T183000
DTEND;TZID=UTC:20250507T183000
DTSTAMP:20260423T142835
CREATED:20230507T171521Z
LAST-MODIFIED:20250723T182929Z
UID:10000190-1746642600-1746642600@www.shrewsburyvt.org
SUMMARY:Selectboard Meeting
DESCRIPTION:AGENDA
URL:https://www.shrewsburyvt.org/calendar/selectboard-meeting-7/2025-05-07/
LOCATION:Shrewsbury Town Office\, 9823 Cold River Rd
END:VEVENT
END:VCALENDAR