BEGIN:VCALENDAR
VERSION:2.0
PRODID:-//Town of Shrewsbury, Vermont - ECPv6.15.20//NONSGML v1.0//EN
CALSCALE:GREGORIAN
METHOD:PUBLISH
X-ORIGINAL-URL:https://www.shrewsburyvt.org
X-WR-CALDESC:Events for Town of Shrewsbury, Vermont
REFRESH-INTERVAL;VALUE=DURATION:PT1H
X-Robots-Tag:noindex
X-PUBLISHED-TTL:PT1H
BEGIN:VTIMEZONE
TZID:America/New_York
BEGIN:DAYLIGHT
TZOFFSETFROM:-0500
TZOFFSETTO:-0400
TZNAME:EDT
DTSTART:20240310T070000
END:DAYLIGHT
BEGIN:STANDARD
TZOFFSETFROM:-0400
TZOFFSETTO:-0500
TZNAME:EST
DTSTART:20241103T060000
END:STANDARD
BEGIN:DAYLIGHT
TZOFFSETFROM:-0500
TZOFFSETTO:-0400
TZNAME:EDT
DTSTART:20250309T070000
END:DAYLIGHT
BEGIN:STANDARD
TZOFFSETFROM:-0400
TZOFFSETTO:-0500
TZNAME:EST
DTSTART:20251102T060000
END:STANDARD
BEGIN:DAYLIGHT
TZOFFSETFROM:-0500
TZOFFSETTO:-0400
TZNAME:EDT
DTSTART:20260308T070000
END:DAYLIGHT
BEGIN:STANDARD
TZOFFSETFROM:-0400
TZOFFSETTO:-0500
TZNAME:EST
DTSTART:20261101T060000
END:STANDARD
END:VTIMEZONE
BEGIN:VTIMEZONE
TZID:UTC
BEGIN:STANDARD
TZOFFSETFROM:+0000
TZOFFSETTO:+0000
TZNAME:UTC
DTSTART:20230101T000000
END:STANDARD
END:VTIMEZONE
BEGIN:VEVENT
DTSTART;TZID=America/New_York:20250610T190000
DTEND;TZID=America/New_York:20250610T203000
DTSTAMP:20260423T195429
CREATED:20250109T195455Z
LAST-MODIFIED:20250306T222500Z
UID:10002443-1749582000-1749587400@www.shrewsburyvt.org
SUMMARY:Planning Commission Meeting
DESCRIPTION:AGENDA
URL:https://www.shrewsburyvt.org/calendar/planning-commission-meeting-9/2025-06-10/
LOCATION:Shrewsbury Town Office\, 9823 Cold River Rd
END:VEVENT
BEGIN:VEVENT
DTSTART;TZID=UTC:20250604T183000
DTEND;TZID=UTC:20250604T183000
DTSTAMP:20260423T195429
CREATED:20230507T171521Z
LAST-MODIFIED:20250723T182929Z
UID:10000191-1749061800-1749061800@www.shrewsburyvt.org
SUMMARY:Selectboard Meeting
DESCRIPTION:AGENDA
URL:https://www.shrewsburyvt.org/calendar/selectboard-meeting-7/2025-06-04/
LOCATION:Shrewsbury Town Office\, 9823 Cold River Rd
END:VEVENT
BEGIN:VEVENT
DTSTART;TZID=UTC:20250527T190000
DTEND;TZID=UTC:20250527T203000
DTSTAMP:20260423T195429
CREATED:20230908T182709Z
LAST-MODIFIED:20230908T182709Z
UID:10000921-1748372400-1748377800@www.shrewsburyvt.org
SUMMARY:Planning Commission Meeting
DESCRIPTION:AGENDA
URL:https://www.shrewsburyvt.org/calendar/planning-commission-meeting-8/2025-05-27/
LOCATION:Shrewsbury Town Office\, 9823 Cold River Rd
END:VEVENT
BEGIN:VEVENT
DTSTART;TZID=UTC:20250521T183000
DTEND;TZID=UTC:20250521T183000
DTSTAMP:20260423T195429
CREATED:20230507T171421Z
LAST-MODIFIED:20230507T171421Z
UID:10000071-1747852200-1747852200@www.shrewsburyvt.org
SUMMARY:Selectboard Meeting
DESCRIPTION:AGENDA
URL:https://www.shrewsburyvt.org/calendar/selectboard-meeting-6/2025-05-21/
LOCATION:Shrewsbury Town Office\, 9823 Cold River Rd
END:VEVENT
BEGIN:VEVENT
DTSTART;TZID=America/New_York:20250513T190000
DTEND;TZID=America/New_York:20250513T203000
DTSTAMP:20260423T195429
CREATED:20250109T195455Z
LAST-MODIFIED:20250306T222500Z
UID:10002442-1747162800-1747168200@www.shrewsburyvt.org
SUMMARY:Planning Commission Meeting
DESCRIPTION:AGENDA
URL:https://www.shrewsburyvt.org/calendar/planning-commission-meeting-9/2025-05-13/
LOCATION:Shrewsbury Town Office\, 9823 Cold River Rd
END:VEVENT
BEGIN:VEVENT
DTSTART;TZID=UTC:20250507T183000
DTEND;TZID=UTC:20250507T183000
DTSTAMP:20260423T195429
CREATED:20230507T171521Z
LAST-MODIFIED:20250723T182929Z
UID:10000190-1746642600-1746642600@www.shrewsburyvt.org
SUMMARY:Selectboard Meeting
DESCRIPTION:AGENDA
URL:https://www.shrewsburyvt.org/calendar/selectboard-meeting-7/2025-05-07/
LOCATION:Shrewsbury Town Office\, 9823 Cold River Rd
END:VEVENT
BEGIN:VEVENT
DTSTART;TZID=America/New_York:20250430T190000
DTEND;TZID=America/New_York:20250430T190000
DTSTAMP:20260423T195429
CREATED:20250427T150654Z
LAST-MODIFIED:20250427T150654Z
UID:10002491-1746039600-1746039600@www.shrewsburyvt.org
SUMMARY:Special Selectboard Meeting
DESCRIPTION:AGENDA
URL:https://www.shrewsburyvt.org/calendar/special-selectboard-meeting/
LOCATION:Shrewsbury Town Office\, 9823 Cold River Rd
END:VEVENT
BEGIN:VEVENT
DTSTART;TZID=UTC:20250422T190000
DTEND;TZID=UTC:20250422T203000
DTSTAMP:20260423T195429
CREATED:20250419T201837Z
LAST-MODIFIED:20250419T201842Z
UID:10000920-1745348400-1745353800@www.shrewsburyvt.org
SUMMARY:Planning Commission Meeting
DESCRIPTION:AGENDA
URL:https://www.shrewsburyvt.org/calendar/planning-commission-meeting-8-21/
LOCATION:Shrewsbury Town Office\, 9823 Cold River Rd
END:VEVENT
BEGIN:VEVENT
DTSTART;TZID=UTC:20250416T183000
DTEND;TZID=UTC:20250416T183000
DTSTAMP:20260423T195429
CREATED:20250413T165620Z
LAST-MODIFIED:20250413T165620Z
UID:10000070-1744828200-1744828200@www.shrewsburyvt.org
SUMMARY:Selectboard Meeting
DESCRIPTION:AGENDA
URL:https://www.shrewsburyvt.org/calendar/selectboard-meeting-6-25/
LOCATION:Shrewsbury Town Office\, 9823 Cold River Rd
END:VEVENT
BEGIN:VEVENT
DTSTART;TZID=America/New_York:20250408T190000
DTEND;TZID=America/New_York:20250408T203000
DTSTAMP:20260423T195429
CREATED:20250404T132207Z
LAST-MODIFIED:20250404T132213Z
UID:10002441-1744138800-1744144200@www.shrewsburyvt.org
SUMMARY:Planning Commission Meeting - Informal Only
DESCRIPTION:There will not be an official meeting on 4-8-25 due to no quorum \nNOTICE
URL:https://www.shrewsburyvt.org/calendar/planning-commission-meeting-9-5/
LOCATION:Shrewsbury Town Office\, 9823 Cold River Rd
END:VEVENT
BEGIN:VEVENT
DTSTART;TZID=UTC:20250402T183000
DTEND;TZID=UTC:20250402T183000
DTSTAMP:20260423T195429
CREATED:20250331T130143Z
LAST-MODIFIED:20250331T130200Z
UID:10000189-1743618600-1743618600@www.shrewsburyvt.org
SUMMARY:Selectboard Meeting
DESCRIPTION:AGENDA
URL:https://www.shrewsburyvt.org/calendar/selectboard-meeting-7-24/
LOCATION:Shrewsbury Town Office\, 9823 Cold River Rd
END:VEVENT
BEGIN:VEVENT
DTSTART;TZID=America/New_York:20250327T173000
DTEND;TZID=America/New_York:20250327T173000
DTSTAMP:20260423T195429
CREATED:20250321T172629Z
LAST-MODIFIED:20250321T172636Z
UID:10002482-1743096600-1743096600@www.shrewsburyvt.org
SUMMARY:Board of Auditors Meeting
DESCRIPTION:Warning
URL:https://www.shrewsburyvt.org/calendar/board-of-auditors-meeting/
LOCATION:Shrewsbury Town Office\, 9823 Cold River Rd
END:VEVENT
BEGIN:VEVENT
DTSTART;TZID=UTC:20250325T190000
DTEND;TZID=UTC:20250325T203000
DTSTAMP:20260423T195429
CREATED:20250321T172822Z
LAST-MODIFIED:20250321T172908Z
UID:10000919-1742929200-1742934600@www.shrewsburyvt.org
SUMMARY:Planning Commission Meeting
DESCRIPTION:AGENDA
URL:https://www.shrewsburyvt.org/calendar/planning-commission-meeting-8-20/
LOCATION:Shrewsbury Town Office\, 9823 Cold River Rd
END:VEVENT
BEGIN:VEVENT
DTSTART;TZID=UTC:20250319T183000
DTEND;TZID=UTC:20250319T183000
DTSTAMP:20260423T195429
CREATED:20250317T144545Z
LAST-MODIFIED:20250317T144554Z
UID:10000069-1742409000-1742409000@www.shrewsburyvt.org
SUMMARY:Selectboard Meeting
DESCRIPTION:AGENDA
URL:https://www.shrewsburyvt.org/calendar/selectboard-meeting-6-24/
LOCATION:Shrewsbury Town Office\, 9823 Cold River Rd
END:VEVENT
BEGIN:VEVENT
DTSTART;TZID=America/New_York:20250311T190000
DTEND;TZID=America/New_York:20250311T203000
DTSTAMP:20260423T195429
CREATED:20250306T223016Z
LAST-MODIFIED:20250306T223023Z
UID:10002440-1741719600-1741725000@www.shrewsburyvt.org
SUMMARY:Planning Commission Meeting
DESCRIPTION:AGENDA
URL:https://www.shrewsburyvt.org/calendar/planning-commission-meeting-9-4/
LOCATION:Shrewsbury Town Office\, 9823 Cold River Rd
END:VEVENT
BEGIN:VEVENT
DTSTART;TZID=UTC:20250305T183000
DTEND;TZID=UTC:20250305T183000
DTSTAMP:20260423T195429
CREATED:20250303T230432Z
LAST-MODIFIED:20250303T230440Z
UID:10000188-1741199400-1741199400@www.shrewsburyvt.org
SUMMARY:Selectboard Meeting
DESCRIPTION:AGENDA
URL:https://www.shrewsburyvt.org/calendar/selectboard-meeting-7-23/
LOCATION:Shrewsbury Town Office\, 9823 Cold River Rd
END:VEVENT
BEGIN:VEVENT
DTSTART;TZID=UTC:20250225T190000
DTEND;TZID=UTC:20250225T203000
DTSTAMP:20260423T195429
CREATED:20250222T215222Z
LAST-MODIFIED:20250222T215235Z
UID:10000918-1740510000-1740515400@www.shrewsburyvt.org
SUMMARY:Planning Commission Meeting
DESCRIPTION:AGENDA
URL:https://www.shrewsburyvt.org/calendar/planning-commission-meeting-8-19/
LOCATION:Shrewsbury Town Office\, 9823 Cold River Rd
END:VEVENT
BEGIN:VEVENT
DTSTART;TZID=UTC:20250219T183000
DTEND;TZID=UTC:20250219T183000
DTSTAMP:20260423T195429
CREATED:20250217T212341Z
LAST-MODIFIED:20250217T212348Z
UID:10000068-1739989800-1739989800@www.shrewsburyvt.org
SUMMARY:Selectboard Meeting
DESCRIPTION:AGENDA
URL:https://www.shrewsburyvt.org/calendar/selectboard-meeting-6-23/
LOCATION:Shrewsbury Town Office\, 9823 Cold River Rd
END:VEVENT
BEGIN:VEVENT
DTSTART;TZID=America/New_York:20250211T190000
DTEND;TZID=America/New_York:20250211T203000
DTSTAMP:20260423T195429
CREATED:20250207T130254Z
LAST-MODIFIED:20250207T130310Z
UID:10002439-1739300400-1739305800@www.shrewsburyvt.org
SUMMARY:Planning Commission Meeting
DESCRIPTION:AGENDA
URL:https://www.shrewsburyvt.org/calendar/planning-commission-meeting-9-3/
LOCATION:Shrewsbury Town Office\, 9823 Cold River Rd
END:VEVENT
BEGIN:VEVENT
DTSTART;TZID=UTC:20250205T183000
DTEND;TZID=UTC:20250205T183000
DTSTAMP:20260423T195429
CREATED:20250202T222633Z
LAST-MODIFIED:20250202T222930Z
UID:10000187-1738780200-1738780200@www.shrewsburyvt.org
SUMMARY:Selectboard Meeting
DESCRIPTION:AGENDA
URL:https://www.shrewsburyvt.org/calendar/selectboard-meeting-7-22/
LOCATION:Shrewsbury Town Office\, 9823 Cold River Rd
END:VEVENT
BEGIN:VEVENT
DTSTART;TZID=UTC:20250128T190000
DTEND;TZID=UTC:20250128T203000
DTSTAMP:20260423T195429
CREATED:20250116T160226Z
LAST-MODIFIED:20250116T160226Z
UID:10000917-1738090800-1738096200@www.shrewsburyvt.org
SUMMARY:Planning Commission Meeting - Informational gathering only
DESCRIPTION:The Jan 28 Planning Commission meeting will not be held due to a lack of quorum. However\, some members will be at the Town Office working on projects. \nAGENDA
URL:https://www.shrewsburyvt.org/calendar/planning-commission-meeting-8-18/
LOCATION:Shrewsbury Town Office\, 9823 Cold River Rd
END:VEVENT
BEGIN:VEVENT
DTSTART;TZID=America/New_York:20250117T130000
DTEND;TZID=America/New_York:20250117T130000
DTSTAMP:20260423T195429
CREATED:20250111T162725Z
LAST-MODIFIED:20250111T162735Z
UID:10002461-1737118800-1737118800@www.shrewsburyvt.org
SUMMARY:Board of AUDITORs Meeting  1-17-25
DESCRIPTION: Agenda
URL:https://www.shrewsburyvt.org/calendar/board-of-auditors-meeting-1-17-25/
LOCATION:Shrewsbury Town Office\, 9823 Cold River Rd
END:VEVENT
BEGIN:VEVENT
DTSTART;TZID=UTC:20250115T183000
DTEND;TZID=UTC:20250115T183000
DTSTAMP:20260423T195429
CREATED:20250113T015312Z
LAST-MODIFIED:20250113T015312Z
UID:10000067-1736965800-1736965800@www.shrewsburyvt.org
SUMMARY:Selectboard Meeting
DESCRIPTION:AGENDA
URL:https://www.shrewsburyvt.org/calendar/selectboard-meeting-6-22/
LOCATION:Shrewsbury Town Office\, 9823 Cold River Rd
END:VEVENT
BEGIN:VEVENT
DTSTART;TZID=America/New_York:20250114T190000
DTEND;TZID=America/New_York:20250114T203000
DTSTAMP:20260423T195429
CREATED:20250109T205210Z
LAST-MODIFIED:20250109T205211Z
UID:10002438-1736881200-1736886600@www.shrewsburyvt.org
SUMMARY:Planning Commission Meeting
DESCRIPTION:AGENDA
URL:https://www.shrewsburyvt.org/calendar/planning-commission-meeting-9-2/
LOCATION:Shrewsbury Town Office\, 9823 Cold River Rd
END:VEVENT
BEGIN:VEVENT
DTSTART;TZID=UTC:20250114T190000
DTEND;TZID=UTC:20250114T203000
DTSTAMP:20260423T195429
CREATED:20230908T182426Z
LAST-MODIFIED:20250109T204928Z
UID:10000859-1736881200-1736886600@www.shrewsburyvt.org
SUMMARY:Planning Commission Meeting
DESCRIPTION:AGENDA
URL:https://www.shrewsburyvt.org/calendar/planning-commission-meeting-7/2025-01-14/
LOCATION:Shrewsbury Town Office\, 9823 Cold River Rd
END:VEVENT
BEGIN:VEVENT
DTSTART;TZID=UTC:20250101T183000
DTEND;TZID=UTC:20250101T183000
DTSTAMP:20260423T195429
CREATED:20241230T143934Z
LAST-MODIFIED:20241230T143935Z
UID:10000186-1735756200-1735756200@www.shrewsburyvt.org
SUMMARY:Selectboard Meeting
DESCRIPTION:AGENDA
URL:https://www.shrewsburyvt.org/calendar/selectboard-meeting-7-21/
LOCATION:Shrewsbury Town Office\, 9823 Cold River Rd
END:VEVENT
BEGIN:VEVENT
DTSTART;TZID=UTC:20241224T190000
DTEND;TZID=UTC:20241224T203000
DTSTAMP:20260423T195429
CREATED:20241224T151319Z
LAST-MODIFIED:20241224T151402Z
UID:10000916-1735066800-1735072200@www.shrewsburyvt.org
SUMMARY:CANCELLED!  Planning Commission Meeting
DESCRIPTION:Merry Christmas to all and see you in 2025!
URL:https://www.shrewsburyvt.org/calendar/planning-commission-meeting-8-17/
LOCATION:Shrewsbury Town Office\, 9823 Cold River Rd
END:VEVENT
BEGIN:VEVENT
DTSTART;TZID=UTC:20241218T183000
DTEND;TZID=UTC:20241218T183000
DTSTAMP:20260423T195429
CREATED:20241215T180004Z
LAST-MODIFIED:20241215T180004Z
UID:10000066-1734546600-1734546600@www.shrewsburyvt.org
SUMMARY:Selectboard Meeting
DESCRIPTION:AGENDA
URL:https://www.shrewsburyvt.org/calendar/selectboard-meeting-6-21/
LOCATION:Shrewsbury Town Office\, 9823 Cold River Rd
END:VEVENT
BEGIN:VEVENT
DTSTART;TZID=UTC:20241210T190000
DTEND;TZID=UTC:20241210T203000
DTSTAMP:20260423T195429
CREATED:20240908T134151Z
LAST-MODIFIED:20241206T144611Z
UID:10002271-1733857200-1733862600@www.shrewsburyvt.org
SUMMARY:Planning Commission Meeting
DESCRIPTION:AGENDA
URL:https://www.shrewsburyvt.org/calendar/planning-commission-meeting-7-10-2/
LOCATION:Shrewsbury Town Office\, 9823 Cold River Rd
END:VEVENT
BEGIN:VEVENT
DTSTART;TZID=UTC:20241210T190000
DTEND;TZID=UTC:20241210T203000
DTSTAMP:20260423T195429
CREATED:20230908T182426Z
LAST-MODIFIED:20250109T204928Z
UID:10000858-1733857200-1733862600@www.shrewsburyvt.org
SUMMARY:Planning Commission Meeting
DESCRIPTION:AGENDA
URL:https://www.shrewsburyvt.org/calendar/planning-commission-meeting-7/2024-12-10/
LOCATION:Shrewsbury Town Office\, 9823 Cold River Rd
END:VEVENT
END:VCALENDAR