BEGIN:VCALENDAR
VERSION:2.0
PRODID:-//Town of Shrewsbury, Vermont - ECPv6.15.20//NONSGML v1.0//EN
CALSCALE:GREGORIAN
METHOD:PUBLISH
X-WR-CALNAME:Town of Shrewsbury, Vermont
X-ORIGINAL-URL:https://www.shrewsburyvt.org
X-WR-CALDESC:Events for Town of Shrewsbury, Vermont
REFRESH-INTERVAL;VALUE=DURATION:PT1H
X-Robots-Tag:noindex
X-PUBLISHED-TTL:PT1H
BEGIN:VTIMEZONE
TZID:America/New_York
BEGIN:DAYLIGHT
TZOFFSETFROM:-0500
TZOFFSETTO:-0400
TZNAME:EDT
DTSTART:20230312T070000
END:DAYLIGHT
BEGIN:STANDARD
TZOFFSETFROM:-0400
TZOFFSETTO:-0500
TZNAME:EST
DTSTART:20231105T060000
END:STANDARD
BEGIN:DAYLIGHT
TZOFFSETFROM:-0500
TZOFFSETTO:-0400
TZNAME:EDT
DTSTART:20240310T070000
END:DAYLIGHT
BEGIN:STANDARD
TZOFFSETFROM:-0400
TZOFFSETTO:-0500
TZNAME:EST
DTSTART:20241103T060000
END:STANDARD
BEGIN:DAYLIGHT
TZOFFSETFROM:-0500
TZOFFSETTO:-0400
TZNAME:EDT
DTSTART:20250309T070000
END:DAYLIGHT
BEGIN:STANDARD
TZOFFSETFROM:-0400
TZOFFSETTO:-0500
TZNAME:EST
DTSTART:20251102T060000
END:STANDARD
END:VTIMEZONE
BEGIN:VTIMEZONE
TZID:UTC
BEGIN:STANDARD
TZOFFSETFROM:+0000
TZOFFSETTO:+0000
TZNAME:UTC
DTSTART:20230101T000000
END:STANDARD
END:VTIMEZONE
BEGIN:VEVENT
DTSTART;TZID=America/New_York:20241112T190000
DTEND;TZID=America/New_York:20241112T190000
DTSTAMP:20260424T091605
CREATED:20241102T150104Z
LAST-MODIFIED:20241102T150235Z
UID:10002420-1731438000-1731438000@www.shrewsburyvt.org
SUMMARY:Shrewsbury Board of Auditors meeting
DESCRIPTION:AGENDA
URL:https://www.shrewsburyvt.org/calendar/shrewsbury-auditors-meeting/
LOCATION:Shrewsbury Town Office\, 9823 Cold River Rd
END:VEVENT
BEGIN:VEVENT
DTSTART;TZID=UTC:20241106T183000
DTEND;TZID=UTC:20241106T183000
DTSTAMP:20260424T091605
CREATED:20241103T144321Z
LAST-MODIFIED:20241103T144321Z
UID:10000184-1730917800-1730917800@www.shrewsburyvt.org
SUMMARY:Selectboard Meeting
DESCRIPTION:AGENDA
URL:https://www.shrewsburyvt.org/calendar/selectboard-meeting-7-19/
LOCATION:Shrewsbury Town Office\, 9823 Cold River Rd
END:VEVENT
BEGIN:VEVENT
DTSTART;TZID=UTC:20241022T190000
DTEND;TZID=UTC:20241022T203000
DTSTAMP:20260424T091605
CREATED:20241017T210412Z
LAST-MODIFIED:20241017T210412Z
UID:10000914-1729623600-1729629000@www.shrewsburyvt.org
SUMMARY:Planning Commission Meeting
DESCRIPTION:AGENDA
URL:https://www.shrewsburyvt.org/calendar/planning-commission-meeting-8-15/
LOCATION:Shrewsbury Town Office\, 9823 Cold River Rd
END:VEVENT
BEGIN:VEVENT
DTSTART;TZID=UTC:20241016T183000
DTEND;TZID=UTC:20241016T183000
DTSTAMP:20260424T091605
CREATED:20241014T150738Z
LAST-MODIFIED:20241014T150738Z
UID:10000064-1729103400-1729103400@www.shrewsburyvt.org
SUMMARY:Selectboard Meeting
DESCRIPTION:AGENDA
URL:https://www.shrewsburyvt.org/calendar/selectboard-meeting-6-19/
LOCATION:Shrewsbury Town Office\, 9823 Cold River Rd
END:VEVENT
BEGIN:VEVENT
DTSTART;TZID=UTC:20241002T183000
DTEND;TZID=UTC:20241002T183000
DTSTAMP:20260424T091605
CREATED:20240930T131101Z
LAST-MODIFIED:20240930T131101Z
UID:10000183-1727893800-1727893800@www.shrewsburyvt.org
SUMMARY:Selectboard Meeting
DESCRIPTION:AGENDA
URL:https://www.shrewsburyvt.org/calendar/selectboard-meeting-7-18/
LOCATION:Shrewsbury Town Office\, 9823 Cold River Rd
END:VEVENT
BEGIN:VEVENT
DTSTART;TZID=UTC:20240924T190000
DTEND;TZID=UTC:20240924T203000
DTSTAMP:20260424T091605
CREATED:20240920T022414Z
LAST-MODIFIED:20240920T022414Z
UID:10000913-1727204400-1727209800@www.shrewsburyvt.org
SUMMARY:Planning Commission Meeting
DESCRIPTION:AGENDA
URL:https://www.shrewsburyvt.org/calendar/planning-commission-meeting-8-14/
LOCATION:Shrewsbury Town Office\, 9823 Cold River Rd
END:VEVENT
BEGIN:VEVENT
DTSTART;TZID=UTC:20240918T183000
DTEND;TZID=UTC:20240918T183000
DTSTAMP:20260424T091605
CREATED:20240916T122954Z
LAST-MODIFIED:20240916T122955Z
UID:10000063-1726684200-1726684200@www.shrewsburyvt.org
SUMMARY:Selectboard Meeting
DESCRIPTION:AGENDA
URL:https://www.shrewsburyvt.org/calendar/selectboard-meeting-6-18/
LOCATION:Shrewsbury Town Office\, 9823 Cold River Rd
END:VEVENT
BEGIN:VEVENT
DTSTART;TZID=UTC:20240910T190000
DTEND;TZID=UTC:20240910T203000
DTSTAMP:20260424T091605
CREATED:20230908T182426Z
LAST-MODIFIED:20250109T204928Z
UID:10000855-1725994800-1726000200@www.shrewsburyvt.org
SUMMARY:Planning Commission Meeting
DESCRIPTION:AGENDA
URL:https://www.shrewsburyvt.org/calendar/planning-commission-meeting-7/2024-09-10/
LOCATION:Shrewsbury Town Office\, 9823 Cold River Rd
END:VEVENT
BEGIN:VEVENT
DTSTART;TZID=UTC:20240904T183000
DTEND;TZID=UTC:20240904T183000
DTSTAMP:20260424T091605
CREATED:20240902T025931Z
LAST-MODIFIED:20240902T025931Z
UID:10000182-1725474600-1725474600@www.shrewsburyvt.org
SUMMARY:Selectboard Meeting
DESCRIPTION:AGENDA
URL:https://www.shrewsburyvt.org/calendar/selectboard-meeting-7-17/
LOCATION:Shrewsbury Town Office\, 9823 Cold River Rd
END:VEVENT
BEGIN:VEVENT
DTSTART;TZID=UTC:20240821T183000
DTEND;TZID=UTC:20240821T183000
DTSTAMP:20260424T091605
CREATED:20240818T143921Z
LAST-MODIFIED:20240818T143921Z
UID:10000062-1724265000-1724265000@www.shrewsburyvt.org
SUMMARY:Selectboard Meeting
DESCRIPTION:AGENDA
URL:https://www.shrewsburyvt.org/calendar/selectboard-meeting-6-17/
LOCATION:Shrewsbury Town Office\, 9823 Cold River Rd
END:VEVENT
BEGIN:VEVENT
DTSTART;TZID=UTC:20240813T190000
DTEND;TZID=UTC:20240813T203000
DTSTAMP:20260424T091605
CREATED:20230908T182426Z
LAST-MODIFIED:20250109T204928Z
UID:10002332-1723575600-1723581000@www.shrewsburyvt.org
SUMMARY:Planning Commission Meeting
DESCRIPTION:AGENDA
URL:https://www.shrewsburyvt.org/calendar/planning-commission-meeting-7/2024-08-13/
LOCATION:Shrewsbury Town Office\, 9823 Cold River Rd
END:VEVENT
BEGIN:VEVENT
DTSTART;TZID=UTC:20240807T183000
DTEND;TZID=UTC:20240807T183000
DTSTAMP:20260424T091605
CREATED:20240804T143648Z
LAST-MODIFIED:20240804T143648Z
UID:10000181-1723055400-1723055400@www.shrewsburyvt.org
SUMMARY:Selectboard Meeting
DESCRIPTION:AGENDA
URL:https://www.shrewsburyvt.org/calendar/selectboard-meeting-7-16/
LOCATION:Shrewsbury Town Office\, 9823 Cold River Rd
END:VEVENT
BEGIN:VEVENT
DTSTART;TZID=UTC:20240717T183000
DTEND;TZID=UTC:20240717T183000
DTSTAMP:20260424T091605
CREATED:20240715T014707Z
LAST-MODIFIED:20240715T014707Z
UID:10000061-1721241000-1721241000@www.shrewsburyvt.org
SUMMARY:Selectboard Meeting
DESCRIPTION:AGENDA
URL:https://www.shrewsburyvt.org/calendar/selectboard-meeting-6-16/
LOCATION:Shrewsbury Town Office\, 9823 Cold River Rd
END:VEVENT
BEGIN:VEVENT
DTSTART;TZID=UTC:20240709T190000
DTEND;TZID=UTC:20240709T203000
DTSTAMP:20260424T091605
CREATED:20230908T182426Z
LAST-MODIFIED:20250109T204928Z
UID:10002331-1720551600-1720557000@www.shrewsburyvt.org
SUMMARY:Planning Commission Meeting
DESCRIPTION:AGENDA
URL:https://www.shrewsburyvt.org/calendar/planning-commission-meeting-7/2024-07-09/
LOCATION:Shrewsbury Town Office\, 9823 Cold River Rd
END:VEVENT
BEGIN:VEVENT
DTSTART;TZID=UTC:20240703T183000
DTEND;TZID=UTC:20240703T183000
DTSTAMP:20260424T091605
CREATED:20240630T223015Z
LAST-MODIFIED:20240630T223015Z
UID:10000180-1720031400-1720031400@www.shrewsburyvt.org
SUMMARY:Selectboard Meeting
DESCRIPTION:AGENDA
URL:https://www.shrewsburyvt.org/calendar/selectboard-meeting-7-15/
LOCATION:Shrewsbury Town Office\, 9823 Cold River Rd
END:VEVENT
BEGIN:VEVENT
DTSTART;TZID=UTC:20240625T190000
DTEND;TZID=UTC:20240625T203000
DTSTAMP:20260424T091605
CREATED:20240606T172142Z
LAST-MODIFIED:20240621T131039Z
UID:10000912-1719342000-1719347400@www.shrewsburyvt.org
SUMMARY:Planning Commission Meeting
DESCRIPTION:AGENDA
URL:https://www.shrewsburyvt.org/calendar/planning-commission-meeting-8-13/
LOCATION:Shrewsbury Town Office\, 9823 Cold River Rd
END:VEVENT
BEGIN:VEVENT
DTSTART;TZID=UTC:20240619T183000
DTEND;TZID=UTC:20240619T183000
DTSTAMP:20260424T091605
CREATED:20240616T002947Z
LAST-MODIFIED:20240616T002947Z
UID:10000060-1718821800-1718821800@www.shrewsburyvt.org
SUMMARY:Selectboard Meeting
DESCRIPTION:AGENDA
URL:https://www.shrewsburyvt.org/calendar/selectboard-meeting-6-15/
LOCATION:Shrewsbury Town Office\, 9823 Cold River Rd
END:VEVENT
BEGIN:VEVENT
DTSTART;TZID=UTC:20240611T190000
DTEND;TZID=UTC:20240611T203000
DTSTAMP:20260424T091605
CREATED:20230908T182426Z
LAST-MODIFIED:20250109T204928Z
UID:10000854-1718132400-1718137800@www.shrewsburyvt.org
SUMMARY:Planning Commission Meeting
DESCRIPTION:AGENDA
URL:https://www.shrewsburyvt.org/calendar/planning-commission-meeting-7/2024-06-11/
LOCATION:Shrewsbury Town Office\, 9823 Cold River Rd
END:VEVENT
BEGIN:VEVENT
DTSTART;TZID=UTC:20240605T183000
DTEND;TZID=UTC:20240605T183000
DTSTAMP:20260424T091605
CREATED:20240603T021244Z
LAST-MODIFIED:20240603T021245Z
UID:10000179-1717612200-1717612200@www.shrewsburyvt.org
SUMMARY:Selectboard Meeting
DESCRIPTION:AGENDA
URL:https://www.shrewsburyvt.org/calendar/selectboard-meeting-7-14/
LOCATION:Shrewsbury Town Office\, 9823 Cold River Rd
END:VEVENT
BEGIN:VEVENT
DTSTART;TZID=UTC:20240528T190000
DTEND;TZID=UTC:20240528T203000
DTSTAMP:20260424T091605
CREATED:20240524T021551Z
LAST-MODIFIED:20240524T021552Z
UID:10000911-1716922800-1716928200@www.shrewsburyvt.org
SUMMARY:Planning Commission Meeting
DESCRIPTION:AGENDA
URL:https://www.shrewsburyvt.org/calendar/planning-commission-meeting-8-12/
LOCATION:Shrewsbury Town Office\, 9823 Cold River Rd
END:VEVENT
BEGIN:VEVENT
DTSTART;TZID=UTC:20240515T183000
DTEND;TZID=UTC:20240515T183000
DTSTAMP:20260424T091605
CREATED:20240512T172639Z
LAST-MODIFIED:20240512T172640Z
UID:10000059-1715797800-1715797800@www.shrewsburyvt.org
SUMMARY:Selectboard Meeting
DESCRIPTION:AGENDA
URL:https://www.shrewsburyvt.org/calendar/selectboard-meeting-6-14/
LOCATION:Shrewsbury Town Office\, 9823 Cold River Rd
END:VEVENT
BEGIN:VEVENT
DTSTART;TZID=UTC:20240501T183000
DTEND;TZID=UTC:20240501T183000
DTSTAMP:20260424T091605
CREATED:20240429T155449Z
LAST-MODIFIED:20240429T155449Z
UID:10000178-1714588200-1714588200@www.shrewsburyvt.org
SUMMARY:Selectboard Meeting
DESCRIPTION:AGENDA
URL:https://www.shrewsburyvt.org/calendar/selectboard-meeting-7-13/
LOCATION:Shrewsbury Town Office\, 9823 Cold River Rd
END:VEVENT
BEGIN:VEVENT
DTSTART;TZID=UTC:20240423T190000
DTEND;TZID=UTC:20240423T203000
DTSTAMP:20260424T091605
CREATED:20240418T211606Z
LAST-MODIFIED:20240418T211607Z
UID:10000910-1713898800-1713904200@www.shrewsburyvt.org
SUMMARY:Planning Commission Meeting
DESCRIPTION:AGENDA
URL:https://www.shrewsburyvt.org/calendar/planning-commission-meeting-8-11/
LOCATION:Shrewsbury Town Office\, 9823 Cold River Rd
END:VEVENT
BEGIN:VEVENT
DTSTART;TZID=UTC:20240417T183000
DTEND;TZID=UTC:20240417T183000
DTSTAMP:20260424T091605
CREATED:20240414T155100Z
LAST-MODIFIED:20240414T155101Z
UID:10000058-1713378600-1713378600@www.shrewsburyvt.org
SUMMARY:Selectboard Meeting
DESCRIPTION:AGENDA
URL:https://www.shrewsburyvt.org/calendar/selectboard-meeting-6-13/
LOCATION:Shrewsbury Town Office\, 9823 Cold River Rd
END:VEVENT
BEGIN:VEVENT
DTSTART;TZID=UTC:20240409T190000
DTEND;TZID=UTC:20240409T203000
DTSTAMP:20260424T091605
CREATED:20240406T140222Z
LAST-MODIFIED:20240406T140223Z
UID:10000852-1712689200-1712694600@www.shrewsburyvt.org
SUMMARY:Planning Commission Meeting
DESCRIPTION:AGENDA
URL:https://www.shrewsburyvt.org/calendar/planning-commission-meeting-7-9/
LOCATION:Shrewsbury Town Office\, 9823 Cold River Rd
END:VEVENT
BEGIN:VEVENT
DTSTART;TZID=UTC:20240403T183000
DTEND;TZID=UTC:20240403T183000
DTSTAMP:20260424T091605
CREATED:20240331T163758Z
LAST-MODIFIED:20240403T194750Z
UID:10000177-1712169000-1712169000@www.shrewsburyvt.org
SUMMARY:Selectboard Meeting - CANCELLED
DESCRIPTION:AGENDA
URL:https://www.shrewsburyvt.org/calendar/selectboard-meeting-7-12/
LOCATION:Shrewsbury Town Office\, 9823 Cold River Rd
END:VEVENT
BEGIN:VEVENT
DTSTART;TZID=UTC:20240326T190000
DTEND;TZID=UTC:20240326T203000
DTSTAMP:20260424T091605
CREATED:20240321T211314Z
LAST-MODIFIED:20240321T211315Z
UID:10000909-1711479600-1711485000@www.shrewsburyvt.org
SUMMARY:Planning Commission Meeting
DESCRIPTION:AGENDA
URL:https://www.shrewsburyvt.org/calendar/planning-commission-meeting-8-10/
LOCATION:Shrewsbury Town Office\, 9823 Cold River Rd
END:VEVENT
BEGIN:VEVENT
DTSTART;TZID=UTC:20240320T183000
DTEND;TZID=UTC:20240320T183000
DTSTAMP:20260424T091605
CREATED:20240317T223526Z
LAST-MODIFIED:20240317T223527Z
UID:10000057-1710959400-1710959400@www.shrewsburyvt.org
SUMMARY:Selectboard Meeting
DESCRIPTION:AGENDA
URL:https://www.shrewsburyvt.org/calendar/selectboard-meeting-6-12/
LOCATION:Shrewsbury Town Office\, 9823 Cold River Rd
END:VEVENT
BEGIN:VEVENT
DTSTART;TZID=America/New_York:20240320T130000
DTEND;TZID=America/New_York:20240320T133000
DTSTAMP:20260424T091605
CREATED:20240319T135933Z
LAST-MODIFIED:20240319T135933Z
UID:10002097-1710939600-1710941400@www.shrewsburyvt.org
SUMMARY:Planning Commission Special Meeting
DESCRIPTION:AGENDA
URL:https://www.shrewsburyvt.org/calendar/planning-commission-special-meeting/
LOCATION:Shrewsbury Town Office\, 9823 Cold River Rd
END:VEVENT
BEGIN:VEVENT
DTSTART;TZID=UTC:20240312T190000
DTEND;TZID=UTC:20240312T203000
DTSTAMP:20260424T091605
CREATED:20240308T022400Z
LAST-MODIFIED:20240308T022401Z
UID:10000851-1710270000-1710275400@www.shrewsburyvt.org
SUMMARY:Planning Commission Meeting
DESCRIPTION:AGENDA
URL:https://www.shrewsburyvt.org/calendar/planning-commission-meeting-7-8/
LOCATION:Shrewsbury Town Office\, 9823 Cold River Rd
END:VEVENT
END:VCALENDAR